BEGIN:VCALENDAR
VERSION:2.0
PRODID:-//Le Montmartre - ECPv6.15.13//NONSGML v1.0//EN
CALSCALE:GREGORIAN
METHOD:PUBLISH
X-WR-CALNAME:Le Montmartre
X-ORIGINAL-URL:https://www.lemontmartre.ca
X-WR-CALDESC:Évènements pour Le Montmartre
REFRESH-INTERVAL;VALUE=DURATION:PT1H
X-Robots-Tag:noindex
X-PUBLISHED-TTL:PT1H
BEGIN:VTIMEZONE
TZID:America/Montreal
BEGIN:DAYLIGHT
TZOFFSETFROM:-0500
TZOFFSETTO:-0400
TZNAME:EDT
DTSTART:20240310T070000
END:DAYLIGHT
BEGIN:STANDARD
TZOFFSETFROM:-0400
TZOFFSETTO:-0500
TZNAME:EST
DTSTART:20241103T060000
END:STANDARD
BEGIN:DAYLIGHT
TZOFFSETFROM:-0500
TZOFFSETTO:-0400
TZNAME:EDT
DTSTART:20250309T070000
END:DAYLIGHT
BEGIN:STANDARD
TZOFFSETFROM:-0400
TZOFFSETTO:-0500
TZNAME:EST
DTSTART:20251102T060000
END:STANDARD
BEGIN:DAYLIGHT
TZOFFSETFROM:-0500
TZOFFSETTO:-0400
TZNAME:EDT
DTSTART:20260308T070000
END:DAYLIGHT
BEGIN:STANDARD
TZOFFSETFROM:-0400
TZOFFSETTO:-0500
TZNAME:EST
DTSTART:20261101T060000
END:STANDARD
END:VTIMEZONE
BEGIN:VEVENT
DTSTART;TZID=America/Montreal:20251201T173000
DTEND;TZID=America/Montreal:20251201T175000
DTSTAMP:20260420T092400
CREATED:20250918T031829Z
LAST-MODIFIED:20250918T031829Z
UID:10009905-1764610200-1764611400@www.lemontmartre.ca
SUMMARY:Vêpres
DESCRIPTION:
URL:https://www.lemontmartre.ca/event/vepres/2025-12-01/
LOCATION:Sanctuaire Montmartre\, 1679\, chemin Saint-Louis\, Québec\, Québec\, G1S 1G5\, Canada
CATEGORIES:Offices religieux
END:VEVENT
BEGIN:VEVENT
DTSTART;TZID=America/Montreal:20251202T173000
DTEND;TZID=America/Montreal:20251202T175000
DTSTAMP:20260420T092400
CREATED:20250918T031829Z
LAST-MODIFIED:20250918T031829Z
UID:10009906-1764696600-1764697800@www.lemontmartre.ca
SUMMARY:Vêpres
DESCRIPTION:
URL:https://www.lemontmartre.ca/event/vepres/2025-12-02/
LOCATION:Sanctuaire Montmartre\, 1679\, chemin Saint-Louis\, Québec\, Québec\, G1S 1G5\, Canada
CATEGORIES:Offices religieux
END:VEVENT
BEGIN:VEVENT
DTSTART;TZID=America/Montreal:20251203T173000
DTEND;TZID=America/Montreal:20251203T175000
DTSTAMP:20260420T092400
CREATED:20250918T031829Z
LAST-MODIFIED:20250918T031829Z
UID:10009907-1764783000-1764784200@www.lemontmartre.ca
SUMMARY:Vêpres
DESCRIPTION:
URL:https://www.lemontmartre.ca/event/vepres/2025-12-03/
LOCATION:Sanctuaire Montmartre\, 1679\, chemin Saint-Louis\, Québec\, Québec\, G1S 1G5\, Canada
CATEGORIES:Offices religieux
END:VEVENT
BEGIN:VEVENT
DTSTART;TZID=America/Montreal:20251204T173000
DTEND;TZID=America/Montreal:20251204T175000
DTSTAMP:20260420T092400
CREATED:20250918T031829Z
LAST-MODIFIED:20250918T031829Z
UID:10009908-1764869400-1764870600@www.lemontmartre.ca
SUMMARY:Vêpres
DESCRIPTION:
URL:https://www.lemontmartre.ca/event/vepres/2025-12-04/
LOCATION:Sanctuaire Montmartre\, 1679\, chemin Saint-Louis\, Québec\, Québec\, G1S 1G5\, Canada
CATEGORIES:Offices religieux
END:VEVENT
BEGIN:VEVENT
DTSTART;TZID=America/Montreal:20251205T173000
DTEND;TZID=America/Montreal:20251205T175000
DTSTAMP:20260420T092400
CREATED:20250918T031829Z
LAST-MODIFIED:20250918T031829Z
UID:10009909-1764955800-1764957000@www.lemontmartre.ca
SUMMARY:Vêpres
DESCRIPTION:
URL:https://www.lemontmartre.ca/event/vepres/2025-12-05/
LOCATION:Sanctuaire Montmartre\, 1679\, chemin Saint-Louis\, Québec\, Québec\, G1S 1G5\, Canada
CATEGORIES:Offices religieux
END:VEVENT
BEGIN:VEVENT
DTSTART;TZID=America/Montreal:20251206T173000
DTEND;TZID=America/Montreal:20251206T175000
DTSTAMP:20260420T092400
CREATED:20250918T031829Z
LAST-MODIFIED:20250918T031829Z
UID:10009910-1765042200-1765043400@www.lemontmartre.ca
SUMMARY:Vêpres
DESCRIPTION:
URL:https://www.lemontmartre.ca/event/vepres/2025-12-06/
LOCATION:Sanctuaire Montmartre\, 1679\, chemin Saint-Louis\, Québec\, Québec\, G1S 1G5\, Canada
CATEGORIES:Offices religieux
END:VEVENT
BEGIN:VEVENT
DTSTART;TZID=America/Montreal:20251208T173000
DTEND;TZID=America/Montreal:20251208T175000
DTSTAMP:20260420T092400
CREATED:20250918T031829Z
LAST-MODIFIED:20250918T031829Z
UID:10009911-1765215000-1765216200@www.lemontmartre.ca
SUMMARY:Vêpres
DESCRIPTION:
URL:https://www.lemontmartre.ca/event/vepres/2025-12-08/
LOCATION:Sanctuaire Montmartre\, 1679\, chemin Saint-Louis\, Québec\, Québec\, G1S 1G5\, Canada
CATEGORIES:Offices religieux
END:VEVENT
BEGIN:VEVENT
DTSTART;TZID=America/Montreal:20251209T173000
DTEND;TZID=America/Montreal:20251209T175000
DTSTAMP:20260420T092400
CREATED:20250918T031829Z
LAST-MODIFIED:20250918T031829Z
UID:10009912-1765301400-1765302600@www.lemontmartre.ca
SUMMARY:Vêpres
DESCRIPTION:
URL:https://www.lemontmartre.ca/event/vepres/2025-12-09/
LOCATION:Sanctuaire Montmartre\, 1679\, chemin Saint-Louis\, Québec\, Québec\, G1S 1G5\, Canada
CATEGORIES:Offices religieux
END:VEVENT
BEGIN:VEVENT
DTSTART;TZID=America/Montreal:20251210T173000
DTEND;TZID=America/Montreal:20251210T175000
DTSTAMP:20260420T092400
CREATED:20250918T031829Z
LAST-MODIFIED:20250918T031829Z
UID:10009913-1765387800-1765389000@www.lemontmartre.ca
SUMMARY:Vêpres
DESCRIPTION:
URL:https://www.lemontmartre.ca/event/vepres/2025-12-10/
LOCATION:Sanctuaire Montmartre\, 1679\, chemin Saint-Louis\, Québec\, Québec\, G1S 1G5\, Canada
CATEGORIES:Offices religieux
END:VEVENT
BEGIN:VEVENT
DTSTART;TZID=America/Montreal:20251211T173000
DTEND;TZID=America/Montreal:20251211T175000
DTSTAMP:20260420T092400
CREATED:20250918T031829Z
LAST-MODIFIED:20250918T031829Z
UID:10009914-1765474200-1765475400@www.lemontmartre.ca
SUMMARY:Vêpres
DESCRIPTION:
URL:https://www.lemontmartre.ca/event/vepres/2025-12-11/
LOCATION:Sanctuaire Montmartre\, 1679\, chemin Saint-Louis\, Québec\, Québec\, G1S 1G5\, Canada
CATEGORIES:Offices religieux
END:VEVENT
BEGIN:VEVENT
DTSTART;TZID=America/Montreal:20251212T173000
DTEND;TZID=America/Montreal:20251212T175000
DTSTAMP:20260420T092400
CREATED:20250918T031829Z
LAST-MODIFIED:20250918T031829Z
UID:10009915-1765560600-1765561800@www.lemontmartre.ca
SUMMARY:Vêpres
DESCRIPTION:
URL:https://www.lemontmartre.ca/event/vepres/2025-12-12/
LOCATION:Sanctuaire Montmartre\, 1679\, chemin Saint-Louis\, Québec\, Québec\, G1S 1G5\, Canada
CATEGORIES:Offices religieux
END:VEVENT
BEGIN:VEVENT
DTSTART;TZID=America/Montreal:20251213T173000
DTEND;TZID=America/Montreal:20251213T175000
DTSTAMP:20260420T092400
CREATED:20250918T031829Z
LAST-MODIFIED:20250918T031829Z
UID:10009916-1765647000-1765648200@www.lemontmartre.ca
SUMMARY:Vêpres
DESCRIPTION:
URL:https://www.lemontmartre.ca/event/vepres/2025-12-13/
LOCATION:Sanctuaire Montmartre\, 1679\, chemin Saint-Louis\, Québec\, Québec\, G1S 1G5\, Canada
CATEGORIES:Offices religieux
END:VEVENT
BEGIN:VEVENT
DTSTART;TZID=America/Montreal:20251215T173000
DTEND;TZID=America/Montreal:20251215T175000
DTSTAMP:20260420T092400
CREATED:20250918T031829Z
LAST-MODIFIED:20250918T031829Z
UID:10009917-1765819800-1765821000@www.lemontmartre.ca
SUMMARY:Vêpres
DESCRIPTION:
URL:https://www.lemontmartre.ca/event/vepres/2025-12-15/
LOCATION:Sanctuaire Montmartre\, 1679\, chemin Saint-Louis\, Québec\, Québec\, G1S 1G5\, Canada
CATEGORIES:Offices religieux
END:VEVENT
BEGIN:VEVENT
DTSTART;TZID=America/Montreal:20251216T173000
DTEND;TZID=America/Montreal:20251216T175000
DTSTAMP:20260420T092400
CREATED:20250918T031829Z
LAST-MODIFIED:20250918T031829Z
UID:10009918-1765906200-1765907400@www.lemontmartre.ca
SUMMARY:Vêpres
DESCRIPTION:
URL:https://www.lemontmartre.ca/event/vepres/2025-12-16/
LOCATION:Sanctuaire Montmartre\, 1679\, chemin Saint-Louis\, Québec\, Québec\, G1S 1G5\, Canada
CATEGORIES:Offices religieux
END:VEVENT
BEGIN:VEVENT
DTSTART;TZID=America/Montreal:20251217T173000
DTEND;TZID=America/Montreal:20251217T175000
DTSTAMP:20260420T092400
CREATED:20250918T031829Z
LAST-MODIFIED:20250918T031829Z
UID:10009919-1765992600-1765993800@www.lemontmartre.ca
SUMMARY:Vêpres
DESCRIPTION:
URL:https://www.lemontmartre.ca/event/vepres/2025-12-17/
LOCATION:Sanctuaire Montmartre\, 1679\, chemin Saint-Louis\, Québec\, Québec\, G1S 1G5\, Canada
CATEGORIES:Offices religieux
END:VEVENT
BEGIN:VEVENT
DTSTART;TZID=America/Montreal:20251218T173000
DTEND;TZID=America/Montreal:20251218T175000
DTSTAMP:20260420T092400
CREATED:20250918T031829Z
LAST-MODIFIED:20250918T031829Z
UID:10009920-1766079000-1766080200@www.lemontmartre.ca
SUMMARY:Vêpres
DESCRIPTION:
URL:https://www.lemontmartre.ca/event/vepres/2025-12-18/
LOCATION:Sanctuaire Montmartre\, 1679\, chemin Saint-Louis\, Québec\, Québec\, G1S 1G5\, Canada
CATEGORIES:Offices religieux
END:VEVENT
BEGIN:VEVENT
DTSTART;TZID=America/Montreal:20251219T173000
DTEND;TZID=America/Montreal:20251219T175000
DTSTAMP:20260420T092400
CREATED:20250918T031829Z
LAST-MODIFIED:20250918T031829Z
UID:10009921-1766165400-1766166600@www.lemontmartre.ca
SUMMARY:Vêpres
DESCRIPTION:
URL:https://www.lemontmartre.ca/event/vepres/2025-12-19/
LOCATION:Sanctuaire Montmartre\, 1679\, chemin Saint-Louis\, Québec\, Québec\, G1S 1G5\, Canada
CATEGORIES:Offices religieux
END:VEVENT
BEGIN:VEVENT
DTSTART;TZID=America/Montreal:20251220T173000
DTEND;TZID=America/Montreal:20251220T175000
DTSTAMP:20260420T092400
CREATED:20250918T031829Z
LAST-MODIFIED:20250918T031829Z
UID:10009922-1766251800-1766253000@www.lemontmartre.ca
SUMMARY:Vêpres
DESCRIPTION:
URL:https://www.lemontmartre.ca/event/vepres/2025-12-20/
LOCATION:Sanctuaire Montmartre\, 1679\, chemin Saint-Louis\, Québec\, Québec\, G1S 1G5\, Canada
CATEGORIES:Offices religieux
END:VEVENT
BEGIN:VEVENT
DTSTART;TZID=America/Montreal:20251222T173000
DTEND;TZID=America/Montreal:20251222T175000
DTSTAMP:20260420T092400
CREATED:20250918T031829Z
LAST-MODIFIED:20250918T031829Z
UID:10009923-1766424600-1766425800@www.lemontmartre.ca
SUMMARY:Vêpres
DESCRIPTION:
URL:https://www.lemontmartre.ca/event/vepres/2025-12-22/
LOCATION:Sanctuaire Montmartre\, 1679\, chemin Saint-Louis\, Québec\, Québec\, G1S 1G5\, Canada
CATEGORIES:Offices religieux
END:VEVENT
BEGIN:VEVENT
DTSTART;TZID=America/Montreal:20251223T173000
DTEND;TZID=America/Montreal:20251223T175000
DTSTAMP:20260420T092401
CREATED:20250918T031829Z
LAST-MODIFIED:20250918T031829Z
UID:10009924-1766511000-1766512200@www.lemontmartre.ca
SUMMARY:Vêpres
DESCRIPTION:
URL:https://www.lemontmartre.ca/event/vepres/2025-12-23/
LOCATION:Sanctuaire Montmartre\, 1679\, chemin Saint-Louis\, Québec\, Québec\, G1S 1G5\, Canada
CATEGORIES:Offices religieux
END:VEVENT
BEGIN:VEVENT
DTSTART;TZID=America/Montreal:20251224T173000
DTEND;TZID=America/Montreal:20251224T175000
DTSTAMP:20260420T092401
CREATED:20250918T031829Z
LAST-MODIFIED:20250918T031829Z
UID:10009925-1766597400-1766598600@www.lemontmartre.ca
SUMMARY:Vêpres
DESCRIPTION:
URL:https://www.lemontmartre.ca/event/vepres/2025-12-24/
LOCATION:Sanctuaire Montmartre\, 1679\, chemin Saint-Louis\, Québec\, Québec\, G1S 1G5\, Canada
CATEGORIES:Offices religieux
END:VEVENT
END:VCALENDAR