BEGIN:VCALENDAR
VERSION:2.0
PRODID:-//Le Montmartre - ECPv6.15.13//NONSGML v1.0//EN
CALSCALE:GREGORIAN
METHOD:PUBLISH
X-WR-CALNAME:Le Montmartre
X-ORIGINAL-URL:https://www.lemontmartre.ca
X-WR-CALDESC:Évènements pour Le Montmartre
REFRESH-INTERVAL;VALUE=DURATION:PT1H
X-Robots-Tag:noindex
X-PUBLISHED-TTL:PT1H
BEGIN:VTIMEZONE
TZID:America/Montreal
BEGIN:DAYLIGHT
TZOFFSETFROM:-0500
TZOFFSETTO:-0400
TZNAME:EDT
DTSTART:20240310T070000
END:DAYLIGHT
BEGIN:STANDARD
TZOFFSETFROM:-0400
TZOFFSETTO:-0500
TZNAME:EST
DTSTART:20241103T060000
END:STANDARD
BEGIN:DAYLIGHT
TZOFFSETFROM:-0500
TZOFFSETTO:-0400
TZNAME:EDT
DTSTART:20250309T070000
END:DAYLIGHT
BEGIN:STANDARD
TZOFFSETFROM:-0400
TZOFFSETTO:-0500
TZNAME:EST
DTSTART:20251102T060000
END:STANDARD
BEGIN:DAYLIGHT
TZOFFSETFROM:-0500
TZOFFSETTO:-0400
TZNAME:EDT
DTSTART:20260308T070000
END:DAYLIGHT
BEGIN:STANDARD
TZOFFSETFROM:-0400
TZOFFSETTO:-0500
TZNAME:EST
DTSTART:20261101T060000
END:STANDARD
END:VTIMEZONE
BEGIN:VEVENT
DTSTART;TZID=America/Montreal:20251212T170000
DTEND;TZID=America/Montreal:20251212T190000
DTSTAMP:20260420T015328
CREATED:20251206T022334Z
LAST-MODIFIED:20251206T022335Z
UID:10011500-1765558800-1765566000@www.lemontmartre.ca
SUMMARY:Transmettre comme chemin pour faire fleurir nos vies. Ce que nous nous apportons les uns aux autres
DESCRIPTION:5 à 7 DU MONTMARTRE — CAUSERIE\, COLLATION\, PARTAGE \nPersonne-ressource : Édouard Shatov\, augustin de l’Assomption
URL:https://www.lemontmartre.ca/event/transmettre-comme-chemin-pour-faire-fleurir-nos-vies-ce-que-nous-nous-apportons-les-uns-aux-autres/
LOCATION:Centre Le Montmartre
CATEGORIES:Espace de rencontres
ATTACH;FMTTYPE=image/jpeg:https://www.lemontmartre.ca/wp-content/uploads/2025/12/5-A-7-DU-MONTMARTRE-12-decembre-2025-Facebook-Cover.jpg
END:VEVENT
END:VCALENDAR