BEGIN:VCALENDAR
VERSION:2.0
PRODID:-//Le Montmartre - ECPv6.15.13//NONSGML v1.0//EN
CALSCALE:GREGORIAN
METHOD:PUBLISH
X-WR-CALNAME:Le Montmartre
X-ORIGINAL-URL:https://www.lemontmartre.ca
X-WR-CALDESC:Évènements pour Le Montmartre
REFRESH-INTERVAL;VALUE=DURATION:PT1H
X-Robots-Tag:noindex
X-PUBLISHED-TTL:PT1H
BEGIN:VTIMEZONE
TZID:America/Montreal
BEGIN:DAYLIGHT
TZOFFSETFROM:-0500
TZOFFSETTO:-0400
TZNAME:EDT
DTSTART:20250309T070000
END:DAYLIGHT
BEGIN:STANDARD
TZOFFSETFROM:-0400
TZOFFSETTO:-0500
TZNAME:EST
DTSTART:20251102T060000
END:STANDARD
BEGIN:DAYLIGHT
TZOFFSETFROM:-0500
TZOFFSETTO:-0400
TZNAME:EDT
DTSTART:20260308T070000
END:DAYLIGHT
BEGIN:STANDARD
TZOFFSETFROM:-0400
TZOFFSETTO:-0500
TZNAME:EST
DTSTART:20261101T060000
END:STANDARD
BEGIN:DAYLIGHT
TZOFFSETFROM:-0500
TZOFFSETTO:-0400
TZNAME:EDT
DTSTART:20270314T070000
END:DAYLIGHT
BEGIN:STANDARD
TZOFFSETFROM:-0400
TZOFFSETTO:-0500
TZNAME:EST
DTSTART:20271107T060000
END:STANDARD
END:VTIMEZONE
BEGIN:VEVENT
DTSTART;TZID=America/Montreal:20260313T170000
DTEND;TZID=America/Montreal:20260313T173000
DTSTAMP:20260419T222459
CREATED:20260105T002130Z
LAST-MODIFIED:20260105T004525Z
UID:10012188-1773421200-1773423000@www.lemontmartre.ca
SUMMARY:Adoration
DESCRIPTION:
URL:https://www.lemontmartre.ca/event/adoration-2/2026-03-13/
LOCATION:Sanctuaire Montmartre\, 1679\, chemin Saint-Louis\, Québec\, Québec\, G1S 1G5\, Canada
CATEGORIES:Offices religieux
END:VEVENT
BEGIN:VEVENT
DTSTART;TZID=America/Montreal:20260320T170000
DTEND;TZID=America/Montreal:20260320T173000
DTSTAMP:20260419T222459
CREATED:20260105T002130Z
LAST-MODIFIED:20260105T004525Z
UID:10012189-1774026000-1774027800@www.lemontmartre.ca
SUMMARY:Adoration
DESCRIPTION:
URL:https://www.lemontmartre.ca/event/adoration-2/2026-03-20/
LOCATION:Sanctuaire Montmartre\, 1679\, chemin Saint-Louis\, Québec\, Québec\, G1S 1G5\, Canada
CATEGORIES:Offices religieux
END:VEVENT
BEGIN:VEVENT
DTSTART;TZID=America/Montreal:20260327T170000
DTEND;TZID=America/Montreal:20260327T173000
DTSTAMP:20260419T222459
CREATED:20260105T002130Z
LAST-MODIFIED:20260105T004525Z
UID:10012190-1774630800-1774632600@www.lemontmartre.ca
SUMMARY:Adoration
DESCRIPTION:
URL:https://www.lemontmartre.ca/event/adoration-2/2026-03-27/
LOCATION:Sanctuaire Montmartre\, 1679\, chemin Saint-Louis\, Québec\, Québec\, G1S 1G5\, Canada
CATEGORIES:Offices religieux
END:VEVENT
END:VCALENDAR