BEGIN:VCALENDAR
VERSION:2.0
PRODID:-//Le Montmartre - ECPv6.15.13//NONSGML v1.0//EN
CALSCALE:GREGORIAN
METHOD:PUBLISH
X-ORIGINAL-URL:https://www.lemontmartre.ca
X-WR-CALDESC:Évènements pour Le Montmartre
REFRESH-INTERVAL;VALUE=DURATION:PT1H
X-Robots-Tag:noindex
X-PUBLISHED-TTL:PT1H
BEGIN:VTIMEZONE
TZID:America/Montreal
BEGIN:DAYLIGHT
TZOFFSETFROM:-0500
TZOFFSETTO:-0400
TZNAME:EDT
DTSTART:20240310T070000
END:DAYLIGHT
BEGIN:STANDARD
TZOFFSETFROM:-0400
TZOFFSETTO:-0500
TZNAME:EST
DTSTART:20241103T060000
END:STANDARD
BEGIN:DAYLIGHT
TZOFFSETFROM:-0500
TZOFFSETTO:-0400
TZNAME:EDT
DTSTART:20250309T070000
END:DAYLIGHT
BEGIN:STANDARD
TZOFFSETFROM:-0400
TZOFFSETTO:-0500
TZNAME:EST
DTSTART:20251102T060000
END:STANDARD
BEGIN:DAYLIGHT
TZOFFSETFROM:-0500
TZOFFSETTO:-0400
TZNAME:EDT
DTSTART:20260308T070000
END:DAYLIGHT
BEGIN:STANDARD
TZOFFSETFROM:-0400
TZOFFSETTO:-0500
TZNAME:EST
DTSTART:20261101T060000
END:STANDARD
END:VTIMEZONE
BEGIN:VEVENT
DTSTART;TZID=America/Montreal:20250902T070000
DTEND;TZID=America/Montreal:20250902T072000
DTSTAMP:20260423T023507
CREATED:20251012T134426Z
LAST-MODIFIED:20251012T134538Z
UID:10010046-1756796400-1756797600@www.lemontmartre.ca
SUMMARY:Laudes
DESCRIPTION:
URL:https://www.lemontmartre.ca/event/laudes-3-2/2025-09-02/
LOCATION:Sanctuaire Montmartre\, 1679\, chemin Saint-Louis\, Québec\, Québec\, G1S 1G5\, Canada
CATEGORIES:Offices religieux
END:VEVENT
BEGIN:VEVENT
DTSTART;TZID=America/Montreal:20250902T111500
DTEND;TZID=America/Montreal:20250902T115500
DTSTAMP:20260423T023507
CREATED:20250918T022646Z
LAST-MODIFIED:20250918T022647Z
UID:10009697-1756811700-1756814100@www.lemontmartre.ca
SUMMARY:Messe de 11h15
DESCRIPTION:
URL:https://www.lemontmartre.ca/event/messe-de-11h15/2025-09-02/
LOCATION:Sanctuaire Montmartre\, 1679\, chemin Saint-Louis\, Québec\, Québec\, G1S 1G5\, Canada
CATEGORIES:Offices religieux
END:VEVENT
BEGIN:VEVENT
DTSTART;TZID=America/Montreal:20250902T173000
DTEND;TZID=America/Montreal:20250902T175000
DTSTAMP:20260423T023507
CREATED:20250918T031829Z
LAST-MODIFIED:20250918T031829Z
UID:10009829-1756834200-1756835400@www.lemontmartre.ca
SUMMARY:Vêpres
DESCRIPTION:
URL:https://www.lemontmartre.ca/event/vepres/2025-09-02/
LOCATION:Sanctuaire Montmartre\, 1679\, chemin Saint-Louis\, Québec\, Québec\, G1S 1G5\, Canada
CATEGORIES:Offices religieux
END:VEVENT
BEGIN:VEVENT
DTSTART;TZID=America/Montreal:20250903T070000
DTEND;TZID=America/Montreal:20250903T072000
DTSTAMP:20260423T023507
CREATED:20251012T134426Z
LAST-MODIFIED:20251012T134538Z
UID:10010047-1756882800-1756884000@www.lemontmartre.ca
SUMMARY:Laudes
DESCRIPTION:
URL:https://www.lemontmartre.ca/event/laudes-3-2/2025-09-03/
LOCATION:Sanctuaire Montmartre\, 1679\, chemin Saint-Louis\, Québec\, Québec\, G1S 1G5\, Canada
CATEGORIES:Offices religieux
END:VEVENT
BEGIN:VEVENT
DTSTART;TZID=America/Montreal:20250903T111500
DTEND;TZID=America/Montreal:20250903T115500
DTSTAMP:20260423T023507
CREATED:20250918T022646Z
LAST-MODIFIED:20250918T022647Z
UID:10009698-1756898100-1756900500@www.lemontmartre.ca
SUMMARY:Messe de 11h15
DESCRIPTION:
URL:https://www.lemontmartre.ca/event/messe-de-11h15/2025-09-03/
LOCATION:Sanctuaire Montmartre\, 1679\, chemin Saint-Louis\, Québec\, Québec\, G1S 1G5\, Canada
CATEGORIES:Offices religieux
END:VEVENT
BEGIN:VEVENT
DTSTART;TZID=America/Montreal:20250903T173000
DTEND;TZID=America/Montreal:20250903T175000
DTSTAMP:20260423T023507
CREATED:20250918T031829Z
LAST-MODIFIED:20250918T031829Z
UID:10009830-1756920600-1756921800@www.lemontmartre.ca
SUMMARY:Vêpres
DESCRIPTION:
URL:https://www.lemontmartre.ca/event/vepres/2025-09-03/
LOCATION:Sanctuaire Montmartre\, 1679\, chemin Saint-Louis\, Québec\, Québec\, G1S 1G5\, Canada
CATEGORIES:Offices religieux
END:VEVENT
BEGIN:VEVENT
DTSTART;TZID=America/Montreal:20250904T070000
DTEND;TZID=America/Montreal:20250904T072000
DTSTAMP:20260423T023507
CREATED:20251012T134426Z
LAST-MODIFIED:20251012T134538Z
UID:10010048-1756969200-1756970400@www.lemontmartre.ca
SUMMARY:Laudes
DESCRIPTION:
URL:https://www.lemontmartre.ca/event/laudes-3-2/2025-09-04/
LOCATION:Sanctuaire Montmartre\, 1679\, chemin Saint-Louis\, Québec\, Québec\, G1S 1G5\, Canada
CATEGORIES:Offices religieux
END:VEVENT
BEGIN:VEVENT
DTSTART;TZID=America/Montreal:20250904T111500
DTEND;TZID=America/Montreal:20250904T115500
DTSTAMP:20260423T023507
CREATED:20250918T022646Z
LAST-MODIFIED:20250918T022647Z
UID:10009699-1756984500-1756986900@www.lemontmartre.ca
SUMMARY:Messe de 11h15
DESCRIPTION:
URL:https://www.lemontmartre.ca/event/messe-de-11h15/2025-09-04/
LOCATION:Sanctuaire Montmartre\, 1679\, chemin Saint-Louis\, Québec\, Québec\, G1S 1G5\, Canada
CATEGORIES:Offices religieux
END:VEVENT
BEGIN:VEVENT
DTSTART;TZID=America/Montreal:20250904T173000
DTEND;TZID=America/Montreal:20250904T175000
DTSTAMP:20260423T023507
CREATED:20250918T031829Z
LAST-MODIFIED:20250918T031829Z
UID:10009831-1757007000-1757008200@www.lemontmartre.ca
SUMMARY:Vêpres
DESCRIPTION:
URL:https://www.lemontmartre.ca/event/vepres/2025-09-04/
LOCATION:Sanctuaire Montmartre\, 1679\, chemin Saint-Louis\, Québec\, Québec\, G1S 1G5\, Canada
CATEGORIES:Offices religieux
END:VEVENT
BEGIN:VEVENT
DTSTART;TZID=America/Montreal:20250905T070000
DTEND;TZID=America/Montreal:20250905T072000
DTSTAMP:20260423T023507
CREATED:20251012T134426Z
LAST-MODIFIED:20251012T134538Z
UID:10010049-1757055600-1757056800@www.lemontmartre.ca
SUMMARY:Laudes
DESCRIPTION:
URL:https://www.lemontmartre.ca/event/laudes-3-2/2025-09-05/
LOCATION:Sanctuaire Montmartre\, 1679\, chemin Saint-Louis\, Québec\, Québec\, G1S 1G5\, Canada
CATEGORIES:Offices religieux
END:VEVENT
BEGIN:VEVENT
DTSTART;TZID=America/Montreal:20250905T111500
DTEND;TZID=America/Montreal:20250905T115500
DTSTAMP:20260423T023507
CREATED:20250918T022646Z
LAST-MODIFIED:20250918T022647Z
UID:10009700-1757070900-1757073300@www.lemontmartre.ca
SUMMARY:Messe de 11h15
DESCRIPTION:
URL:https://www.lemontmartre.ca/event/messe-de-11h15/2025-09-05/
LOCATION:Sanctuaire Montmartre\, 1679\, chemin Saint-Louis\, Québec\, Québec\, G1S 1G5\, Canada
CATEGORIES:Offices religieux
END:VEVENT
BEGIN:VEVENT
DTSTART;TZID=America/Montreal:20250905T173000
DTEND;TZID=America/Montreal:20250905T175000
DTSTAMP:20260423T023507
CREATED:20250918T031829Z
LAST-MODIFIED:20250918T031829Z
UID:10009832-1757093400-1757094600@www.lemontmartre.ca
SUMMARY:Vêpres
DESCRIPTION:
URL:https://www.lemontmartre.ca/event/vepres/2025-09-05/
LOCATION:Sanctuaire Montmartre\, 1679\, chemin Saint-Louis\, Québec\, Québec\, G1S 1G5\, Canada
CATEGORIES:Offices religieux
END:VEVENT
BEGIN:VEVENT
DTSTART;TZID=America/Montreal:20250905T193000
DTEND;TZID=America/Montreal:20250905T210000
DTSTAMP:20260423T023507
CREATED:20250918T025359Z
LAST-MODIFIED:20250918T030835Z
UID:10009501-1757100600-1757106000@www.lemontmartre.ca
SUMMARY:Messe suivie de l'adoration avec chants de Taizé
DESCRIPTION:
URL:https://www.lemontmartre.ca/event/messe-et-adoration/2025-09-05/
LOCATION:Sanctuaire Montmartre\, 1679\, chemin Saint-Louis\, Québec\, Québec\, G1S 1G5\, Canada
CATEGORIES:Offices religieux
END:VEVENT
BEGIN:VEVENT
DTSTART;TZID=America/Montreal:20250906T111500
DTEND;TZID=America/Montreal:20250906T115500
DTSTAMP:20260423T023507
CREATED:20250918T022646Z
LAST-MODIFIED:20250918T022647Z
UID:10009701-1757157300-1757159700@www.lemontmartre.ca
SUMMARY:Messe de 11h15
DESCRIPTION:
URL:https://www.lemontmartre.ca/event/messe-de-11h15/2025-09-06/
LOCATION:Sanctuaire Montmartre\, 1679\, chemin Saint-Louis\, Québec\, Québec\, G1S 1G5\, Canada
CATEGORIES:Offices religieux
END:VEVENT
BEGIN:VEVENT
DTSTART;TZID=America/Montreal:20250906T173000
DTEND;TZID=America/Montreal:20250906T175000
DTSTAMP:20260423T023507
CREATED:20250918T031829Z
LAST-MODIFIED:20250918T031829Z
UID:10009833-1757179800-1757181000@www.lemontmartre.ca
SUMMARY:Vêpres
DESCRIPTION:
URL:https://www.lemontmartre.ca/event/vepres/2025-09-06/
LOCATION:Sanctuaire Montmartre\, 1679\, chemin Saint-Louis\, Québec\, Québec\, G1S 1G5\, Canada
CATEGORIES:Offices religieux
END:VEVENT
BEGIN:VEVENT
DTSTART;TZID=America/Montreal:20250907T080000
DTEND;TZID=America/Montreal:20250907T082000
DTSTAMP:20260423T023507
CREATED:20250918T015045Z
LAST-MODIFIED:20250918T015045Z
UID:10009503-1757232000-1757233200@www.lemontmartre.ca
SUMMARY:Laudes
DESCRIPTION:
URL:https://www.lemontmartre.ca/event/laudes-2-2/2025-09-07/
LOCATION:Sanctuaire Montmartre\, 1679\, chemin Saint-Louis\, Québec\, Québec\, G1S 1G5\, Canada
CATEGORIES:Offices religieux
END:VEVENT
BEGIN:VEVENT
DTSTART;TZID=America/Montreal:20250907T103000
DTEND;TZID=America/Montreal:20250907T114500
DTSTAMP:20260423T023507
CREATED:20250918T015957Z
LAST-MODIFIED:20250918T020212Z
UID:10009502-1757241000-1757245500@www.lemontmartre.ca
SUMMARY:Eucharistie
DESCRIPTION:
URL:https://www.lemontmartre.ca/event/laudes-2-3/2025-09-07/
LOCATION:Centre Le Montmartre
CATEGORIES:Offices religieux
END:VEVENT
BEGIN:VEVENT
DTSTART;TZID=America/Montreal:20250908T070000
DTEND;TZID=America/Montreal:20250908T072000
DTSTAMP:20260423T023507
CREATED:20251012T134426Z
LAST-MODIFIED:20251012T134538Z
UID:10010070-1757314800-1757316000@www.lemontmartre.ca
SUMMARY:Laudes
DESCRIPTION:
URL:https://www.lemontmartre.ca/event/laudes-3-2/2025-09-08/
LOCATION:Sanctuaire Montmartre\, 1679\, chemin Saint-Louis\, Québec\, Québec\, G1S 1G5\, Canada
CATEGORIES:Offices religieux
END:VEVENT
BEGIN:VEVENT
DTSTART;TZID=America/Montreal:20250908T111500
DTEND;TZID=America/Montreal:20250908T115500
DTSTAMP:20260423T023507
CREATED:20250918T022646Z
LAST-MODIFIED:20250918T022647Z
UID:10009702-1757330100-1757332500@www.lemontmartre.ca
SUMMARY:Messe de 11h15
DESCRIPTION:
URL:https://www.lemontmartre.ca/event/messe-de-11h15/2025-09-08/
LOCATION:Sanctuaire Montmartre\, 1679\, chemin Saint-Louis\, Québec\, Québec\, G1S 1G5\, Canada
CATEGORIES:Offices religieux
END:VEVENT
BEGIN:VEVENT
DTSTART;TZID=America/Montreal:20250908T173000
DTEND;TZID=America/Montreal:20250908T175000
DTSTAMP:20260423T023507
CREATED:20250918T031829Z
LAST-MODIFIED:20250918T031829Z
UID:10009834-1757352600-1757353800@www.lemontmartre.ca
SUMMARY:Vêpres
DESCRIPTION:
URL:https://www.lemontmartre.ca/event/vepres/2025-09-08/
LOCATION:Sanctuaire Montmartre\, 1679\, chemin Saint-Louis\, Québec\, Québec\, G1S 1G5\, Canada
CATEGORIES:Offices religieux
END:VEVENT
BEGIN:VEVENT
DTSTART;TZID=America/Montreal:20250909T070000
DTEND;TZID=America/Montreal:20250909T072000
DTSTAMP:20260423T023507
CREATED:20251012T134426Z
LAST-MODIFIED:20251012T134538Z
UID:10010050-1757401200-1757402400@www.lemontmartre.ca
SUMMARY:Laudes
DESCRIPTION:
URL:https://www.lemontmartre.ca/event/laudes-3-2/2025-09-09/
LOCATION:Sanctuaire Montmartre\, 1679\, chemin Saint-Louis\, Québec\, Québec\, G1S 1G5\, Canada
CATEGORIES:Offices religieux
END:VEVENT
BEGIN:VEVENT
DTSTART;TZID=America/Montreal:20250909T111500
DTEND;TZID=America/Montreal:20250909T115500
DTSTAMP:20260423T023507
CREATED:20250918T022646Z
LAST-MODIFIED:20250918T022647Z
UID:10009703-1757416500-1757418900@www.lemontmartre.ca
SUMMARY:Messe de 11h15
DESCRIPTION:
URL:https://www.lemontmartre.ca/event/messe-de-11h15/2025-09-09/
LOCATION:Sanctuaire Montmartre\, 1679\, chemin Saint-Louis\, Québec\, Québec\, G1S 1G5\, Canada
CATEGORIES:Offices religieux
END:VEVENT
BEGIN:VEVENT
DTSTART;TZID=America/Montreal:20250909T173000
DTEND;TZID=America/Montreal:20250909T175000
DTSTAMP:20260423T023507
CREATED:20250918T031829Z
LAST-MODIFIED:20250918T031829Z
UID:10009835-1757439000-1757440200@www.lemontmartre.ca
SUMMARY:Vêpres
DESCRIPTION:
URL:https://www.lemontmartre.ca/event/vepres/2025-09-09/
LOCATION:Sanctuaire Montmartre\, 1679\, chemin Saint-Louis\, Québec\, Québec\, G1S 1G5\, Canada
CATEGORIES:Offices religieux
END:VEVENT
BEGIN:VEVENT
DTSTART;TZID=America/Montreal:20250910T070000
DTEND;TZID=America/Montreal:20250910T072000
DTSTAMP:20260423T023507
CREATED:20251012T134426Z
LAST-MODIFIED:20251012T134538Z
UID:10010051-1757487600-1757488800@www.lemontmartre.ca
SUMMARY:Laudes
DESCRIPTION:
URL:https://www.lemontmartre.ca/event/laudes-3-2/2025-09-10/
LOCATION:Sanctuaire Montmartre\, 1679\, chemin Saint-Louis\, Québec\, Québec\, G1S 1G5\, Canada
CATEGORIES:Offices religieux
END:VEVENT
BEGIN:VEVENT
DTSTART;TZID=America/Montreal:20250910T111500
DTEND;TZID=America/Montreal:20250910T115500
DTSTAMP:20260423T023507
CREATED:20250918T022646Z
LAST-MODIFIED:20250918T022647Z
UID:10009704-1757502900-1757505300@www.lemontmartre.ca
SUMMARY:Messe de 11h15
DESCRIPTION:
URL:https://www.lemontmartre.ca/event/messe-de-11h15/2025-09-10/
LOCATION:Sanctuaire Montmartre\, 1679\, chemin Saint-Louis\, Québec\, Québec\, G1S 1G5\, Canada
CATEGORIES:Offices religieux
END:VEVENT
BEGIN:VEVENT
DTSTART;TZID=America/Montreal:20250910T173000
DTEND;TZID=America/Montreal:20250910T175000
DTSTAMP:20260423T023507
CREATED:20250918T031829Z
LAST-MODIFIED:20250918T031829Z
UID:10009836-1757525400-1757526600@www.lemontmartre.ca
SUMMARY:Vêpres
DESCRIPTION:
URL:https://www.lemontmartre.ca/event/vepres/2025-09-10/
LOCATION:Sanctuaire Montmartre\, 1679\, chemin Saint-Louis\, Québec\, Québec\, G1S 1G5\, Canada
CATEGORIES:Offices religieux
END:VEVENT
BEGIN:VEVENT
DTSTART;TZID=America/Montreal:20250911T070000
DTEND;TZID=America/Montreal:20250911T072000
DTSTAMP:20260423T023507
CREATED:20251012T134426Z
LAST-MODIFIED:20251012T134538Z
UID:10010052-1757574000-1757575200@www.lemontmartre.ca
SUMMARY:Laudes
DESCRIPTION:
URL:https://www.lemontmartre.ca/event/laudes-3-2/2025-09-11/
LOCATION:Sanctuaire Montmartre\, 1679\, chemin Saint-Louis\, Québec\, Québec\, G1S 1G5\, Canada
CATEGORIES:Offices religieux
END:VEVENT
BEGIN:VEVENT
DTSTART;TZID=America/Montreal:20250911T111500
DTEND;TZID=America/Montreal:20250911T115500
DTSTAMP:20260423T023507
CREATED:20250918T022646Z
LAST-MODIFIED:20250918T022647Z
UID:10009705-1757589300-1757591700@www.lemontmartre.ca
SUMMARY:Messe de 11h15
DESCRIPTION:
URL:https://www.lemontmartre.ca/event/messe-de-11h15/2025-09-11/
LOCATION:Sanctuaire Montmartre\, 1679\, chemin Saint-Louis\, Québec\, Québec\, G1S 1G5\, Canada
CATEGORIES:Offices religieux
END:VEVENT
BEGIN:VEVENT
DTSTART;TZID=America/Montreal:20250911T173000
DTEND;TZID=America/Montreal:20250911T175000
DTSTAMP:20260423T023507
CREATED:20250918T031829Z
LAST-MODIFIED:20250918T031829Z
UID:10009837-1757611800-1757613000@www.lemontmartre.ca
SUMMARY:Vêpres
DESCRIPTION:
URL:https://www.lemontmartre.ca/event/vepres/2025-09-11/
LOCATION:Sanctuaire Montmartre\, 1679\, chemin Saint-Louis\, Québec\, Québec\, G1S 1G5\, Canada
CATEGORIES:Offices religieux
END:VEVENT
BEGIN:VEVENT
DTSTART;TZID=America/Montreal:20250912T070000
DTEND;TZID=America/Montreal:20250912T072000
DTSTAMP:20260423T023507
CREATED:20251012T134426Z
LAST-MODIFIED:20251012T134538Z
UID:10010053-1757660400-1757661600@www.lemontmartre.ca
SUMMARY:Laudes
DESCRIPTION:
URL:https://www.lemontmartre.ca/event/laudes-3-2/2025-09-12/
LOCATION:Sanctuaire Montmartre\, 1679\, chemin Saint-Louis\, Québec\, Québec\, G1S 1G5\, Canada
CATEGORIES:Offices religieux
END:VEVENT
END:VCALENDAR