BEGIN:VCALENDAR
VERSION:2.0
PRODID:-//Le Montmartre - ECPv6.15.13//NONSGML v1.0//EN
CALSCALE:GREGORIAN
METHOD:PUBLISH
X-WR-CALNAME:Le Montmartre
X-ORIGINAL-URL:https://www.lemontmartre.ca
X-WR-CALDESC:Évènements pour Le Montmartre
REFRESH-INTERVAL;VALUE=DURATION:PT1H
X-Robots-Tag:noindex
X-PUBLISHED-TTL:PT1H
BEGIN:VTIMEZONE
TZID:America/Montreal
BEGIN:DAYLIGHT
TZOFFSETFROM:-0500
TZOFFSETTO:-0400
TZNAME:EDT
DTSTART:20230312T070000
END:DAYLIGHT
BEGIN:STANDARD
TZOFFSETFROM:-0400
TZOFFSETTO:-0500
TZNAME:EST
DTSTART:20231105T060000
END:STANDARD
BEGIN:DAYLIGHT
TZOFFSETFROM:-0500
TZOFFSETTO:-0400
TZNAME:EDT
DTSTART:20240310T070000
END:DAYLIGHT
BEGIN:STANDARD
TZOFFSETFROM:-0400
TZOFFSETTO:-0500
TZNAME:EST
DTSTART:20241103T060000
END:STANDARD
BEGIN:DAYLIGHT
TZOFFSETFROM:-0500
TZOFFSETTO:-0400
TZNAME:EDT
DTSTART:20250309T070000
END:DAYLIGHT
BEGIN:STANDARD
TZOFFSETFROM:-0400
TZOFFSETTO:-0500
TZNAME:EST
DTSTART:20251102T060000
END:STANDARD
END:VTIMEZONE
BEGIN:VEVENT
DTSTART;TZID=America/Montreal:20241106T140000
DTEND;TZID=America/Montreal:20241106T153000
DTSTAMP:20260423T102948
CREATED:20240914T023243Z
LAST-MODIFIED:20240914T023243Z
UID:10005341-1730901600-1730907000@www.lemontmartre.ca
SUMMARY:LE VERBE PAROLE EST DEVENU CHAIR
DESCRIPTION:Revisiter L’Incarnation avec l’Évangile de Jean\nEn PRÉSENTIEL et en ZOOM*\n*ZOOM sera accessible seulement aux personnes qui habitent à l’extérieur de la ville de Québec et pour qui il est impossible se rendre à la rencontre en présentiel
URL:https://www.lemontmartre.ca/event/le-verbe-parole-est-devenu-chair-2/2024-11-06/
LOCATION:Centre Le Montmartre
CATEGORIES:Formations
ATTACH;FMTTYPE=image/jpeg:https://www.lemontmartre.ca/wp-content/uploads/2024/09/Formation-Evangile-de-Jean-Automne-2024-Facebook-Cover.jpg
END:VEVENT
BEGIN:VEVENT
DTSTART;TZID=America/Montreal:20241113T140000
DTEND;TZID=America/Montreal:20241113T153000
DTSTAMP:20260423T102948
CREATED:20240914T023243Z
LAST-MODIFIED:20240914T023243Z
UID:10005342-1731506400-1731511800@www.lemontmartre.ca
SUMMARY:LE VERBE PAROLE EST DEVENU CHAIR
DESCRIPTION:Revisiter L’Incarnation avec l’Évangile de Jean\nEn PRÉSENTIEL et en ZOOM*\n*ZOOM sera accessible seulement aux personnes qui habitent à l’extérieur de la ville de Québec et pour qui il est impossible se rendre à la rencontre en présentiel
URL:https://www.lemontmartre.ca/event/le-verbe-parole-est-devenu-chair-2/2024-11-13/
LOCATION:Centre Le Montmartre
CATEGORIES:Formations
ATTACH;FMTTYPE=image/jpeg:https://www.lemontmartre.ca/wp-content/uploads/2024/09/Formation-Evangile-de-Jean-Automne-2024-Facebook-Cover.jpg
END:VEVENT
END:VCALENDAR