BEGIN:VCALENDAR
VERSION:2.0
PRODID:-//Le Montmartre - ECPv6.15.13//NONSGML v1.0//EN
CALSCALE:GREGORIAN
METHOD:PUBLISH
X-WR-CALNAME:Le Montmartre
X-ORIGINAL-URL:https://www.lemontmartre.ca
X-WR-CALDESC:Évènements pour Le Montmartre
REFRESH-INTERVAL;VALUE=DURATION:PT1H
X-Robots-Tag:noindex
X-PUBLISHED-TTL:PT1H
BEGIN:VTIMEZONE
TZID:America/Montreal
BEGIN:DAYLIGHT
TZOFFSETFROM:-0500
TZOFFSETTO:-0400
TZNAME:EDT
DTSTART:20240310T070000
END:DAYLIGHT
BEGIN:STANDARD
TZOFFSETFROM:-0400
TZOFFSETTO:-0500
TZNAME:EST
DTSTART:20241103T060000
END:STANDARD
BEGIN:DAYLIGHT
TZOFFSETFROM:-0500
TZOFFSETTO:-0400
TZNAME:EDT
DTSTART:20250309T070000
END:DAYLIGHT
BEGIN:STANDARD
TZOFFSETFROM:-0400
TZOFFSETTO:-0500
TZNAME:EST
DTSTART:20251102T060000
END:STANDARD
BEGIN:DAYLIGHT
TZOFFSETFROM:-0500
TZOFFSETTO:-0400
TZNAME:EDT
DTSTART:20260308T070000
END:DAYLIGHT
BEGIN:STANDARD
TZOFFSETFROM:-0400
TZOFFSETTO:-0500
TZNAME:EST
DTSTART:20261101T060000
END:STANDARD
END:VTIMEZONE
BEGIN:VEVENT
DTSTART;TZID=America/Montreal:20250304T093000
DTEND;TZID=America/Montreal:20250304T110000
DTSTAMP:20260424T070520
CREATED:20250118T034310Z
LAST-MODIFIED:20250121T045626Z
UID:10006830-1741080600-1741086000@www.lemontmartre.ca
SUMMARY:CAFÉ «BONNE NOUVELLE»
DESCRIPTION:
URL:https://www.lemontmartre.ca/event/cafe-bonne-nouvelle-3/2025-03-04/
LOCATION:Centre Le Montmartre
CATEGORIES:Formations
ATTACH;FMTTYPE=image/jpeg:https://www.lemontmartre.ca/wp-content/uploads/2025/01/CAFE-BONNE-NOUVELLE_HIver_Ete-2025-Facebook-Cover.jpg
END:VEVENT
BEGIN:VEVENT
DTSTART;TZID=America/Montreal:20250311T190000
DTEND;TZID=America/Montreal:20250311T210000
DTSTAMP:20260424T070520
CREATED:20250118T034917Z
LAST-MODIFIED:20250121T144309Z
UID:10006836-1741719600-1741726800@www.lemontmartre.ca
SUMMARY:Augustin – l’homme – l’œuvre
DESCRIPTION:
URL:https://www.lemontmartre.ca/event/augustin-lhomme-loeuvre-2/2025-03-11/
LOCATION:Sanctuaire Montmartre\, 1679\, chemin Saint-Louis\, Québec\, Québec\, G1S 1G5\, Canada
CATEGORIES:Formations
ATTACH;FMTTYPE=image/jpeg:https://www.lemontmartre.ca/wp-content/uploads/2025/01/Augustin-Marcel-Poirier-HIver_Ete_2025-Facebook-Cover.jpg
END:VEVENT
BEGIN:VEVENT
DTSTART;TZID=America/Montreal:20250314T170000
DTEND;TZID=America/Montreal:20250314T190000
DTSTAMP:20260424T070520
CREATED:20250131T051611Z
LAST-MODIFIED:20250131T051634Z
UID:10007022-1741971600-1741978800@www.lemontmartre.ca
SUMMARY:Solidarité et espérance
DESCRIPTION:5 à 7 avec Marcel Poirier\, augustin de l’Assomption
URL:https://www.lemontmartre.ca/event/solidarite-et-esperance/
LOCATION:Centre Le Montmartre
CATEGORIES:Conférences et débats
END:VEVENT
BEGIN:VEVENT
DTSTART;TZID=America/Montreal:20250318T093000
DTEND;TZID=America/Montreal:20250318T110000
DTSTAMP:20260424T070520
CREATED:20250118T034310Z
LAST-MODIFIED:20250121T045626Z
UID:10006831-1742290200-1742295600@www.lemontmartre.ca
SUMMARY:CAFÉ «BONNE NOUVELLE»
DESCRIPTION:
URL:https://www.lemontmartre.ca/event/cafe-bonne-nouvelle-3/2025-03-18/
LOCATION:Centre Le Montmartre
CATEGORIES:Formations
ATTACH;FMTTYPE=image/jpeg:https://www.lemontmartre.ca/wp-content/uploads/2025/01/CAFE-BONNE-NOUVELLE_HIver_Ete-2025-Facebook-Cover.jpg
END:VEVENT
BEGIN:VEVENT
DTSTART;TZID=America/Montreal:20250325T190000
DTEND;TZID=America/Montreal:20250325T210000
DTSTAMP:20260424T070520
CREATED:20250118T034917Z
LAST-MODIFIED:20250121T144309Z
UID:10006837-1742929200-1742936400@www.lemontmartre.ca
SUMMARY:Augustin – l’homme – l’œuvre
DESCRIPTION:
URL:https://www.lemontmartre.ca/event/augustin-lhomme-loeuvre-2/2025-03-25/
LOCATION:Sanctuaire Montmartre\, 1679\, chemin Saint-Louis\, Québec\, Québec\, G1S 1G5\, Canada
CATEGORIES:Formations
ATTACH;FMTTYPE=image/jpeg:https://www.lemontmartre.ca/wp-content/uploads/2025/01/Augustin-Marcel-Poirier-HIver_Ete_2025-Facebook-Cover.jpg
END:VEVENT
END:VCALENDAR