BEGIN:VCALENDAR
VERSION:2.0
PRODID:-//Le Montmartre - ECPv6.15.13//NONSGML v1.0//EN
CALSCALE:GREGORIAN
METHOD:PUBLISH
X-WR-CALNAME:Le Montmartre
X-ORIGINAL-URL:https://www.lemontmartre.ca
X-WR-CALDESC:Évènements pour Le Montmartre
REFRESH-INTERVAL;VALUE=DURATION:PT1H
X-Robots-Tag:noindex
X-PUBLISHED-TTL:PT1H
BEGIN:VTIMEZONE
TZID:America/Montreal
BEGIN:DAYLIGHT
TZOFFSETFROM:-0500
TZOFFSETTO:-0400
TZNAME:EDT
DTSTART:20240310T070000
END:DAYLIGHT
BEGIN:STANDARD
TZOFFSETFROM:-0400
TZOFFSETTO:-0500
TZNAME:EST
DTSTART:20241103T060000
END:STANDARD
BEGIN:DAYLIGHT
TZOFFSETFROM:-0500
TZOFFSETTO:-0400
TZNAME:EDT
DTSTART:20250309T070000
END:DAYLIGHT
BEGIN:STANDARD
TZOFFSETFROM:-0400
TZOFFSETTO:-0500
TZNAME:EST
DTSTART:20251102T060000
END:STANDARD
BEGIN:DAYLIGHT
TZOFFSETFROM:-0500
TZOFFSETTO:-0400
TZNAME:EDT
DTSTART:20260308T070000
END:DAYLIGHT
BEGIN:STANDARD
TZOFFSETFROM:-0400
TZOFFSETTO:-0500
TZNAME:EST
DTSTART:20261101T060000
END:STANDARD
END:VTIMEZONE
BEGIN:VEVENT
DTSTART;TZID=America/Montreal:20251201T070000
DTEND;TZID=America/Montreal:20251201T072000
DTSTAMP:20260420T114116
CREATED:20251012T134426Z
LAST-MODIFIED:20251012T134538Z
UID:10010081-1764572400-1764573600@www.lemontmartre.ca
SUMMARY:Laudes
DESCRIPTION:
URL:https://www.lemontmartre.ca/event/laudes-3-2/2025-12-01/
LOCATION:Sanctuaire Montmartre\, 1679\, chemin Saint-Louis\, Québec\, Québec\, G1S 1G5\, Canada
CATEGORIES:Offices religieux
END:VEVENT
BEGIN:VEVENT
DTSTART;TZID=America/Montreal:20251202T070000
DTEND;TZID=America/Montreal:20251202T072000
DTSTAMP:20260420T114116
CREATED:20251012T134426Z
LAST-MODIFIED:20251012T134538Z
UID:10009114-1764658800-1764660000@www.lemontmartre.ca
SUMMARY:Laudes
DESCRIPTION:
URL:https://www.lemontmartre.ca/event/laudes-3-2/2025-12-02/
LOCATION:Sanctuaire Montmartre\, 1679\, chemin Saint-Louis\, Québec\, Québec\, G1S 1G5\, Canada
CATEGORIES:Offices religieux
END:VEVENT
BEGIN:VEVENT
DTSTART;TZID=America/Montreal:20251203T070000
DTEND;TZID=America/Montreal:20251203T072000
DTSTAMP:20260420T114116
CREATED:20251012T134426Z
LAST-MODIFIED:20251012T134538Z
UID:10009115-1764745200-1764746400@www.lemontmartre.ca
SUMMARY:Laudes
DESCRIPTION:
URL:https://www.lemontmartre.ca/event/laudes-3-2/2025-12-03/
LOCATION:Sanctuaire Montmartre\, 1679\, chemin Saint-Louis\, Québec\, Québec\, G1S 1G5\, Canada
CATEGORIES:Offices religieux
END:VEVENT
BEGIN:VEVENT
DTSTART;TZID=America/Montreal:20251204T070000
DTEND;TZID=America/Montreal:20251204T072000
DTSTAMP:20260420T114116
CREATED:20251012T134426Z
LAST-MODIFIED:20251012T134538Z
UID:10009116-1764831600-1764832800@www.lemontmartre.ca
SUMMARY:Laudes
DESCRIPTION:
URL:https://www.lemontmartre.ca/event/laudes-3-2/2025-12-04/
LOCATION:Sanctuaire Montmartre\, 1679\, chemin Saint-Louis\, Québec\, Québec\, G1S 1G5\, Canada
CATEGORIES:Offices religieux
END:VEVENT
BEGIN:VEVENT
DTSTART;TZID=America/Montreal:20251205T070000
DTEND;TZID=America/Montreal:20251205T072000
DTSTAMP:20260420T114116
CREATED:20251012T134426Z
LAST-MODIFIED:20251012T134538Z
UID:10009117-1764918000-1764919200@www.lemontmartre.ca
SUMMARY:Laudes
DESCRIPTION:
URL:https://www.lemontmartre.ca/event/laudes-3-2/2025-12-05/
LOCATION:Sanctuaire Montmartre\, 1679\, chemin Saint-Louis\, Québec\, Québec\, G1S 1G5\, Canada
CATEGORIES:Offices religieux
END:VEVENT
BEGIN:VEVENT
DTSTART;TZID=America/Montreal:20251207T080000
DTEND;TZID=America/Montreal:20251207T082000
DTSTAMP:20260420T114116
CREATED:20250918T015045Z
LAST-MODIFIED:20250918T015045Z
UID:10009514-1765094400-1765095600@www.lemontmartre.ca
SUMMARY:Laudes
DESCRIPTION:
URL:https://www.lemontmartre.ca/event/laudes-2-2/2025-12-07/
LOCATION:Sanctuaire Montmartre\, 1679\, chemin Saint-Louis\, Québec\, Québec\, G1S 1G5\, Canada
CATEGORIES:Offices religieux
END:VEVENT
BEGIN:VEVENT
DTSTART;TZID=America/Montreal:20251208T070000
DTEND;TZID=America/Montreal:20251208T072000
DTSTAMP:20260420T114116
CREATED:20251012T134426Z
LAST-MODIFIED:20251012T134538Z
UID:10010082-1765177200-1765178400@www.lemontmartre.ca
SUMMARY:Laudes
DESCRIPTION:
URL:https://www.lemontmartre.ca/event/laudes-3-2/2025-12-08/
LOCATION:Sanctuaire Montmartre\, 1679\, chemin Saint-Louis\, Québec\, Québec\, G1S 1G5\, Canada
CATEGORIES:Offices religieux
END:VEVENT
BEGIN:VEVENT
DTSTART;TZID=America/Montreal:20251209T070000
DTEND;TZID=America/Montreal:20251209T072000
DTSTAMP:20260420T114116
CREATED:20251012T134426Z
LAST-MODIFIED:20251012T134538Z
UID:10009119-1765263600-1765264800@www.lemontmartre.ca
SUMMARY:Laudes
DESCRIPTION:
URL:https://www.lemontmartre.ca/event/laudes-3-2/2025-12-09/
LOCATION:Sanctuaire Montmartre\, 1679\, chemin Saint-Louis\, Québec\, Québec\, G1S 1G5\, Canada
CATEGORIES:Offices religieux
END:VEVENT
BEGIN:VEVENT
DTSTART;TZID=America/Montreal:20251210T070000
DTEND;TZID=America/Montreal:20251210T072000
DTSTAMP:20260420T114116
CREATED:20251012T134426Z
LAST-MODIFIED:20251012T134538Z
UID:10009120-1765350000-1765351200@www.lemontmartre.ca
SUMMARY:Laudes
DESCRIPTION:
URL:https://www.lemontmartre.ca/event/laudes-3-2/2025-12-10/
LOCATION:Sanctuaire Montmartre\, 1679\, chemin Saint-Louis\, Québec\, Québec\, G1S 1G5\, Canada
CATEGORIES:Offices religieux
END:VEVENT
BEGIN:VEVENT
DTSTART;TZID=America/Montreal:20251211T070000
DTEND;TZID=America/Montreal:20251211T072000
DTSTAMP:20260420T114116
CREATED:20251012T134426Z
LAST-MODIFIED:20251012T134538Z
UID:10009121-1765436400-1765437600@www.lemontmartre.ca
SUMMARY:Laudes
DESCRIPTION:
URL:https://www.lemontmartre.ca/event/laudes-3-2/2025-12-11/
LOCATION:Sanctuaire Montmartre\, 1679\, chemin Saint-Louis\, Québec\, Québec\, G1S 1G5\, Canada
CATEGORIES:Offices religieux
END:VEVENT
BEGIN:VEVENT
DTSTART;TZID=America/Montreal:20251212T070000
DTEND;TZID=America/Montreal:20251212T072000
DTSTAMP:20260420T114116
CREATED:20251012T134426Z
LAST-MODIFIED:20251012T134538Z
UID:10009122-1765522800-1765524000@www.lemontmartre.ca
SUMMARY:Laudes
DESCRIPTION:
URL:https://www.lemontmartre.ca/event/laudes-3-2/2025-12-12/
LOCATION:Sanctuaire Montmartre\, 1679\, chemin Saint-Louis\, Québec\, Québec\, G1S 1G5\, Canada
CATEGORIES:Offices religieux
END:VEVENT
BEGIN:VEVENT
DTSTART;TZID=America/Montreal:20251214T080000
DTEND;TZID=America/Montreal:20251214T082000
DTSTAMP:20260420T114116
CREATED:20250918T015045Z
LAST-MODIFIED:20250918T015045Z
UID:10009515-1765699200-1765700400@www.lemontmartre.ca
SUMMARY:Laudes
DESCRIPTION:
URL:https://www.lemontmartre.ca/event/laudes-2-2/2025-12-14/
LOCATION:Sanctuaire Montmartre\, 1679\, chemin Saint-Louis\, Québec\, Québec\, G1S 1G5\, Canada
CATEGORIES:Offices religieux
END:VEVENT
BEGIN:VEVENT
DTSTART;TZID=America/Montreal:20251215T070000
DTEND;TZID=America/Montreal:20251215T072000
DTSTAMP:20260420T114116
CREATED:20251012T134426Z
LAST-MODIFIED:20251012T134538Z
UID:10010083-1765782000-1765783200@www.lemontmartre.ca
SUMMARY:Laudes
DESCRIPTION:
URL:https://www.lemontmartre.ca/event/laudes-3-2/2025-12-15/
LOCATION:Sanctuaire Montmartre\, 1679\, chemin Saint-Louis\, Québec\, Québec\, G1S 1G5\, Canada
CATEGORIES:Offices religieux
END:VEVENT
BEGIN:VEVENT
DTSTART;TZID=America/Montreal:20251216T070000
DTEND;TZID=America/Montreal:20251216T072000
DTSTAMP:20260420T114116
CREATED:20251012T134426Z
LAST-MODIFIED:20251012T134538Z
UID:10009124-1765868400-1765869600@www.lemontmartre.ca
SUMMARY:Laudes
DESCRIPTION:
URL:https://www.lemontmartre.ca/event/laudes-3-2/2025-12-16/
LOCATION:Sanctuaire Montmartre\, 1679\, chemin Saint-Louis\, Québec\, Québec\, G1S 1G5\, Canada
CATEGORIES:Offices religieux
END:VEVENT
BEGIN:VEVENT
DTSTART;TZID=America/Montreal:20251217T070000
DTEND;TZID=America/Montreal:20251217T072000
DTSTAMP:20260420T114116
CREATED:20251012T134426Z
LAST-MODIFIED:20251012T134538Z
UID:10009125-1765954800-1765956000@www.lemontmartre.ca
SUMMARY:Laudes
DESCRIPTION:
URL:https://www.lemontmartre.ca/event/laudes-3-2/2025-12-17/
LOCATION:Sanctuaire Montmartre\, 1679\, chemin Saint-Louis\, Québec\, Québec\, G1S 1G5\, Canada
CATEGORIES:Offices religieux
END:VEVENT
BEGIN:VEVENT
DTSTART;TZID=America/Montreal:20251218T070000
DTEND;TZID=America/Montreal:20251218T072000
DTSTAMP:20260420T114116
CREATED:20251012T134426Z
LAST-MODIFIED:20251012T134538Z
UID:10009126-1766041200-1766042400@www.lemontmartre.ca
SUMMARY:Laudes
DESCRIPTION:
URL:https://www.lemontmartre.ca/event/laudes-3-2/2025-12-18/
LOCATION:Sanctuaire Montmartre\, 1679\, chemin Saint-Louis\, Québec\, Québec\, G1S 1G5\, Canada
CATEGORIES:Offices religieux
END:VEVENT
BEGIN:VEVENT
DTSTART;TZID=America/Montreal:20251219T070000
DTEND;TZID=America/Montreal:20251219T072000
DTSTAMP:20260420T114116
CREATED:20251012T134426Z
LAST-MODIFIED:20251012T134538Z
UID:10009127-1766127600-1766128800@www.lemontmartre.ca
SUMMARY:Laudes
DESCRIPTION:
URL:https://www.lemontmartre.ca/event/laudes-3-2/2025-12-19/
LOCATION:Sanctuaire Montmartre\, 1679\, chemin Saint-Louis\, Québec\, Québec\, G1S 1G5\, Canada
CATEGORIES:Offices religieux
END:VEVENT
BEGIN:VEVENT
DTSTART;TZID=America/Montreal:20251221T080000
DTEND;TZID=America/Montreal:20251221T082000
DTSTAMP:20260420T114116
CREATED:20250918T015045Z
LAST-MODIFIED:20250918T015045Z
UID:10009516-1766304000-1766305200@www.lemontmartre.ca
SUMMARY:Laudes
DESCRIPTION:
URL:https://www.lemontmartre.ca/event/laudes-2-2/2025-12-21/
LOCATION:Sanctuaire Montmartre\, 1679\, chemin Saint-Louis\, Québec\, Québec\, G1S 1G5\, Canada
CATEGORIES:Offices religieux
END:VEVENT
BEGIN:VEVENT
DTSTART;TZID=America/Montreal:20251222T070000
DTEND;TZID=America/Montreal:20251222T072000
DTSTAMP:20260420T114116
CREATED:20251012T134426Z
LAST-MODIFIED:20251012T134538Z
UID:10010084-1766386800-1766388000@www.lemontmartre.ca
SUMMARY:Laudes
DESCRIPTION:
URL:https://www.lemontmartre.ca/event/laudes-3-2/2025-12-22/
LOCATION:Sanctuaire Montmartre\, 1679\, chemin Saint-Louis\, Québec\, Québec\, G1S 1G5\, Canada
CATEGORIES:Offices religieux
END:VEVENT
BEGIN:VEVENT
DTSTART;TZID=America/Montreal:20251223T070000
DTEND;TZID=America/Montreal:20251223T072000
DTSTAMP:20260420T114116
CREATED:20251012T134426Z
LAST-MODIFIED:20251012T134538Z
UID:10009129-1766473200-1766474400@www.lemontmartre.ca
SUMMARY:Laudes
DESCRIPTION:
URL:https://www.lemontmartre.ca/event/laudes-3-2/2025-12-23/
LOCATION:Sanctuaire Montmartre\, 1679\, chemin Saint-Louis\, Québec\, Québec\, G1S 1G5\, Canada
CATEGORIES:Offices religieux
END:VEVENT
BEGIN:VEVENT
DTSTART;TZID=America/Montreal:20251224T070000
DTEND;TZID=America/Montreal:20251224T072000
DTSTAMP:20260420T114116
CREATED:20251012T134426Z
LAST-MODIFIED:20251012T134538Z
UID:10009130-1766559600-1766560800@www.lemontmartre.ca
SUMMARY:Laudes
DESCRIPTION:
URL:https://www.lemontmartre.ca/event/laudes-3-2/2025-12-24/
LOCATION:Sanctuaire Montmartre\, 1679\, chemin Saint-Louis\, Québec\, Québec\, G1S 1G5\, Canada
CATEGORIES:Offices religieux
END:VEVENT
BEGIN:VEVENT
DTSTART;TZID=America/Montreal:20251226T070000
DTEND;TZID=America/Montreal:20251226T072000
DTSTAMP:20260420T114116
CREATED:20251012T134426Z
LAST-MODIFIED:20251012T134538Z
UID:10009132-1766732400-1766733600@www.lemontmartre.ca
SUMMARY:Laudes
DESCRIPTION:
URL:https://www.lemontmartre.ca/event/laudes-3-2/2025-12-26/
LOCATION:Sanctuaire Montmartre\, 1679\, chemin Saint-Louis\, Québec\, Québec\, G1S 1G5\, Canada
CATEGORIES:Offices religieux
END:VEVENT
BEGIN:VEVENT
DTSTART;TZID=America/Montreal:20251228T080000
DTEND;TZID=America/Montreal:20251228T082000
DTSTAMP:20260420T114116
CREATED:20250918T015045Z
LAST-MODIFIED:20250918T015045Z
UID:10009517-1766908800-1766910000@www.lemontmartre.ca
SUMMARY:Laudes
DESCRIPTION:
URL:https://www.lemontmartre.ca/event/laudes-2-2/2025-12-28/
LOCATION:Sanctuaire Montmartre\, 1679\, chemin Saint-Louis\, Québec\, Québec\, G1S 1G5\, Canada
CATEGORIES:Offices religieux
END:VEVENT
BEGIN:VEVENT
DTSTART;TZID=America/Montreal:20251229T070000
DTEND;TZID=America/Montreal:20251229T072000
DTSTAMP:20260420T114116
CREATED:20251012T134426Z
LAST-MODIFIED:20251012T134538Z
UID:10010085-1766991600-1766992800@www.lemontmartre.ca
SUMMARY:Laudes
DESCRIPTION:
URL:https://www.lemontmartre.ca/event/laudes-3-2/2025-12-29/
LOCATION:Sanctuaire Montmartre\, 1679\, chemin Saint-Louis\, Québec\, Québec\, G1S 1G5\, Canada
CATEGORIES:Offices religieux
END:VEVENT
BEGIN:VEVENT
DTSTART;TZID=America/Montreal:20251230T070000
DTEND;TZID=America/Montreal:20251230T072000
DTSTAMP:20260420T114116
CREATED:20251012T134426Z
LAST-MODIFIED:20251012T134538Z
UID:10009134-1767078000-1767079200@www.lemontmartre.ca
SUMMARY:Laudes
DESCRIPTION:
URL:https://www.lemontmartre.ca/event/laudes-3-2/2025-12-30/
LOCATION:Sanctuaire Montmartre\, 1679\, chemin Saint-Louis\, Québec\, Québec\, G1S 1G5\, Canada
CATEGORIES:Offices religieux
END:VEVENT
BEGIN:VEVENT
DTSTART;TZID=America/Montreal:20251231T070000
DTEND;TZID=America/Montreal:20251231T072000
DTSTAMP:20260420T114116
CREATED:20251012T134426Z
LAST-MODIFIED:20251012T134538Z
UID:10009135-1767164400-1767165600@www.lemontmartre.ca
SUMMARY:Laudes
DESCRIPTION:
URL:https://www.lemontmartre.ca/event/laudes-3-2/2025-12-31/
LOCATION:Sanctuaire Montmartre\, 1679\, chemin Saint-Louis\, Québec\, Québec\, G1S 1G5\, Canada
CATEGORIES:Offices religieux
END:VEVENT
END:VCALENDAR