BEGIN:VCALENDAR
VERSION:2.0
PRODID:-//Le Montmartre - ECPv6.15.13//NONSGML v1.0//EN
CALSCALE:GREGORIAN
METHOD:PUBLISH
X-ORIGINAL-URL:https://www.lemontmartre.ca
X-WR-CALDESC:Évènements pour Le Montmartre
REFRESH-INTERVAL;VALUE=DURATION:PT1H
X-Robots-Tag:noindex
X-PUBLISHED-TTL:PT1H
BEGIN:VTIMEZONE
TZID:America/Montreal
BEGIN:DAYLIGHT
TZOFFSETFROM:-0500
TZOFFSETTO:-0400
TZNAME:EDT
DTSTART:20240310T070000
END:DAYLIGHT
BEGIN:STANDARD
TZOFFSETFROM:-0400
TZOFFSETTO:-0500
TZNAME:EST
DTSTART:20241103T060000
END:STANDARD
BEGIN:DAYLIGHT
TZOFFSETFROM:-0500
TZOFFSETTO:-0400
TZNAME:EDT
DTSTART:20250309T070000
END:DAYLIGHT
BEGIN:STANDARD
TZOFFSETFROM:-0400
TZOFFSETTO:-0500
TZNAME:EST
DTSTART:20251102T060000
END:STANDARD
BEGIN:DAYLIGHT
TZOFFSETFROM:-0500
TZOFFSETTO:-0400
TZNAME:EDT
DTSTART:20260308T070000
END:DAYLIGHT
BEGIN:STANDARD
TZOFFSETFROM:-0400
TZOFFSETTO:-0500
TZNAME:EST
DTSTART:20261101T060000
END:STANDARD
END:VTIMEZONE
BEGIN:VEVENT
DTSTART;TZID=America/Montreal:20251001T070000
DTEND;TZID=America/Montreal:20251001T072000
DTSTAMP:20260423T031709
CREATED:20251012T134426Z
LAST-MODIFIED:20251012T134538Z
UID:10010063-1759302000-1759303200@www.lemontmartre.ca
SUMMARY:Laudes
DESCRIPTION:
URL:https://www.lemontmartre.ca/event/laudes-3-2/2025-10-01/
LOCATION:Sanctuaire Montmartre\, 1679\, chemin Saint-Louis\, Québec\, Québec\, G1S 1G5\, Canada
CATEGORIES:Offices religieux
END:VEVENT
BEGIN:VEVENT
DTSTART;TZID=America/Montreal:20251002T070000
DTEND;TZID=America/Montreal:20251002T072000
DTSTAMP:20260423T031709
CREATED:20251012T134426Z
LAST-MODIFIED:20251012T134538Z
UID:10010064-1759388400-1759389600@www.lemontmartre.ca
SUMMARY:Laudes
DESCRIPTION:
URL:https://www.lemontmartre.ca/event/laudes-3-2/2025-10-02/
LOCATION:Sanctuaire Montmartre\, 1679\, chemin Saint-Louis\, Québec\, Québec\, G1S 1G5\, Canada
CATEGORIES:Offices religieux
END:VEVENT
BEGIN:VEVENT
DTSTART;TZID=America/Montreal:20251003T070000
DTEND;TZID=America/Montreal:20251003T072000
DTSTAMP:20260423T031709
CREATED:20251012T134426Z
LAST-MODIFIED:20251012T134538Z
UID:10010065-1759474800-1759476000@www.lemontmartre.ca
SUMMARY:Laudes
DESCRIPTION:
URL:https://www.lemontmartre.ca/event/laudes-3-2/2025-10-03/
LOCATION:Sanctuaire Montmartre\, 1679\, chemin Saint-Louis\, Québec\, Québec\, G1S 1G5\, Canada
CATEGORIES:Offices religieux
END:VEVENT
BEGIN:VEVENT
DTSTART;TZID=America/Montreal:20251005T080000
DTEND;TZID=America/Montreal:20251005T082000
DTSTAMP:20260423T031709
CREATED:20250918T015045Z
LAST-MODIFIED:20250918T015045Z
UID:10009505-1759651200-1759652400@www.lemontmartre.ca
SUMMARY:Laudes
DESCRIPTION:
URL:https://www.lemontmartre.ca/event/laudes-2-2/2025-10-05/
LOCATION:Sanctuaire Montmartre\, 1679\, chemin Saint-Louis\, Québec\, Québec\, G1S 1G5\, Canada
CATEGORIES:Offices religieux
END:VEVENT
BEGIN:VEVENT
DTSTART;TZID=America/Montreal:20251006T070000
DTEND;TZID=America/Montreal:20251006T072000
DTSTAMP:20260423T031709
CREATED:20251012T134426Z
LAST-MODIFIED:20251012T134538Z
UID:10010074-1759734000-1759735200@www.lemontmartre.ca
SUMMARY:Laudes
DESCRIPTION:
URL:https://www.lemontmartre.ca/event/laudes-3-2/2025-10-06/
LOCATION:Sanctuaire Montmartre\, 1679\, chemin Saint-Louis\, Québec\, Québec\, G1S 1G5\, Canada
CATEGORIES:Offices religieux
END:VEVENT
BEGIN:VEVENT
DTSTART;TZID=America/Montreal:20251007T070000
DTEND;TZID=America/Montreal:20251007T072000
DTSTAMP:20260423T031709
CREATED:20251012T134426Z
LAST-MODIFIED:20251012T134538Z
UID:10010066-1759820400-1759821600@www.lemontmartre.ca
SUMMARY:Laudes
DESCRIPTION:
URL:https://www.lemontmartre.ca/event/laudes-3-2/2025-10-07/
LOCATION:Sanctuaire Montmartre\, 1679\, chemin Saint-Louis\, Québec\, Québec\, G1S 1G5\, Canada
CATEGORIES:Offices religieux
END:VEVENT
BEGIN:VEVENT
DTSTART;TZID=America/Montreal:20251008T070000
DTEND;TZID=America/Montreal:20251008T072000
DTSTAMP:20260423T031709
CREATED:20251012T134426Z
LAST-MODIFIED:20251012T134538Z
UID:10010067-1759906800-1759908000@www.lemontmartre.ca
SUMMARY:Laudes
DESCRIPTION:
URL:https://www.lemontmartre.ca/event/laudes-3-2/2025-10-08/
LOCATION:Sanctuaire Montmartre\, 1679\, chemin Saint-Louis\, Québec\, Québec\, G1S 1G5\, Canada
CATEGORIES:Offices religieux
END:VEVENT
BEGIN:VEVENT
DTSTART;TZID=America/Montreal:20251009T070000
DTEND;TZID=America/Montreal:20251009T072000
DTSTAMP:20260423T031709
CREATED:20251012T134426Z
LAST-MODIFIED:20251012T134538Z
UID:10010068-1759993200-1759994400@www.lemontmartre.ca
SUMMARY:Laudes
DESCRIPTION:
URL:https://www.lemontmartre.ca/event/laudes-3-2/2025-10-09/
LOCATION:Sanctuaire Montmartre\, 1679\, chemin Saint-Louis\, Québec\, Québec\, G1S 1G5\, Canada
CATEGORIES:Offices religieux
END:VEVENT
BEGIN:VEVENT
DTSTART;TZID=America/Montreal:20251010T070000
DTEND;TZID=America/Montreal:20251010T072000
DTSTAMP:20260423T031709
CREATED:20251012T134426Z
LAST-MODIFIED:20251012T134538Z
UID:10010069-1760079600-1760080800@www.lemontmartre.ca
SUMMARY:Laudes
DESCRIPTION:
URL:https://www.lemontmartre.ca/event/laudes-3-2/2025-10-10/
LOCATION:Sanctuaire Montmartre\, 1679\, chemin Saint-Louis\, Québec\, Québec\, G1S 1G5\, Canada
CATEGORIES:Offices religieux
END:VEVENT
BEGIN:VEVENT
DTSTART;TZID=America/Montreal:20251012T080000
DTEND;TZID=America/Montreal:20251012T082000
DTSTAMP:20260423T031709
CREATED:20250918T015045Z
LAST-MODIFIED:20250918T015045Z
UID:10009506-1760256000-1760257200@www.lemontmartre.ca
SUMMARY:Laudes
DESCRIPTION:
URL:https://www.lemontmartre.ca/event/laudes-2-2/2025-10-12/
LOCATION:Sanctuaire Montmartre\, 1679\, chemin Saint-Louis\, Québec\, Québec\, G1S 1G5\, Canada
CATEGORIES:Offices religieux
END:VEVENT
BEGIN:VEVENT
DTSTART;VALUE=DATE:20251013
DTEND;VALUE=DATE:20251014
DTSTAMP:20260423T031709
CREATED:20251012T000845Z
LAST-MODIFIED:20251012T000845Z
UID:10010045-1760313600-1760399999@www.lemontmartre.ca
SUMMARY:Férié - Action de grâce
DESCRIPTION:Laudes à 8h\, et une seule célébration eucharistique à 11h15
URL:https://www.lemontmartre.ca/event/ferie-action-de-grace/
LOCATION:Québec
CATEGORIES:Autres
END:VEVENT
BEGIN:VEVENT
DTSTART;TZID=America/Montreal:20251013T080000
DTEND;TZID=America/Montreal:20251013T082000
DTSTAMP:20260423T031709
CREATED:20251012T135748Z
LAST-MODIFIED:20251012T135831Z
UID:10010135-1760342400-1760343600@www.lemontmartre.ca
SUMMARY:Laudes
DESCRIPTION:
URL:https://www.lemontmartre.ca/event/laudes/
LOCATION:Sanctuaire Montmartre\, 1679\, chemin Saint-Louis\, Québec\, Québec\, G1S 1G5\, Canada
CATEGORIES:Offices religieux
END:VEVENT
BEGIN:VEVENT
DTSTART;TZID=America/Montreal:20251014T070000
DTEND;TZID=America/Montreal:20251014T072000
DTSTAMP:20260423T031709
CREATED:20251012T134426Z
LAST-MODIFIED:20251012T134538Z
UID:10009079-1760425200-1760426400@www.lemontmartre.ca
SUMMARY:Laudes
DESCRIPTION:
URL:https://www.lemontmartre.ca/event/laudes-3-2/2025-10-14/
LOCATION:Sanctuaire Montmartre\, 1679\, chemin Saint-Louis\, Québec\, Québec\, G1S 1G5\, Canada
CATEGORIES:Offices religieux
END:VEVENT
BEGIN:VEVENT
DTSTART;TZID=America/Montreal:20251015T070000
DTEND;TZID=America/Montreal:20251015T072000
DTSTAMP:20260423T031709
CREATED:20251012T134426Z
LAST-MODIFIED:20251012T134538Z
UID:10009080-1760511600-1760512800@www.lemontmartre.ca
SUMMARY:Laudes
DESCRIPTION:
URL:https://www.lemontmartre.ca/event/laudes-3-2/2025-10-15/
LOCATION:Sanctuaire Montmartre\, 1679\, chemin Saint-Louis\, Québec\, Québec\, G1S 1G5\, Canada
CATEGORIES:Offices religieux
END:VEVENT
BEGIN:VEVENT
DTSTART;TZID=America/Montreal:20251016T070000
DTEND;TZID=America/Montreal:20251016T072000
DTSTAMP:20260423T031709
CREATED:20251012T134426Z
LAST-MODIFIED:20251012T134538Z
UID:10009081-1760598000-1760599200@www.lemontmartre.ca
SUMMARY:Laudes
DESCRIPTION:
URL:https://www.lemontmartre.ca/event/laudes-3-2/2025-10-16/
LOCATION:Sanctuaire Montmartre\, 1679\, chemin Saint-Louis\, Québec\, Québec\, G1S 1G5\, Canada
CATEGORIES:Offices religieux
END:VEVENT
BEGIN:VEVENT
DTSTART;TZID=America/Montreal:20251017T070000
DTEND;TZID=America/Montreal:20251017T072000
DTSTAMP:20260423T031709
CREATED:20251012T134426Z
LAST-MODIFIED:20251012T134538Z
UID:10009082-1760684400-1760685600@www.lemontmartre.ca
SUMMARY:Laudes
DESCRIPTION:
URL:https://www.lemontmartre.ca/event/laudes-3-2/2025-10-17/
LOCATION:Sanctuaire Montmartre\, 1679\, chemin Saint-Louis\, Québec\, Québec\, G1S 1G5\, Canada
CATEGORIES:Offices religieux
END:VEVENT
BEGIN:VEVENT
DTSTART;TZID=America/Montreal:20251019T080000
DTEND;TZID=America/Montreal:20251019T082000
DTSTAMP:20260423T031709
CREATED:20250918T015045Z
LAST-MODIFIED:20250918T015045Z
UID:10009507-1760860800-1760862000@www.lemontmartre.ca
SUMMARY:Laudes
DESCRIPTION:
URL:https://www.lemontmartre.ca/event/laudes-2-2/2025-10-19/
LOCATION:Sanctuaire Montmartre\, 1679\, chemin Saint-Louis\, Québec\, Québec\, G1S 1G5\, Canada
CATEGORIES:Offices religieux
END:VEVENT
BEGIN:VEVENT
DTSTART;TZID=America/Montreal:20251020T070000
DTEND;TZID=America/Montreal:20251020T072000
DTSTAMP:20260423T031709
CREATED:20251012T134426Z
LAST-MODIFIED:20251012T134538Z
UID:10010075-1760943600-1760944800@www.lemontmartre.ca
SUMMARY:Laudes
DESCRIPTION:
URL:https://www.lemontmartre.ca/event/laudes-3-2/2025-10-20/
LOCATION:Sanctuaire Montmartre\, 1679\, chemin Saint-Louis\, Québec\, Québec\, G1S 1G5\, Canada
CATEGORIES:Offices religieux
END:VEVENT
BEGIN:VEVENT
DTSTART;TZID=America/Montreal:20251021T070000
DTEND;TZID=America/Montreal:20251021T072000
DTSTAMP:20260423T031709
CREATED:20251012T134426Z
LAST-MODIFIED:20251012T134538Z
UID:10009084-1761030000-1761031200@www.lemontmartre.ca
SUMMARY:Laudes
DESCRIPTION:
URL:https://www.lemontmartre.ca/event/laudes-3-2/2025-10-21/
LOCATION:Sanctuaire Montmartre\, 1679\, chemin Saint-Louis\, Québec\, Québec\, G1S 1G5\, Canada
CATEGORIES:Offices religieux
END:VEVENT
BEGIN:VEVENT
DTSTART;TZID=America/Montreal:20251022T070000
DTEND;TZID=America/Montreal:20251022T072000
DTSTAMP:20260423T031709
CREATED:20251012T134426Z
LAST-MODIFIED:20251012T134538Z
UID:10009085-1761116400-1761117600@www.lemontmartre.ca
SUMMARY:Laudes
DESCRIPTION:
URL:https://www.lemontmartre.ca/event/laudes-3-2/2025-10-22/
LOCATION:Sanctuaire Montmartre\, 1679\, chemin Saint-Louis\, Québec\, Québec\, G1S 1G5\, Canada
CATEGORIES:Offices religieux
END:VEVENT
BEGIN:VEVENT
DTSTART;TZID=America/Montreal:20251023T070000
DTEND;TZID=America/Montreal:20251023T072000
DTSTAMP:20260423T031709
CREATED:20251012T134426Z
LAST-MODIFIED:20251012T134538Z
UID:10009086-1761202800-1761204000@www.lemontmartre.ca
SUMMARY:Laudes
DESCRIPTION:
URL:https://www.lemontmartre.ca/event/laudes-3-2/2025-10-23/
LOCATION:Sanctuaire Montmartre\, 1679\, chemin Saint-Louis\, Québec\, Québec\, G1S 1G5\, Canada
CATEGORIES:Offices religieux
END:VEVENT
BEGIN:VEVENT
DTSTART;TZID=America/Montreal:20251024T070000
DTEND;TZID=America/Montreal:20251024T072000
DTSTAMP:20260423T031709
CREATED:20251012T134426Z
LAST-MODIFIED:20251012T134538Z
UID:10009087-1761289200-1761290400@www.lemontmartre.ca
SUMMARY:Laudes
DESCRIPTION:
URL:https://www.lemontmartre.ca/event/laudes-3-2/2025-10-24/
LOCATION:Sanctuaire Montmartre\, 1679\, chemin Saint-Louis\, Québec\, Québec\, G1S 1G5\, Canada
CATEGORIES:Offices religieux
END:VEVENT
BEGIN:VEVENT
DTSTART;TZID=America/Montreal:20251026T080000
DTEND;TZID=America/Montreal:20251026T082000
DTSTAMP:20260423T031709
CREATED:20250918T015045Z
LAST-MODIFIED:20250918T015045Z
UID:10009508-1761465600-1761466800@www.lemontmartre.ca
SUMMARY:Laudes
DESCRIPTION:
URL:https://www.lemontmartre.ca/event/laudes-2-2/2025-10-26/
LOCATION:Sanctuaire Montmartre\, 1679\, chemin Saint-Louis\, Québec\, Québec\, G1S 1G5\, Canada
CATEGORIES:Offices religieux
END:VEVENT
BEGIN:VEVENT
DTSTART;TZID=America/Montreal:20251027T070000
DTEND;TZID=America/Montreal:20251027T072000
DTSTAMP:20260423T031709
CREATED:20251012T134426Z
LAST-MODIFIED:20251012T134538Z
UID:10010076-1761548400-1761549600@www.lemontmartre.ca
SUMMARY:Laudes
DESCRIPTION:
URL:https://www.lemontmartre.ca/event/laudes-3-2/2025-10-27/
LOCATION:Sanctuaire Montmartre\, 1679\, chemin Saint-Louis\, Québec\, Québec\, G1S 1G5\, Canada
CATEGORIES:Offices religieux
END:VEVENT
BEGIN:VEVENT
DTSTART;TZID=America/Montreal:20251028T070000
DTEND;TZID=America/Montreal:20251028T072000
DTSTAMP:20260423T031709
CREATED:20251012T134426Z
LAST-MODIFIED:20251012T134538Z
UID:10009089-1761634800-1761636000@www.lemontmartre.ca
SUMMARY:Laudes
DESCRIPTION:
URL:https://www.lemontmartre.ca/event/laudes-3-2/2025-10-28/
LOCATION:Sanctuaire Montmartre\, 1679\, chemin Saint-Louis\, Québec\, Québec\, G1S 1G5\, Canada
CATEGORIES:Offices religieux
END:VEVENT
BEGIN:VEVENT
DTSTART;TZID=America/Montreal:20251029T070000
DTEND;TZID=America/Montreal:20251029T072000
DTSTAMP:20260423T031709
CREATED:20251012T134426Z
LAST-MODIFIED:20251012T134538Z
UID:10009090-1761721200-1761722400@www.lemontmartre.ca
SUMMARY:Laudes
DESCRIPTION:
URL:https://www.lemontmartre.ca/event/laudes-3-2/2025-10-29/
LOCATION:Sanctuaire Montmartre\, 1679\, chemin Saint-Louis\, Québec\, Québec\, G1S 1G5\, Canada
CATEGORIES:Offices religieux
END:VEVENT
BEGIN:VEVENT
DTSTART;TZID=America/Montreal:20251030T070000
DTEND;TZID=America/Montreal:20251030T072000
DTSTAMP:20260423T031709
CREATED:20251012T134426Z
LAST-MODIFIED:20251012T134538Z
UID:10009091-1761807600-1761808800@www.lemontmartre.ca
SUMMARY:Laudes
DESCRIPTION:
URL:https://www.lemontmartre.ca/event/laudes-3-2/2025-10-30/
LOCATION:Sanctuaire Montmartre\, 1679\, chemin Saint-Louis\, Québec\, Québec\, G1S 1G5\, Canada
CATEGORIES:Offices religieux
END:VEVENT
BEGIN:VEVENT
DTSTART;TZID=America/Montreal:20251031T070000
DTEND;TZID=America/Montreal:20251031T072000
DTSTAMP:20260423T031709
CREATED:20251012T134426Z
LAST-MODIFIED:20251012T134538Z
UID:10009092-1761894000-1761895200@www.lemontmartre.ca
SUMMARY:Laudes
DESCRIPTION:
URL:https://www.lemontmartre.ca/event/laudes-3-2/2025-10-31/
LOCATION:Sanctuaire Montmartre\, 1679\, chemin Saint-Louis\, Québec\, Québec\, G1S 1G5\, Canada
CATEGORIES:Offices religieux
END:VEVENT
END:VCALENDAR