BEGIN:VCALENDAR
VERSION:2.0
PRODID:-//Le Montmartre - ECPv6.15.13//NONSGML v1.0//EN
CALSCALE:GREGORIAN
METHOD:PUBLISH
X-WR-CALNAME:Le Montmartre
X-ORIGINAL-URL:https://www.lemontmartre.ca
X-WR-CALDESC:Évènements pour Le Montmartre
REFRESH-INTERVAL;VALUE=DURATION:PT1H
X-Robots-Tag:noindex
X-PUBLISHED-TTL:PT1H
BEGIN:VTIMEZONE
TZID:America/Montreal
BEGIN:DAYLIGHT
TZOFFSETFROM:-0500
TZOFFSETTO:-0400
TZNAME:EDT
DTSTART:20240310T070000
END:DAYLIGHT
BEGIN:STANDARD
TZOFFSETFROM:-0400
TZOFFSETTO:-0500
TZNAME:EST
DTSTART:20241103T060000
END:STANDARD
BEGIN:DAYLIGHT
TZOFFSETFROM:-0500
TZOFFSETTO:-0400
TZNAME:EDT
DTSTART:20250309T070000
END:DAYLIGHT
BEGIN:STANDARD
TZOFFSETFROM:-0400
TZOFFSETTO:-0500
TZNAME:EST
DTSTART:20251102T060000
END:STANDARD
BEGIN:DAYLIGHT
TZOFFSETFROM:-0500
TZOFFSETTO:-0400
TZNAME:EDT
DTSTART:20260308T070000
END:DAYLIGHT
BEGIN:STANDARD
TZOFFSETFROM:-0400
TZOFFSETTO:-0500
TZNAME:EST
DTSTART:20261101T060000
END:STANDARD
END:VTIMEZONE
BEGIN:VEVENT
DTSTART;TZID=America/Montreal:20250902T070000
DTEND;TZID=America/Montreal:20250902T072000
DTSTAMP:20260422T180411
CREATED:20251012T134426Z
LAST-MODIFIED:20251012T134538Z
UID:10010046-1756796400-1756797600@www.lemontmartre.ca
SUMMARY:Laudes
DESCRIPTION:
URL:https://www.lemontmartre.ca/event/laudes-3-2/2025-09-02/
LOCATION:Sanctuaire Montmartre\, 1679\, chemin Saint-Louis\, Québec\, Québec\, G1S 1G5\, Canada
CATEGORIES:Offices religieux
END:VEVENT
BEGIN:VEVENT
DTSTART;TZID=America/Montreal:20250903T070000
DTEND;TZID=America/Montreal:20250903T072000
DTSTAMP:20260422T180411
CREATED:20251012T134426Z
LAST-MODIFIED:20251012T134538Z
UID:10010047-1756882800-1756884000@www.lemontmartre.ca
SUMMARY:Laudes
DESCRIPTION:
URL:https://www.lemontmartre.ca/event/laudes-3-2/2025-09-03/
LOCATION:Sanctuaire Montmartre\, 1679\, chemin Saint-Louis\, Québec\, Québec\, G1S 1G5\, Canada
CATEGORIES:Offices religieux
END:VEVENT
BEGIN:VEVENT
DTSTART;TZID=America/Montreal:20250904T070000
DTEND;TZID=America/Montreal:20250904T072000
DTSTAMP:20260422T180411
CREATED:20251012T134426Z
LAST-MODIFIED:20251012T134538Z
UID:10010048-1756969200-1756970400@www.lemontmartre.ca
SUMMARY:Laudes
DESCRIPTION:
URL:https://www.lemontmartre.ca/event/laudes-3-2/2025-09-04/
LOCATION:Sanctuaire Montmartre\, 1679\, chemin Saint-Louis\, Québec\, Québec\, G1S 1G5\, Canada
CATEGORIES:Offices religieux
END:VEVENT
BEGIN:VEVENT
DTSTART;TZID=America/Montreal:20250905T070000
DTEND;TZID=America/Montreal:20250905T072000
DTSTAMP:20260422T180411
CREATED:20251012T134426Z
LAST-MODIFIED:20251012T134538Z
UID:10010049-1757055600-1757056800@www.lemontmartre.ca
SUMMARY:Laudes
DESCRIPTION:
URL:https://www.lemontmartre.ca/event/laudes-3-2/2025-09-05/
LOCATION:Sanctuaire Montmartre\, 1679\, chemin Saint-Louis\, Québec\, Québec\, G1S 1G5\, Canada
CATEGORIES:Offices religieux
END:VEVENT
BEGIN:VEVENT
DTSTART;TZID=America/Montreal:20250907T080000
DTEND;TZID=America/Montreal:20250907T082000
DTSTAMP:20260422T180411
CREATED:20250918T015045Z
LAST-MODIFIED:20250918T015045Z
UID:10009503-1757232000-1757233200@www.lemontmartre.ca
SUMMARY:Laudes
DESCRIPTION:
URL:https://www.lemontmartre.ca/event/laudes-2-2/2025-09-07/
LOCATION:Sanctuaire Montmartre\, 1679\, chemin Saint-Louis\, Québec\, Québec\, G1S 1G5\, Canada
CATEGORIES:Offices religieux
END:VEVENT
BEGIN:VEVENT
DTSTART;TZID=America/Montreal:20250908T070000
DTEND;TZID=America/Montreal:20250908T072000
DTSTAMP:20260422T180411
CREATED:20251012T134426Z
LAST-MODIFIED:20251012T134538Z
UID:10010070-1757314800-1757316000@www.lemontmartre.ca
SUMMARY:Laudes
DESCRIPTION:
URL:https://www.lemontmartre.ca/event/laudes-3-2/2025-09-08/
LOCATION:Sanctuaire Montmartre\, 1679\, chemin Saint-Louis\, Québec\, Québec\, G1S 1G5\, Canada
CATEGORIES:Offices religieux
END:VEVENT
BEGIN:VEVENT
DTSTART;TZID=America/Montreal:20250909T070000
DTEND;TZID=America/Montreal:20250909T072000
DTSTAMP:20260422T180411
CREATED:20251012T134426Z
LAST-MODIFIED:20251012T134538Z
UID:10010050-1757401200-1757402400@www.lemontmartre.ca
SUMMARY:Laudes
DESCRIPTION:
URL:https://www.lemontmartre.ca/event/laudes-3-2/2025-09-09/
LOCATION:Sanctuaire Montmartre\, 1679\, chemin Saint-Louis\, Québec\, Québec\, G1S 1G5\, Canada
CATEGORIES:Offices religieux
END:VEVENT
BEGIN:VEVENT
DTSTART;TZID=America/Montreal:20250910T070000
DTEND;TZID=America/Montreal:20250910T072000
DTSTAMP:20260422T180411
CREATED:20251012T134426Z
LAST-MODIFIED:20251012T134538Z
UID:10010051-1757487600-1757488800@www.lemontmartre.ca
SUMMARY:Laudes
DESCRIPTION:
URL:https://www.lemontmartre.ca/event/laudes-3-2/2025-09-10/
LOCATION:Sanctuaire Montmartre\, 1679\, chemin Saint-Louis\, Québec\, Québec\, G1S 1G5\, Canada
CATEGORIES:Offices religieux
END:VEVENT
BEGIN:VEVENT
DTSTART;TZID=America/Montreal:20250911T070000
DTEND;TZID=America/Montreal:20250911T072000
DTSTAMP:20260422T180411
CREATED:20251012T134426Z
LAST-MODIFIED:20251012T134538Z
UID:10010052-1757574000-1757575200@www.lemontmartre.ca
SUMMARY:Laudes
DESCRIPTION:
URL:https://www.lemontmartre.ca/event/laudes-3-2/2025-09-11/
LOCATION:Sanctuaire Montmartre\, 1679\, chemin Saint-Louis\, Québec\, Québec\, G1S 1G5\, Canada
CATEGORIES:Offices religieux
END:VEVENT
BEGIN:VEVENT
DTSTART;TZID=America/Montreal:20250912T070000
DTEND;TZID=America/Montreal:20250912T072000
DTSTAMP:20260422T180411
CREATED:20251012T134426Z
LAST-MODIFIED:20251012T134538Z
UID:10010053-1757660400-1757661600@www.lemontmartre.ca
SUMMARY:Laudes
DESCRIPTION:
URL:https://www.lemontmartre.ca/event/laudes-3-2/2025-09-12/
LOCATION:Sanctuaire Montmartre\, 1679\, chemin Saint-Louis\, Québec\, Québec\, G1S 1G5\, Canada
CATEGORIES:Offices religieux
END:VEVENT
BEGIN:VEVENT
DTSTART;TZID=America/Montreal:20250914T080000
DTEND;TZID=America/Montreal:20250914T082000
DTSTAMP:20260422T180411
CREATED:20250918T015045Z
LAST-MODIFIED:20250918T015045Z
UID:10009570-1757836800-1757838000@www.lemontmartre.ca
SUMMARY:Laudes
DESCRIPTION:
URL:https://www.lemontmartre.ca/event/laudes-2-2/2025-09-14/
LOCATION:Sanctuaire Montmartre\, 1679\, chemin Saint-Louis\, Québec\, Québec\, G1S 1G5\, Canada
CATEGORIES:Offices religieux
END:VEVENT
BEGIN:VEVENT
DTSTART;TZID=America/Montreal:20250915T070000
DTEND;TZID=America/Montreal:20250915T072000
DTSTAMP:20260422T180411
CREATED:20251012T134426Z
LAST-MODIFIED:20251012T134538Z
UID:10010071-1757919600-1757920800@www.lemontmartre.ca
SUMMARY:Laudes
DESCRIPTION:
URL:https://www.lemontmartre.ca/event/laudes-3-2/2025-09-15/
LOCATION:Sanctuaire Montmartre\, 1679\, chemin Saint-Louis\, Québec\, Québec\, G1S 1G5\, Canada
CATEGORIES:Offices religieux
END:VEVENT
BEGIN:VEVENT
DTSTART;TZID=America/Montreal:20250916T070000
DTEND;TZID=America/Montreal:20250916T072000
DTSTAMP:20260422T180411
CREATED:20251012T134426Z
LAST-MODIFIED:20251012T134538Z
UID:10010054-1758006000-1758007200@www.lemontmartre.ca
SUMMARY:Laudes
DESCRIPTION:
URL:https://www.lemontmartre.ca/event/laudes-3-2/2025-09-16/
LOCATION:Sanctuaire Montmartre\, 1679\, chemin Saint-Louis\, Québec\, Québec\, G1S 1G5\, Canada
CATEGORIES:Offices religieux
END:VEVENT
BEGIN:VEVENT
DTSTART;TZID=America/Montreal:20250917T070000
DTEND;TZID=America/Montreal:20250917T072000
DTSTAMP:20260422T180411
CREATED:20251012T134426Z
LAST-MODIFIED:20251012T134538Z
UID:10010055-1758092400-1758093600@www.lemontmartre.ca
SUMMARY:Laudes
DESCRIPTION:
URL:https://www.lemontmartre.ca/event/laudes-3-2/2025-09-17/
LOCATION:Sanctuaire Montmartre\, 1679\, chemin Saint-Louis\, Québec\, Québec\, G1S 1G5\, Canada
CATEGORIES:Offices religieux
END:VEVENT
BEGIN:VEVENT
DTSTART;TZID=America/Montreal:20250918T070000
DTEND;TZID=America/Montreal:20250918T072000
DTSTAMP:20260422T180411
CREATED:20251012T134426Z
LAST-MODIFIED:20251012T134538Z
UID:10010056-1758178800-1758180000@www.lemontmartre.ca
SUMMARY:Laudes
DESCRIPTION:
URL:https://www.lemontmartre.ca/event/laudes-3-2/2025-09-18/
LOCATION:Sanctuaire Montmartre\, 1679\, chemin Saint-Louis\, Québec\, Québec\, G1S 1G5\, Canada
CATEGORIES:Offices religieux
END:VEVENT
BEGIN:VEVENT
DTSTART;TZID=America/Montreal:20250919T070000
DTEND;TZID=America/Montreal:20250919T072000
DTSTAMP:20260422T180411
CREATED:20251012T134426Z
LAST-MODIFIED:20251012T134538Z
UID:10010057-1758265200-1758266400@www.lemontmartre.ca
SUMMARY:Laudes
DESCRIPTION:
URL:https://www.lemontmartre.ca/event/laudes-3-2/2025-09-19/
LOCATION:Sanctuaire Montmartre\, 1679\, chemin Saint-Louis\, Québec\, Québec\, G1S 1G5\, Canada
CATEGORIES:Offices religieux
END:VEVENT
BEGIN:VEVENT
DTSTART;TZID=America/Montreal:20250921T080000
DTEND;TZID=America/Montreal:20250921T082000
DTSTAMP:20260422T180411
CREATED:20250918T015045Z
LAST-MODIFIED:20250918T015045Z
UID:10009571-1758441600-1758442800@www.lemontmartre.ca
SUMMARY:Laudes
DESCRIPTION:
URL:https://www.lemontmartre.ca/event/laudes-2-2/2025-09-21/
LOCATION:Sanctuaire Montmartre\, 1679\, chemin Saint-Louis\, Québec\, Québec\, G1S 1G5\, Canada
CATEGORIES:Offices religieux
END:VEVENT
BEGIN:VEVENT
DTSTART;TZID=America/Montreal:20250922T070000
DTEND;TZID=America/Montreal:20250922T072000
DTSTAMP:20260422T180411
CREATED:20251012T134426Z
LAST-MODIFIED:20251012T134538Z
UID:10010072-1758524400-1758525600@www.lemontmartre.ca
SUMMARY:Laudes
DESCRIPTION:
URL:https://www.lemontmartre.ca/event/laudes-3-2/2025-09-22/
LOCATION:Sanctuaire Montmartre\, 1679\, chemin Saint-Louis\, Québec\, Québec\, G1S 1G5\, Canada
CATEGORIES:Offices religieux
END:VEVENT
BEGIN:VEVENT
DTSTART;TZID=America/Montreal:20250923T070000
DTEND;TZID=America/Montreal:20250923T072000
DTSTAMP:20260422T180411
CREATED:20251012T134426Z
LAST-MODIFIED:20251012T134538Z
UID:10010058-1758610800-1758612000@www.lemontmartre.ca
SUMMARY:Laudes
DESCRIPTION:
URL:https://www.lemontmartre.ca/event/laudes-3-2/2025-09-23/
LOCATION:Sanctuaire Montmartre\, 1679\, chemin Saint-Louis\, Québec\, Québec\, G1S 1G5\, Canada
CATEGORIES:Offices religieux
END:VEVENT
BEGIN:VEVENT
DTSTART;TZID=America/Montreal:20250924T070000
DTEND;TZID=America/Montreal:20250924T072000
DTSTAMP:20260422T180411
CREATED:20251012T134426Z
LAST-MODIFIED:20251012T134538Z
UID:10010059-1758697200-1758698400@www.lemontmartre.ca
SUMMARY:Laudes
DESCRIPTION:
URL:https://www.lemontmartre.ca/event/laudes-3-2/2025-09-24/
LOCATION:Sanctuaire Montmartre\, 1679\, chemin Saint-Louis\, Québec\, Québec\, G1S 1G5\, Canada
CATEGORIES:Offices religieux
END:VEVENT
BEGIN:VEVENT
DTSTART;TZID=America/Montreal:20250925T070000
DTEND;TZID=America/Montreal:20250925T072000
DTSTAMP:20260422T180411
CREATED:20251012T134426Z
LAST-MODIFIED:20251012T134538Z
UID:10010060-1758783600-1758784800@www.lemontmartre.ca
SUMMARY:Laudes
DESCRIPTION:
URL:https://www.lemontmartre.ca/event/laudes-3-2/2025-09-25/
LOCATION:Sanctuaire Montmartre\, 1679\, chemin Saint-Louis\, Québec\, Québec\, G1S 1G5\, Canada
CATEGORIES:Offices religieux
END:VEVENT
BEGIN:VEVENT
DTSTART;TZID=America/Montreal:20250926T070000
DTEND;TZID=America/Montreal:20250926T072000
DTSTAMP:20260422T180411
CREATED:20251012T134426Z
LAST-MODIFIED:20251012T134538Z
UID:10010061-1758870000-1758871200@www.lemontmartre.ca
SUMMARY:Laudes
DESCRIPTION:
URL:https://www.lemontmartre.ca/event/laudes-3-2/2025-09-26/
LOCATION:Sanctuaire Montmartre\, 1679\, chemin Saint-Louis\, Québec\, Québec\, G1S 1G5\, Canada
CATEGORIES:Offices religieux
END:VEVENT
BEGIN:VEVENT
DTSTART;TZID=America/Montreal:20250928T080000
DTEND;TZID=America/Montreal:20250928T082000
DTSTAMP:20260422T180412
CREATED:20250918T015045Z
LAST-MODIFIED:20250918T015045Z
UID:10009504-1759046400-1759047600@www.lemontmartre.ca
SUMMARY:Laudes
DESCRIPTION:
URL:https://www.lemontmartre.ca/event/laudes-2-2/2025-09-28/
LOCATION:Sanctuaire Montmartre\, 1679\, chemin Saint-Louis\, Québec\, Québec\, G1S 1G5\, Canada
CATEGORIES:Offices religieux
END:VEVENT
BEGIN:VEVENT
DTSTART;TZID=America/Montreal:20250929T070000
DTEND;TZID=America/Montreal:20250929T072000
DTSTAMP:20260422T180412
CREATED:20251012T134426Z
LAST-MODIFIED:20251012T134538Z
UID:10010073-1759129200-1759130400@www.lemontmartre.ca
SUMMARY:Laudes
DESCRIPTION:
URL:https://www.lemontmartre.ca/event/laudes-3-2/2025-09-29/
LOCATION:Sanctuaire Montmartre\, 1679\, chemin Saint-Louis\, Québec\, Québec\, G1S 1G5\, Canada
CATEGORIES:Offices religieux
END:VEVENT
BEGIN:VEVENT
DTSTART;TZID=America/Montreal:20250930T070000
DTEND;TZID=America/Montreal:20250930T072000
DTSTAMP:20260422T180412
CREATED:20251012T134426Z
LAST-MODIFIED:20251012T134538Z
UID:10010062-1759215600-1759216800@www.lemontmartre.ca
SUMMARY:Laudes
DESCRIPTION:
URL:https://www.lemontmartre.ca/event/laudes-3-2/2025-09-30/
LOCATION:Sanctuaire Montmartre\, 1679\, chemin Saint-Louis\, Québec\, Québec\, G1S 1G5\, Canada
CATEGORIES:Offices religieux
END:VEVENT
END:VCALENDAR