BEGIN:VCALENDAR
VERSION:2.0
PRODID:-//Le Montmartre - ECPv6.15.13//NONSGML v1.0//EN
CALSCALE:GREGORIAN
METHOD:PUBLISH
X-ORIGINAL-URL:https://www.lemontmartre.ca
X-WR-CALDESC:Évènements pour Le Montmartre
REFRESH-INTERVAL;VALUE=DURATION:PT1H
X-Robots-Tag:noindex
X-PUBLISHED-TTL:PT1H
BEGIN:VTIMEZONE
TZID:America/Montreal
BEGIN:DAYLIGHT
TZOFFSETFROM:-0500
TZOFFSETTO:-0400
TZNAME:EDT
DTSTART:20250309T070000
END:DAYLIGHT
BEGIN:STANDARD
TZOFFSETFROM:-0400
TZOFFSETTO:-0500
TZNAME:EST
DTSTART:20251102T060000
END:STANDARD
BEGIN:DAYLIGHT
TZOFFSETFROM:-0500
TZOFFSETTO:-0400
TZNAME:EDT
DTSTART:20260308T070000
END:DAYLIGHT
BEGIN:STANDARD
TZOFFSETFROM:-0400
TZOFFSETTO:-0500
TZNAME:EST
DTSTART:20261101T060000
END:STANDARD
BEGIN:DAYLIGHT
TZOFFSETFROM:-0500
TZOFFSETTO:-0400
TZNAME:EDT
DTSTART:20270314T070000
END:DAYLIGHT
BEGIN:STANDARD
TZOFFSETFROM:-0400
TZOFFSETTO:-0500
TZNAME:EST
DTSTART:20271107T060000
END:STANDARD
END:VTIMEZONE
BEGIN:VEVENT
DTSTART;TZID=America/Montreal:20260211T183000
DTEND;TZID=America/Montreal:20260211T193000
DTSTAMP:20260420T024933
CREATED:20260124T012346Z
LAST-MODIFIED:20260124T012514Z
UID:10012304-1770834600-1770838200@www.lemontmartre.ca
SUMMARY:Journée mondiale des malades. Célébration de l'Eucharistie avec l'Onction des malades à 18h30
DESCRIPTION:À la Chapelle du Centre « Culture et Foi »\n(En partenariat avec les Chevaliers de Malte) \nInformation : Edouard Shatov 418-681-7357\, poste 2023
URL:https://www.lemontmartre.ca/event/journee-mondiale-des-malades-celebration-de-leucharistie-avec-lonction-des-malades-a-18h30/
LOCATION:Centre Le Montmartre
CATEGORIES:Offices religieux
END:VEVENT
END:VCALENDAR