BEGIN:VCALENDAR
VERSION:2.0
PRODID:-//Le Montmartre - ECPv6.15.13//NONSGML v1.0//EN
CALSCALE:GREGORIAN
METHOD:PUBLISH
X-ORIGINAL-URL:https://www.lemontmartre.ca
X-WR-CALDESC:Évènements pour Le Montmartre
REFRESH-INTERVAL;VALUE=DURATION:PT1H
X-Robots-Tag:noindex
X-PUBLISHED-TTL:PT1H
BEGIN:VTIMEZONE
TZID:America/Montreal
BEGIN:DAYLIGHT
TZOFFSETFROM:-0500
TZOFFSETTO:-0400
TZNAME:EDT
DTSTART:20230312T070000
END:DAYLIGHT
BEGIN:STANDARD
TZOFFSETFROM:-0400
TZOFFSETTO:-0500
TZNAME:EST
DTSTART:20231105T060000
END:STANDARD
BEGIN:DAYLIGHT
TZOFFSETFROM:-0500
TZOFFSETTO:-0400
TZNAME:EDT
DTSTART:20240310T070000
END:DAYLIGHT
BEGIN:STANDARD
TZOFFSETFROM:-0400
TZOFFSETTO:-0500
TZNAME:EST
DTSTART:20241103T060000
END:STANDARD
BEGIN:DAYLIGHT
TZOFFSETFROM:-0500
TZOFFSETTO:-0400
TZNAME:EDT
DTSTART:20250309T070000
END:DAYLIGHT
BEGIN:STANDARD
TZOFFSETFROM:-0400
TZOFFSETTO:-0500
TZNAME:EST
DTSTART:20251102T060000
END:STANDARD
END:VTIMEZONE
BEGIN:VEVENT
DTSTART;TZID=America/Montreal:20241101T173000
DTEND;TZID=America/Montreal:20241101T190000
DTSTAMP:20260423T153252
CREATED:20241018T233959Z
LAST-MODIFIED:20241026T191315Z
UID:10005432-1730482200-1730487600@www.lemontmartre.ca
SUMMARY:À l’orgue de Notre-Dame.  Être le passeur du Souffle et de l’Éternel
DESCRIPTION:SOIRÉE-RENCONTRE AU MONTMARTRE Avec Olivier Latry\, organiste\, professeur d’orgue au Conservatoire de Paris\, concertiste\, improvisateur et titulaire du grand orgue de Notre-Dame de Paris
URL:https://www.lemontmartre.ca/event/33662/
LOCATION:Centre Le Montmartre
CATEGORIES:Conférences et débats
ATTACH;FMTTYPE=image/jpeg:https://www.lemontmartre.ca/wp-content/uploads/2024/10/SOIREE_RENCONTRE-AU-MONTMARTRE_1_NOVEMBRE_2024.jpg
END:VEVENT
END:VCALENDAR