BEGIN:VCALENDAR
VERSION:2.0
PRODID:-//Le Montmartre - ECPv6.15.13//NONSGML v1.0//EN
CALSCALE:GREGORIAN
METHOD:PUBLISH
X-WR-CALNAME:Le Montmartre
X-ORIGINAL-URL:https://www.lemontmartre.ca
X-WR-CALDESC:Évènements pour Le Montmartre
REFRESH-INTERVAL;VALUE=DURATION:PT1H
X-Robots-Tag:noindex
X-PUBLISHED-TTL:PT1H
BEGIN:VTIMEZONE
TZID:America/Montreal
BEGIN:DAYLIGHT
TZOFFSETFROM:-0500
TZOFFSETTO:-0400
TZNAME:EDT
DTSTART:20240310T070000
END:DAYLIGHT
BEGIN:STANDARD
TZOFFSETFROM:-0400
TZOFFSETTO:-0500
TZNAME:EST
DTSTART:20241103T060000
END:STANDARD
BEGIN:DAYLIGHT
TZOFFSETFROM:-0500
TZOFFSETTO:-0400
TZNAME:EDT
DTSTART:20250309T070000
END:DAYLIGHT
BEGIN:STANDARD
TZOFFSETFROM:-0400
TZOFFSETTO:-0500
TZNAME:EST
DTSTART:20251102T060000
END:STANDARD
BEGIN:DAYLIGHT
TZOFFSETFROM:-0500
TZOFFSETTO:-0400
TZNAME:EDT
DTSTART:20260308T070000
END:DAYLIGHT
BEGIN:STANDARD
TZOFFSETFROM:-0400
TZOFFSETTO:-0500
TZNAME:EST
DTSTART:20261101T060000
END:STANDARD
END:VTIMEZONE
BEGIN:VEVENT
DTSTART;TZID=America/Montreal:20251103T193000
DTEND;TZID=America/Montreal:20251103T210000
DTSTAMP:20260420T104044
CREATED:20250904T031334Z
LAST-MODIFIED:20250909T123606Z
UID:10008603-1762198200-1762203600@www.lemontmartre.ca
SUMMARY:« RETROUVER LA CONFIANCE. AGIR DANS L’INTELLIGENCE DU COEUR » Comprendre « CREDO – JE CROIS » en image avec et grâce à René Kuder
DESCRIPTION:Formation en PRÉSENTIEL et en ZOOM avec Édouard Shatov \n*ZOOM sera accessible seulement aux personnes qui habitent à l’extérieur de la ville de Québec et pour qui il est impossible de se rendre à la rencontre en présentiel.
URL:https://www.lemontmartre.ca/event/retrouver-la-confiance-agir-dans-lintelligence-du-coeur-comprendre-credo-je-crois-en-image-avec-et-grace-a-rene-kuder/2025-11-03/
LOCATION:Sanctuaire Montmartre\, 1679\, chemin Saint-Louis\, Québec\, Québec\, G1S 1G5\, Canada
CATEGORIES:Formations
ATTACH;FMTTYPE=image/jpeg:https://www.lemontmartre.ca/wp-content/uploads/2025/09/Formation-Credo-Edouard-Shatov-Automne-2025-Facebook-Cover-scaled.jpg
END:VEVENT
BEGIN:VEVENT
DTSTART;TZID=America/Montreal:20251117T193000
DTEND;TZID=America/Montreal:20251117T210000
DTSTAMP:20260420T104044
CREATED:20250904T031334Z
LAST-MODIFIED:20250909T123606Z
UID:10008604-1763407800-1763413200@www.lemontmartre.ca
SUMMARY:« RETROUVER LA CONFIANCE. AGIR DANS L’INTELLIGENCE DU COEUR » Comprendre « CREDO – JE CROIS » en image avec et grâce à René Kuder
DESCRIPTION:Formation en PRÉSENTIEL et en ZOOM avec Édouard Shatov \n*ZOOM sera accessible seulement aux personnes qui habitent à l’extérieur de la ville de Québec et pour qui il est impossible de se rendre à la rencontre en présentiel.
URL:https://www.lemontmartre.ca/event/retrouver-la-confiance-agir-dans-lintelligence-du-coeur-comprendre-credo-je-crois-en-image-avec-et-grace-a-rene-kuder/2025-11-17/
LOCATION:Sanctuaire Montmartre\, 1679\, chemin Saint-Louis\, Québec\, Québec\, G1S 1G5\, Canada
CATEGORIES:Formations
ATTACH;FMTTYPE=image/jpeg:https://www.lemontmartre.ca/wp-content/uploads/2025/09/Formation-Credo-Edouard-Shatov-Automne-2025-Facebook-Cover-scaled.jpg
END:VEVENT
END:VCALENDAR