BEGIN:VCALENDAR
VERSION:2.0
PRODID:-//Le Montmartre - ECPv6.15.13//NONSGML v1.0//EN
CALSCALE:GREGORIAN
METHOD:PUBLISH
X-ORIGINAL-URL:https://www.lemontmartre.ca
X-WR-CALDESC:Évènements pour Le Montmartre
REFRESH-INTERVAL;VALUE=DURATION:PT1H
X-Robots-Tag:noindex
X-PUBLISHED-TTL:PT1H
BEGIN:VTIMEZONE
TZID:America/Montreal
BEGIN:DAYLIGHT
TZOFFSETFROM:-0500
TZOFFSETTO:-0400
TZNAME:EDT
DTSTART:20250309T070000
END:DAYLIGHT
BEGIN:STANDARD
TZOFFSETFROM:-0400
TZOFFSETTO:-0500
TZNAME:EST
DTSTART:20251102T060000
END:STANDARD
BEGIN:DAYLIGHT
TZOFFSETFROM:-0500
TZOFFSETTO:-0400
TZNAME:EDT
DTSTART:20260308T070000
END:DAYLIGHT
BEGIN:STANDARD
TZOFFSETFROM:-0400
TZOFFSETTO:-0500
TZNAME:EST
DTSTART:20261101T060000
END:STANDARD
BEGIN:DAYLIGHT
TZOFFSETFROM:-0500
TZOFFSETTO:-0400
TZNAME:EDT
DTSTART:20270314T070000
END:DAYLIGHT
BEGIN:STANDARD
TZOFFSETFROM:-0400
TZOFFSETTO:-0500
TZNAME:EST
DTSTART:20271107T060000
END:STANDARD
END:VTIMEZONE
BEGIN:VEVENT
DTSTART;TZID=America/Montreal:20260605T193000
DTEND;TZID=America/Montreal:20260605T210000
DTSTAMP:20260419T123105
CREATED:20260105T002759Z
LAST-MODIFIED:20260105T002759Z
UID:10012202-1780687800-1780693200@www.lemontmartre.ca
SUMMARY:Messe suivie de l'adoration avec chants de Taizé
DESCRIPTION:
URL:https://www.lemontmartre.ca/event/messe-suivie-de-ladoration-avec-chants-de-taize-2/2026-06-05/
LOCATION:Sanctuaire Montmartre\, 1679\, chemin Saint-Louis\, Québec\, Québec\, G1S 1G5\, Canada
CATEGORIES:Offices religieux
END:VEVENT
BEGIN:VEVENT
DTSTART;VALUE=DATE:20260610
DTEND;VALUE=DATE:20260611
DTSTAMP:20260419T123105
CREATED:20251024T120449Z
LAST-MODIFIED:20251024T120631Z
UID:10010152-1781049600-1781135999@www.lemontmartre.ca
SUMMARY:Retraite du Sacré-Cœur en temps du Centenaire
DESCRIPTION:
URL:https://www.lemontmartre.ca/event/retraite-du-sacre-coeur-en-temps-du-centenaire/2026-06-10/
LOCATION:Centre Le Montmartre
CATEGORIES:Prière et intériorité
END:VEVENT
BEGIN:VEVENT
DTSTART;VALUE=DATE:20260611
DTEND;VALUE=DATE:20260612
DTSTAMP:20260419T123105
CREATED:20251024T120449Z
LAST-MODIFIED:20251024T120631Z
UID:10010153-1781136000-1781222399@www.lemontmartre.ca
SUMMARY:Retraite du Sacré-Cœur en temps du Centenaire
DESCRIPTION:
URL:https://www.lemontmartre.ca/event/retraite-du-sacre-coeur-en-temps-du-centenaire/2026-06-11/
LOCATION:Centre Le Montmartre
CATEGORIES:Prière et intériorité
END:VEVENT
BEGIN:VEVENT
DTSTART;VALUE=DATE:20260612
DTEND;VALUE=DATE:20260613
DTSTAMP:20260419T123105
CREATED:20251024T120449Z
LAST-MODIFIED:20251024T120631Z
UID:10010154-1781222400-1781308799@www.lemontmartre.ca
SUMMARY:Retraite du Sacré-Cœur en temps du Centenaire
DESCRIPTION:
URL:https://www.lemontmartre.ca/event/retraite-du-sacre-coeur-en-temps-du-centenaire/2026-06-12/
LOCATION:Centre Le Montmartre
CATEGORIES:Prière et intériorité
END:VEVENT
END:VCALENDAR