BEGIN:VCALENDAR
VERSION:2.0
PRODID:-//Le Montmartre - ECPv6.15.13//NONSGML v1.0//EN
CALSCALE:GREGORIAN
METHOD:PUBLISH
X-WR-CALNAME:Le Montmartre
X-ORIGINAL-URL:https://www.lemontmartre.ca
X-WR-CALDESC:Évènements pour Le Montmartre
REFRESH-INTERVAL;VALUE=DURATION:PT1H
X-Robots-Tag:noindex
X-PUBLISHED-TTL:PT1H
BEGIN:VTIMEZONE
TZID:America/Montreal
BEGIN:DAYLIGHT
TZOFFSETFROM:-0500
TZOFFSETTO:-0400
TZNAME:EDT
DTSTART:20250309T070000
END:DAYLIGHT
BEGIN:STANDARD
TZOFFSETFROM:-0400
TZOFFSETTO:-0500
TZNAME:EST
DTSTART:20251102T060000
END:STANDARD
BEGIN:DAYLIGHT
TZOFFSETFROM:-0500
TZOFFSETTO:-0400
TZNAME:EDT
DTSTART:20260308T070000
END:DAYLIGHT
BEGIN:STANDARD
TZOFFSETFROM:-0400
TZOFFSETTO:-0500
TZNAME:EST
DTSTART:20261101T060000
END:STANDARD
BEGIN:DAYLIGHT
TZOFFSETFROM:-0500
TZOFFSETTO:-0400
TZNAME:EDT
DTSTART:20270314T070000
END:DAYLIGHT
BEGIN:STANDARD
TZOFFSETFROM:-0400
TZOFFSETTO:-0500
TZNAME:EST
DTSTART:20271107T060000
END:STANDARD
END:VTIMEZONE
BEGIN:VEVENT
DTSTART;TZID=America/Montreal:20260423T180000
DTEND;TZID=America/Montreal:20260423T210000
DTSTAMP:20260419T181839
CREATED:20251125T165519Z
LAST-MODIFIED:20251125T165519Z
UID:10010652-1776967200-1776978000@www.lemontmartre.ca
SUMMARY:Groupe St-Antoine 19H
DESCRIPTION:
URL:https://www.lemontmartre.ca/event/groupe-st-antoine-19h-5/2026-04-23/
CATEGORIES:C. Staub
END:VEVENT
BEGIN:VEVENT
DTSTART;TZID=America/Montreal:20260430T180000
DTEND;TZID=America/Montreal:20260430T210000
DTSTAMP:20260419T181839
CREATED:20251125T165519Z
LAST-MODIFIED:20251125T165519Z
UID:10010653-1777572000-1777582800@www.lemontmartre.ca
SUMMARY:Groupe St-Antoine 19H
DESCRIPTION:
URL:https://www.lemontmartre.ca/event/groupe-st-antoine-19h-5/2026-04-30/
CATEGORIES:C. Staub
END:VEVENT
BEGIN:VEVENT
DTSTART;TZID=America/Montreal:20260507T180000
DTEND;TZID=America/Montreal:20260507T210000
DTSTAMP:20260419T181839
CREATED:20251125T165519Z
LAST-MODIFIED:20251125T165519Z
UID:10010654-1778176800-1778187600@www.lemontmartre.ca
SUMMARY:Groupe St-Antoine 19H
DESCRIPTION:
URL:https://www.lemontmartre.ca/event/groupe-st-antoine-19h-5/2026-05-07/
CATEGORIES:C. Staub
END:VEVENT
BEGIN:VEVENT
DTSTART;TZID=America/Montreal:20260514T180000
DTEND;TZID=America/Montreal:20260514T210000
DTSTAMP:20260419T181839
CREATED:20251125T165519Z
LAST-MODIFIED:20251125T165519Z
UID:10010655-1778781600-1778792400@www.lemontmartre.ca
SUMMARY:Groupe St-Antoine 19H
DESCRIPTION:
URL:https://www.lemontmartre.ca/event/groupe-st-antoine-19h-5/2026-05-14/
CATEGORIES:C. Staub
END:VEVENT
BEGIN:VEVENT
DTSTART;TZID=America/Montreal:20260521T180000
DTEND;TZID=America/Montreal:20260521T210000
DTSTAMP:20260419T181839
CREATED:20251125T165519Z
LAST-MODIFIED:20251125T165519Z
UID:10010656-1779386400-1779397200@www.lemontmartre.ca
SUMMARY:Groupe St-Antoine 19H
DESCRIPTION:
URL:https://www.lemontmartre.ca/event/groupe-st-antoine-19h-5/2026-05-21/
CATEGORIES:C. Staub
END:VEVENT
BEGIN:VEVENT
DTSTART;TZID=America/Montreal:20260528T180000
DTEND;TZID=America/Montreal:20260528T210000
DTSTAMP:20260419T181839
CREATED:20251125T165519Z
LAST-MODIFIED:20251125T165519Z
UID:10010657-1779991200-1780002000@www.lemontmartre.ca
SUMMARY:Groupe St-Antoine 19H
DESCRIPTION:
URL:https://www.lemontmartre.ca/event/groupe-st-antoine-19h-5/2026-05-28/
CATEGORIES:C. Staub
END:VEVENT
BEGIN:VEVENT
DTSTART;TZID=America/Montreal:20260604T180000
DTEND;TZID=America/Montreal:20260604T210000
DTSTAMP:20260419T181839
CREATED:20251125T165519Z
LAST-MODIFIED:20251125T165519Z
UID:10010658-1780596000-1780606800@www.lemontmartre.ca
SUMMARY:Groupe St-Antoine 19H
DESCRIPTION:
URL:https://www.lemontmartre.ca/event/groupe-st-antoine-19h-5/2026-06-04/
CATEGORIES:C. Staub
END:VEVENT
BEGIN:VEVENT
DTSTART;TZID=America/Montreal:20260611T180000
DTEND;TZID=America/Montreal:20260611T210000
DTSTAMP:20260419T181839
CREATED:20251125T165519Z
LAST-MODIFIED:20251125T165519Z
UID:10010659-1781200800-1781211600@www.lemontmartre.ca
SUMMARY:Groupe St-Antoine 19H
DESCRIPTION:
URL:https://www.lemontmartre.ca/event/groupe-st-antoine-19h-5/2026-06-11/
CATEGORIES:C. Staub
END:VEVENT
BEGIN:VEVENT
DTSTART;TZID=America/Montreal:20260618T180000
DTEND;TZID=America/Montreal:20260618T210000
DTSTAMP:20260419T181839
CREATED:20251125T165519Z
LAST-MODIFIED:20251125T165519Z
UID:10010660-1781805600-1781816400@www.lemontmartre.ca
SUMMARY:Groupe St-Antoine 19H
DESCRIPTION:
URL:https://www.lemontmartre.ca/event/groupe-st-antoine-19h-5/2026-06-18/
CATEGORIES:C. Staub
END:VEVENT
BEGIN:VEVENT
DTSTART;TZID=America/Montreal:20260625T180000
DTEND;TZID=America/Montreal:20260625T210000
DTSTAMP:20260419T181839
CREATED:20251125T165519Z
LAST-MODIFIED:20251125T165519Z
UID:10010661-1782410400-1782421200@www.lemontmartre.ca
SUMMARY:Groupe St-Antoine 19H
DESCRIPTION:
URL:https://www.lemontmartre.ca/event/groupe-st-antoine-19h-5/2026-06-25/
CATEGORIES:C. Staub
END:VEVENT
BEGIN:VEVENT
DTSTART;TZID=America/Montreal:20260702T180000
DTEND;TZID=America/Montreal:20260702T210000
DTSTAMP:20260419T181839
CREATED:20251125T165519Z
LAST-MODIFIED:20251125T165519Z
UID:10010662-1783015200-1783026000@www.lemontmartre.ca
SUMMARY:Groupe St-Antoine 19H
DESCRIPTION:
URL:https://www.lemontmartre.ca/event/groupe-st-antoine-19h-5/2026-07-02/
CATEGORIES:C. Staub
END:VEVENT
BEGIN:VEVENT
DTSTART;TZID=America/Montreal:20260709T180000
DTEND;TZID=America/Montreal:20260709T210000
DTSTAMP:20260419T181839
CREATED:20251125T165519Z
LAST-MODIFIED:20251125T165519Z
UID:10010663-1783620000-1783630800@www.lemontmartre.ca
SUMMARY:Groupe St-Antoine 19H
DESCRIPTION:
URL:https://www.lemontmartre.ca/event/groupe-st-antoine-19h-5/2026-07-09/
CATEGORIES:C. Staub
END:VEVENT
BEGIN:VEVENT
DTSTART;TZID=America/Montreal:20260716T180000
DTEND;TZID=America/Montreal:20260716T210000
DTSTAMP:20260419T181839
CREATED:20251125T165519Z
LAST-MODIFIED:20251125T165519Z
UID:10010664-1784224800-1784235600@www.lemontmartre.ca
SUMMARY:Groupe St-Antoine 19H
DESCRIPTION:
URL:https://www.lemontmartre.ca/event/groupe-st-antoine-19h-5/2026-07-16/
CATEGORIES:C. Staub
END:VEVENT
BEGIN:VEVENT
DTSTART;TZID=America/Montreal:20260723T180000
DTEND;TZID=America/Montreal:20260723T210000
DTSTAMP:20260419T181839
CREATED:20251125T165519Z
LAST-MODIFIED:20251125T165519Z
UID:10010665-1784829600-1784840400@www.lemontmartre.ca
SUMMARY:Groupe St-Antoine 19H
DESCRIPTION:
URL:https://www.lemontmartre.ca/event/groupe-st-antoine-19h-5/2026-07-23/
CATEGORIES:C. Staub
END:VEVENT
BEGIN:VEVENT
DTSTART;TZID=America/Montreal:20260730T180000
DTEND;TZID=America/Montreal:20260730T210000
DTSTAMP:20260419T181839
CREATED:20251125T165519Z
LAST-MODIFIED:20251125T165519Z
UID:10010666-1785434400-1785445200@www.lemontmartre.ca
SUMMARY:Groupe St-Antoine 19H
DESCRIPTION:
URL:https://www.lemontmartre.ca/event/groupe-st-antoine-19h-5/2026-07-30/
CATEGORIES:C. Staub
END:VEVENT
BEGIN:VEVENT
DTSTART;TZID=America/Montreal:20260806T180000
DTEND;TZID=America/Montreal:20260806T210000
DTSTAMP:20260419T181839
CREATED:20251125T165519Z
LAST-MODIFIED:20251125T165519Z
UID:10010667-1786039200-1786050000@www.lemontmartre.ca
SUMMARY:Groupe St-Antoine 19H
DESCRIPTION:
URL:https://www.lemontmartre.ca/event/groupe-st-antoine-19h-5/2026-08-06/
CATEGORIES:C. Staub
END:VEVENT
BEGIN:VEVENT
DTSTART;TZID=America/Montreal:20260813T180000
DTEND;TZID=America/Montreal:20260813T210000
DTSTAMP:20260419T181839
CREATED:20251125T165519Z
LAST-MODIFIED:20251125T165519Z
UID:10010668-1786644000-1786654800@www.lemontmartre.ca
SUMMARY:Groupe St-Antoine 19H
DESCRIPTION:
URL:https://www.lemontmartre.ca/event/groupe-st-antoine-19h-5/2026-08-13/
CATEGORIES:C. Staub
END:VEVENT
BEGIN:VEVENT
DTSTART;TZID=America/Montreal:20260820T180000
DTEND;TZID=America/Montreal:20260820T210000
DTSTAMP:20260419T181839
CREATED:20251125T165519Z
LAST-MODIFIED:20251125T165519Z
UID:10010669-1787248800-1787259600@www.lemontmartre.ca
SUMMARY:Groupe St-Antoine 19H
DESCRIPTION:
URL:https://www.lemontmartre.ca/event/groupe-st-antoine-19h-5/2026-08-20/
CATEGORIES:C. Staub
END:VEVENT
BEGIN:VEVENT
DTSTART;TZID=America/Montreal:20260827T180000
DTEND;TZID=America/Montreal:20260827T210000
DTSTAMP:20260419T181839
CREATED:20251125T165519Z
LAST-MODIFIED:20251125T165519Z
UID:10010670-1787853600-1787864400@www.lemontmartre.ca
SUMMARY:Groupe St-Antoine 19H
DESCRIPTION:
URL:https://www.lemontmartre.ca/event/groupe-st-antoine-19h-5/2026-08-27/
CATEGORIES:C. Staub
END:VEVENT
BEGIN:VEVENT
DTSTART;TZID=America/Montreal:20260903T180000
DTEND;TZID=America/Montreal:20260903T210000
DTSTAMP:20260419T181839
CREATED:20251125T165519Z
LAST-MODIFIED:20251125T165519Z
UID:10010671-1788458400-1788469200@www.lemontmartre.ca
SUMMARY:Groupe St-Antoine 19H
DESCRIPTION:
URL:https://www.lemontmartre.ca/event/groupe-st-antoine-19h-5/2026-09-03/
CATEGORIES:C. Staub
END:VEVENT
BEGIN:VEVENT
DTSTART;TZID=America/Montreal:20260910T180000
DTEND;TZID=America/Montreal:20260910T210000
DTSTAMP:20260419T181839
CREATED:20251125T165519Z
LAST-MODIFIED:20251125T165519Z
UID:10010672-1789063200-1789074000@www.lemontmartre.ca
SUMMARY:Groupe St-Antoine 19H
DESCRIPTION:
URL:https://www.lemontmartre.ca/event/groupe-st-antoine-19h-5/2026-09-10/
CATEGORIES:C. Staub
END:VEVENT
BEGIN:VEVENT
DTSTART;TZID=America/Montreal:20260917T180000
DTEND;TZID=America/Montreal:20260917T210000
DTSTAMP:20260419T181839
CREATED:20251125T165519Z
LAST-MODIFIED:20251125T165519Z
UID:10010673-1789668000-1789678800@www.lemontmartre.ca
SUMMARY:Groupe St-Antoine 19H
DESCRIPTION:
URL:https://www.lemontmartre.ca/event/groupe-st-antoine-19h-5/2026-09-17/
CATEGORIES:C. Staub
END:VEVENT
BEGIN:VEVENT
DTSTART;TZID=America/Montreal:20260924T180000
DTEND;TZID=America/Montreal:20260924T210000
DTSTAMP:20260419T181839
CREATED:20251125T165519Z
LAST-MODIFIED:20251125T165519Z
UID:10010674-1790272800-1790283600@www.lemontmartre.ca
SUMMARY:Groupe St-Antoine 19H
DESCRIPTION:
URL:https://www.lemontmartre.ca/event/groupe-st-antoine-19h-5/2026-09-24/
CATEGORIES:C. Staub
END:VEVENT
BEGIN:VEVENT
DTSTART;TZID=America/Montreal:20261001T180000
DTEND;TZID=America/Montreal:20261001T210000
DTSTAMP:20260419T181839
CREATED:20251125T165519Z
LAST-MODIFIED:20251125T165519Z
UID:10010675-1790877600-1790888400@www.lemontmartre.ca
SUMMARY:Groupe St-Antoine 19H
DESCRIPTION:
URL:https://www.lemontmartre.ca/event/groupe-st-antoine-19h-5/2026-10-01/
CATEGORIES:C. Staub
END:VEVENT
BEGIN:VEVENT
DTSTART;TZID=America/Montreal:20261008T180000
DTEND;TZID=America/Montreal:20261008T210000
DTSTAMP:20260419T181839
CREATED:20251125T165519Z
LAST-MODIFIED:20251125T165519Z
UID:10010676-1791482400-1791493200@www.lemontmartre.ca
SUMMARY:Groupe St-Antoine 19H
DESCRIPTION:
URL:https://www.lemontmartre.ca/event/groupe-st-antoine-19h-5/2026-10-08/
CATEGORIES:C. Staub
END:VEVENT
BEGIN:VEVENT
DTSTART;TZID=America/Montreal:20261015T180000
DTEND;TZID=America/Montreal:20261015T210000
DTSTAMP:20260419T181839
CREATED:20251125T165519Z
LAST-MODIFIED:20251125T165519Z
UID:10010677-1792087200-1792098000@www.lemontmartre.ca
SUMMARY:Groupe St-Antoine 19H
DESCRIPTION:
URL:https://www.lemontmartre.ca/event/groupe-st-antoine-19h-5/2026-10-15/
CATEGORIES:C. Staub
END:VEVENT
BEGIN:VEVENT
DTSTART;TZID=America/Montreal:20261022T180000
DTEND;TZID=America/Montreal:20261022T210000
DTSTAMP:20260419T181839
CREATED:20251125T165519Z
LAST-MODIFIED:20251125T165519Z
UID:10010678-1792692000-1792702800@www.lemontmartre.ca
SUMMARY:Groupe St-Antoine 19H
DESCRIPTION:
URL:https://www.lemontmartre.ca/event/groupe-st-antoine-19h-5/2026-10-22/
CATEGORIES:C. Staub
END:VEVENT
BEGIN:VEVENT
DTSTART;TZID=America/Montreal:20261029T180000
DTEND;TZID=America/Montreal:20261029T210000
DTSTAMP:20260419T181839
CREATED:20251125T165519Z
LAST-MODIFIED:20251125T165519Z
UID:10010679-1793296800-1793307600@www.lemontmartre.ca
SUMMARY:Groupe St-Antoine 19H
DESCRIPTION:
URL:https://www.lemontmartre.ca/event/groupe-st-antoine-19h-5/2026-10-29/
CATEGORIES:C. Staub
END:VEVENT
BEGIN:VEVENT
DTSTART;TZID=America/Montreal:20261105T180000
DTEND;TZID=America/Montreal:20261105T210000
DTSTAMP:20260419T181839
CREATED:20251125T165519Z
LAST-MODIFIED:20251125T165519Z
UID:10010680-1793901600-1793912400@www.lemontmartre.ca
SUMMARY:Groupe St-Antoine 19H
DESCRIPTION:
URL:https://www.lemontmartre.ca/event/groupe-st-antoine-19h-5/2026-11-05/
CATEGORIES:C. Staub
END:VEVENT
BEGIN:VEVENT
DTSTART;TZID=America/Montreal:20261112T180000
DTEND;TZID=America/Montreal:20261112T210000
DTSTAMP:20260419T181839
CREATED:20251125T165519Z
LAST-MODIFIED:20251125T165519Z
UID:10010681-1794506400-1794517200@www.lemontmartre.ca
SUMMARY:Groupe St-Antoine 19H
DESCRIPTION:
URL:https://www.lemontmartre.ca/event/groupe-st-antoine-19h-5/2026-11-12/
CATEGORIES:C. Staub
END:VEVENT
END:VCALENDAR