BEGIN:VCALENDAR
VERSION:2.0
PRODID:-//Le Montmartre - ECPv6.15.13//NONSGML v1.0//EN
CALSCALE:GREGORIAN
METHOD:PUBLISH
X-WR-CALNAME:Le Montmartre
X-ORIGINAL-URL:https://www.lemontmartre.ca
X-WR-CALDESC:Évènements pour Le Montmartre
REFRESH-INTERVAL;VALUE=DURATION:PT1H
X-Robots-Tag:noindex
X-PUBLISHED-TTL:PT1H
BEGIN:VTIMEZONE
TZID:America/Montreal
BEGIN:DAYLIGHT
TZOFFSETFROM:-0500
TZOFFSETTO:-0400
TZNAME:EDT
DTSTART:20250309T070000
END:DAYLIGHT
BEGIN:STANDARD
TZOFFSETFROM:-0400
TZOFFSETTO:-0500
TZNAME:EST
DTSTART:20251102T060000
END:STANDARD
BEGIN:DAYLIGHT
TZOFFSETFROM:-0500
TZOFFSETTO:-0400
TZNAME:EDT
DTSTART:20260308T070000
END:DAYLIGHT
BEGIN:STANDARD
TZOFFSETFROM:-0400
TZOFFSETTO:-0500
TZNAME:EST
DTSTART:20261101T060000
END:STANDARD
BEGIN:DAYLIGHT
TZOFFSETFROM:-0500
TZOFFSETTO:-0400
TZNAME:EDT
DTSTART:20270314T070000
END:DAYLIGHT
BEGIN:STANDARD
TZOFFSETFROM:-0400
TZOFFSETTO:-0500
TZNAME:EST
DTSTART:20271107T060000
END:STANDARD
END:VTIMEZONE
BEGIN:VEVENT
DTSTART;TZID=America/Montreal:20260420T120000
DTEND;TZID=America/Montreal:20260420T160000
DTSTAMP:20260419T202846
CREATED:20251125T164801Z
LAST-MODIFIED:20251125T164801Z
UID:10010601-1776686400-1776700800@www.lemontmartre.ca
SUMMARY:Club de bridge de Charlesbourg 12H45
DESCRIPTION:
URL:https://www.lemontmartre.ca/event/club-de-bridge-de-charlesbourg-12h45-3/2026-04-20/
CATEGORIES:Marie-Guyart
END:VEVENT
BEGIN:VEVENT
DTSTART;TZID=America/Montreal:20260427T120000
DTEND;TZID=America/Montreal:20260427T160000
DTSTAMP:20260419T202846
CREATED:20251125T164801Z
LAST-MODIFIED:20251125T164801Z
UID:10010602-1777291200-1777305600@www.lemontmartre.ca
SUMMARY:Club de bridge de Charlesbourg 12H45
DESCRIPTION:
URL:https://www.lemontmartre.ca/event/club-de-bridge-de-charlesbourg-12h45-3/2026-04-27/
CATEGORIES:Marie-Guyart
END:VEVENT
BEGIN:VEVENT
DTSTART;TZID=America/Montreal:20260504T120000
DTEND;TZID=America/Montreal:20260504T160000
DTSTAMP:20260419T202846
CREATED:20251125T164801Z
LAST-MODIFIED:20251125T164801Z
UID:10010603-1777896000-1777910400@www.lemontmartre.ca
SUMMARY:Club de bridge de Charlesbourg 12H45
DESCRIPTION:
URL:https://www.lemontmartre.ca/event/club-de-bridge-de-charlesbourg-12h45-3/2026-05-04/
CATEGORIES:Marie-Guyart
END:VEVENT
BEGIN:VEVENT
DTSTART;TZID=America/Montreal:20260511T120000
DTEND;TZID=America/Montreal:20260511T160000
DTSTAMP:20260419T202846
CREATED:20251125T164801Z
LAST-MODIFIED:20251125T164801Z
UID:10010604-1778500800-1778515200@www.lemontmartre.ca
SUMMARY:Club de bridge de Charlesbourg 12H45
DESCRIPTION:
URL:https://www.lemontmartre.ca/event/club-de-bridge-de-charlesbourg-12h45-3/2026-05-11/
CATEGORIES:Marie-Guyart
END:VEVENT
BEGIN:VEVENT
DTSTART;TZID=America/Montreal:20260518T120000
DTEND;TZID=America/Montreal:20260518T160000
DTSTAMP:20260419T202846
CREATED:20251125T164801Z
LAST-MODIFIED:20251125T164801Z
UID:10010605-1779105600-1779120000@www.lemontmartre.ca
SUMMARY:Club de bridge de Charlesbourg 12H45
DESCRIPTION:
URL:https://www.lemontmartre.ca/event/club-de-bridge-de-charlesbourg-12h45-3/2026-05-18/
CATEGORIES:Marie-Guyart
END:VEVENT
BEGIN:VEVENT
DTSTART;TZID=America/Montreal:20260525T120000
DTEND;TZID=America/Montreal:20260525T160000
DTSTAMP:20260419T202846
CREATED:20251125T164801Z
LAST-MODIFIED:20251125T164801Z
UID:10010606-1779710400-1779724800@www.lemontmartre.ca
SUMMARY:Club de bridge de Charlesbourg 12H45
DESCRIPTION:
URL:https://www.lemontmartre.ca/event/club-de-bridge-de-charlesbourg-12h45-3/2026-05-25/
CATEGORIES:Marie-Guyart
END:VEVENT
BEGIN:VEVENT
DTSTART;TZID=America/Montreal:20260601T120000
DTEND;TZID=America/Montreal:20260601T160000
DTSTAMP:20260419T202846
CREATED:20251125T164801Z
LAST-MODIFIED:20251125T164801Z
UID:10010607-1780315200-1780329600@www.lemontmartre.ca
SUMMARY:Club de bridge de Charlesbourg 12H45
DESCRIPTION:
URL:https://www.lemontmartre.ca/event/club-de-bridge-de-charlesbourg-12h45-3/2026-06-01/
CATEGORIES:Marie-Guyart
END:VEVENT
BEGIN:VEVENT
DTSTART;TZID=America/Montreal:20260608T120000
DTEND;TZID=America/Montreal:20260608T160000
DTSTAMP:20260419T202846
CREATED:20251125T164801Z
LAST-MODIFIED:20251125T164801Z
UID:10010608-1780920000-1780934400@www.lemontmartre.ca
SUMMARY:Club de bridge de Charlesbourg 12H45
DESCRIPTION:
URL:https://www.lemontmartre.ca/event/club-de-bridge-de-charlesbourg-12h45-3/2026-06-08/
CATEGORIES:Marie-Guyart
END:VEVENT
BEGIN:VEVENT
DTSTART;TZID=America/Montreal:20260615T120000
DTEND;TZID=America/Montreal:20260615T160000
DTSTAMP:20260419T202846
CREATED:20251125T164801Z
LAST-MODIFIED:20251125T164801Z
UID:10010609-1781524800-1781539200@www.lemontmartre.ca
SUMMARY:Club de bridge de Charlesbourg 12H45
DESCRIPTION:
URL:https://www.lemontmartre.ca/event/club-de-bridge-de-charlesbourg-12h45-3/2026-06-15/
CATEGORIES:Marie-Guyart
END:VEVENT
BEGIN:VEVENT
DTSTART;TZID=America/Montreal:20260622T120000
DTEND;TZID=America/Montreal:20260622T160000
DTSTAMP:20260419T202846
CREATED:20251125T164801Z
LAST-MODIFIED:20251125T164801Z
UID:10010610-1782129600-1782144000@www.lemontmartre.ca
SUMMARY:Club de bridge de Charlesbourg 12H45
DESCRIPTION:
URL:https://www.lemontmartre.ca/event/club-de-bridge-de-charlesbourg-12h45-3/2026-06-22/
CATEGORIES:Marie-Guyart
END:VEVENT
BEGIN:VEVENT
DTSTART;TZID=America/Montreal:20260629T120000
DTEND;TZID=America/Montreal:20260629T160000
DTSTAMP:20260419T202846
CREATED:20251125T164801Z
LAST-MODIFIED:20251125T164801Z
UID:10010611-1782734400-1782748800@www.lemontmartre.ca
SUMMARY:Club de bridge de Charlesbourg 12H45
DESCRIPTION:
URL:https://www.lemontmartre.ca/event/club-de-bridge-de-charlesbourg-12h45-3/2026-06-29/
CATEGORIES:Marie-Guyart
END:VEVENT
BEGIN:VEVENT
DTSTART;TZID=America/Montreal:20260706T120000
DTEND;TZID=America/Montreal:20260706T160000
DTSTAMP:20260419T202846
CREATED:20251125T164801Z
LAST-MODIFIED:20251125T164801Z
UID:10010612-1783339200-1783353600@www.lemontmartre.ca
SUMMARY:Club de bridge de Charlesbourg 12H45
DESCRIPTION:
URL:https://www.lemontmartre.ca/event/club-de-bridge-de-charlesbourg-12h45-3/2026-07-06/
CATEGORIES:Marie-Guyart
END:VEVENT
BEGIN:VEVENT
DTSTART;TZID=America/Montreal:20260713T120000
DTEND;TZID=America/Montreal:20260713T160000
DTSTAMP:20260419T202846
CREATED:20251125T164801Z
LAST-MODIFIED:20251125T164801Z
UID:10010613-1783944000-1783958400@www.lemontmartre.ca
SUMMARY:Club de bridge de Charlesbourg 12H45
DESCRIPTION:
URL:https://www.lemontmartre.ca/event/club-de-bridge-de-charlesbourg-12h45-3/2026-07-13/
CATEGORIES:Marie-Guyart
END:VEVENT
BEGIN:VEVENT
DTSTART;TZID=America/Montreal:20260720T120000
DTEND;TZID=America/Montreal:20260720T160000
DTSTAMP:20260419T202846
CREATED:20251125T164801Z
LAST-MODIFIED:20251125T164801Z
UID:10010614-1784548800-1784563200@www.lemontmartre.ca
SUMMARY:Club de bridge de Charlesbourg 12H45
DESCRIPTION:
URL:https://www.lemontmartre.ca/event/club-de-bridge-de-charlesbourg-12h45-3/2026-07-20/
CATEGORIES:Marie-Guyart
END:VEVENT
BEGIN:VEVENT
DTSTART;TZID=America/Montreal:20260727T120000
DTEND;TZID=America/Montreal:20260727T160000
DTSTAMP:20260419T202846
CREATED:20251125T164801Z
LAST-MODIFIED:20251125T164801Z
UID:10010615-1785153600-1785168000@www.lemontmartre.ca
SUMMARY:Club de bridge de Charlesbourg 12H45
DESCRIPTION:
URL:https://www.lemontmartre.ca/event/club-de-bridge-de-charlesbourg-12h45-3/2026-07-27/
CATEGORIES:Marie-Guyart
END:VEVENT
BEGIN:VEVENT
DTSTART;TZID=America/Montreal:20260803T120000
DTEND;TZID=America/Montreal:20260803T160000
DTSTAMP:20260419T202846
CREATED:20251125T164801Z
LAST-MODIFIED:20251125T164801Z
UID:10010616-1785758400-1785772800@www.lemontmartre.ca
SUMMARY:Club de bridge de Charlesbourg 12H45
DESCRIPTION:
URL:https://www.lemontmartre.ca/event/club-de-bridge-de-charlesbourg-12h45-3/2026-08-03/
CATEGORIES:Marie-Guyart
END:VEVENT
BEGIN:VEVENT
DTSTART;TZID=America/Montreal:20260810T120000
DTEND;TZID=America/Montreal:20260810T160000
DTSTAMP:20260419T202846
CREATED:20251125T164801Z
LAST-MODIFIED:20251125T164801Z
UID:10010617-1786363200-1786377600@www.lemontmartre.ca
SUMMARY:Club de bridge de Charlesbourg 12H45
DESCRIPTION:
URL:https://www.lemontmartre.ca/event/club-de-bridge-de-charlesbourg-12h45-3/2026-08-10/
CATEGORIES:Marie-Guyart
END:VEVENT
BEGIN:VEVENT
DTSTART;TZID=America/Montreal:20260817T120000
DTEND;TZID=America/Montreal:20260817T160000
DTSTAMP:20260419T202846
CREATED:20251125T164801Z
LAST-MODIFIED:20251125T164801Z
UID:10010618-1786968000-1786982400@www.lemontmartre.ca
SUMMARY:Club de bridge de Charlesbourg 12H45
DESCRIPTION:
URL:https://www.lemontmartre.ca/event/club-de-bridge-de-charlesbourg-12h45-3/2026-08-17/
CATEGORIES:Marie-Guyart
END:VEVENT
BEGIN:VEVENT
DTSTART;TZID=America/Montreal:20260824T120000
DTEND;TZID=America/Montreal:20260824T160000
DTSTAMP:20260419T202846
CREATED:20251125T164801Z
LAST-MODIFIED:20251125T164801Z
UID:10010619-1787572800-1787587200@www.lemontmartre.ca
SUMMARY:Club de bridge de Charlesbourg 12H45
DESCRIPTION:
URL:https://www.lemontmartre.ca/event/club-de-bridge-de-charlesbourg-12h45-3/2026-08-24/
CATEGORIES:Marie-Guyart
END:VEVENT
BEGIN:VEVENT
DTSTART;TZID=America/Montreal:20260831T120000
DTEND;TZID=America/Montreal:20260831T160000
DTSTAMP:20260419T202846
CREATED:20251125T164801Z
LAST-MODIFIED:20251125T164801Z
UID:10010620-1788177600-1788192000@www.lemontmartre.ca
SUMMARY:Club de bridge de Charlesbourg 12H45
DESCRIPTION:
URL:https://www.lemontmartre.ca/event/club-de-bridge-de-charlesbourg-12h45-3/2026-08-31/
CATEGORIES:Marie-Guyart
END:VEVENT
BEGIN:VEVENT
DTSTART;TZID=America/Montreal:20260907T120000
DTEND;TZID=America/Montreal:20260907T160000
DTSTAMP:20260419T202846
CREATED:20251125T164801Z
LAST-MODIFIED:20251125T164801Z
UID:10010621-1788782400-1788796800@www.lemontmartre.ca
SUMMARY:Club de bridge de Charlesbourg 12H45
DESCRIPTION:
URL:https://www.lemontmartre.ca/event/club-de-bridge-de-charlesbourg-12h45-3/2026-09-07/
CATEGORIES:Marie-Guyart
END:VEVENT
BEGIN:VEVENT
DTSTART;TZID=America/Montreal:20260914T120000
DTEND;TZID=America/Montreal:20260914T160000
DTSTAMP:20260419T202846
CREATED:20251125T164801Z
LAST-MODIFIED:20251125T164801Z
UID:10010622-1789387200-1789401600@www.lemontmartre.ca
SUMMARY:Club de bridge de Charlesbourg 12H45
DESCRIPTION:
URL:https://www.lemontmartre.ca/event/club-de-bridge-de-charlesbourg-12h45-3/2026-09-14/
CATEGORIES:Marie-Guyart
END:VEVENT
BEGIN:VEVENT
DTSTART;TZID=America/Montreal:20260921T120000
DTEND;TZID=America/Montreal:20260921T160000
DTSTAMP:20260419T202846
CREATED:20251125T164801Z
LAST-MODIFIED:20251125T164801Z
UID:10010623-1789992000-1790006400@www.lemontmartre.ca
SUMMARY:Club de bridge de Charlesbourg 12H45
DESCRIPTION:
URL:https://www.lemontmartre.ca/event/club-de-bridge-de-charlesbourg-12h45-3/2026-09-21/
CATEGORIES:Marie-Guyart
END:VEVENT
BEGIN:VEVENT
DTSTART;TZID=America/Montreal:20260928T120000
DTEND;TZID=America/Montreal:20260928T160000
DTSTAMP:20260419T202846
CREATED:20251125T164801Z
LAST-MODIFIED:20251125T164801Z
UID:10010624-1790596800-1790611200@www.lemontmartre.ca
SUMMARY:Club de bridge de Charlesbourg 12H45
DESCRIPTION:
URL:https://www.lemontmartre.ca/event/club-de-bridge-de-charlesbourg-12h45-3/2026-09-28/
CATEGORIES:Marie-Guyart
END:VEVENT
BEGIN:VEVENT
DTSTART;TZID=America/Montreal:20261005T120000
DTEND;TZID=America/Montreal:20261005T160000
DTSTAMP:20260419T202846
CREATED:20251125T164801Z
LAST-MODIFIED:20251125T164801Z
UID:10010625-1791201600-1791216000@www.lemontmartre.ca
SUMMARY:Club de bridge de Charlesbourg 12H45
DESCRIPTION:
URL:https://www.lemontmartre.ca/event/club-de-bridge-de-charlesbourg-12h45-3/2026-10-05/
CATEGORIES:Marie-Guyart
END:VEVENT
BEGIN:VEVENT
DTSTART;TZID=America/Montreal:20261012T120000
DTEND;TZID=America/Montreal:20261012T160000
DTSTAMP:20260419T202846
CREATED:20251125T164801Z
LAST-MODIFIED:20251125T164801Z
UID:10010626-1791806400-1791820800@www.lemontmartre.ca
SUMMARY:Club de bridge de Charlesbourg 12H45
DESCRIPTION:
URL:https://www.lemontmartre.ca/event/club-de-bridge-de-charlesbourg-12h45-3/2026-10-12/
CATEGORIES:Marie-Guyart
END:VEVENT
BEGIN:VEVENT
DTSTART;TZID=America/Montreal:20261019T120000
DTEND;TZID=America/Montreal:20261019T160000
DTSTAMP:20260419T202846
CREATED:20251125T164801Z
LAST-MODIFIED:20251125T164801Z
UID:10010627-1792411200-1792425600@www.lemontmartre.ca
SUMMARY:Club de bridge de Charlesbourg 12H45
DESCRIPTION:
URL:https://www.lemontmartre.ca/event/club-de-bridge-de-charlesbourg-12h45-3/2026-10-19/
CATEGORIES:Marie-Guyart
END:VEVENT
BEGIN:VEVENT
DTSTART;TZID=America/Montreal:20261026T120000
DTEND;TZID=America/Montreal:20261026T160000
DTSTAMP:20260419T202846
CREATED:20251125T164801Z
LAST-MODIFIED:20251125T164801Z
UID:10010628-1793016000-1793030400@www.lemontmartre.ca
SUMMARY:Club de bridge de Charlesbourg 12H45
DESCRIPTION:
URL:https://www.lemontmartre.ca/event/club-de-bridge-de-charlesbourg-12h45-3/2026-10-26/
CATEGORIES:Marie-Guyart
END:VEVENT
BEGIN:VEVENT
DTSTART;TZID=America/Montreal:20261102T120000
DTEND;TZID=America/Montreal:20261102T160000
DTSTAMP:20260419T202846
CREATED:20251125T164801Z
LAST-MODIFIED:20251125T164801Z
UID:10010629-1793620800-1793635200@www.lemontmartre.ca
SUMMARY:Club de bridge de Charlesbourg 12H45
DESCRIPTION:
URL:https://www.lemontmartre.ca/event/club-de-bridge-de-charlesbourg-12h45-3/2026-11-02/
CATEGORIES:Marie-Guyart
END:VEVENT
BEGIN:VEVENT
DTSTART;TZID=America/Montreal:20261109T120000
DTEND;TZID=America/Montreal:20261109T160000
DTSTAMP:20260419T202846
CREATED:20251125T164801Z
LAST-MODIFIED:20251125T164801Z
UID:10010630-1794225600-1794240000@www.lemontmartre.ca
SUMMARY:Club de bridge de Charlesbourg 12H45
DESCRIPTION:
URL:https://www.lemontmartre.ca/event/club-de-bridge-de-charlesbourg-12h45-3/2026-11-09/
CATEGORIES:Marie-Guyart
END:VEVENT
END:VCALENDAR