BEGIN:VCALENDAR
VERSION:2.0
PRODID:-//Le Montmartre - ECPv6.15.13//NONSGML v1.0//EN
CALSCALE:GREGORIAN
METHOD:PUBLISH
X-WR-CALNAME:Le Montmartre
X-ORIGINAL-URL:https://www.lemontmartre.ca
X-WR-CALDESC:Évènements pour Le Montmartre
REFRESH-INTERVAL;VALUE=DURATION:PT1H
X-Robots-Tag:noindex
X-PUBLISHED-TTL:PT1H
BEGIN:VTIMEZONE
TZID:America/Montreal
BEGIN:DAYLIGHT
TZOFFSETFROM:-0500
TZOFFSETTO:-0400
TZNAME:EDT
DTSTART:20250309T070000
END:DAYLIGHT
BEGIN:STANDARD
TZOFFSETFROM:-0400
TZOFFSETTO:-0500
TZNAME:EST
DTSTART:20251102T060000
END:STANDARD
BEGIN:DAYLIGHT
TZOFFSETFROM:-0500
TZOFFSETTO:-0400
TZNAME:EDT
DTSTART:20260308T070000
END:DAYLIGHT
BEGIN:STANDARD
TZOFFSETFROM:-0400
TZOFFSETTO:-0500
TZNAME:EST
DTSTART:20261101T060000
END:STANDARD
BEGIN:DAYLIGHT
TZOFFSETFROM:-0500
TZOFFSETTO:-0400
TZNAME:EDT
DTSTART:20270314T070000
END:DAYLIGHT
BEGIN:STANDARD
TZOFFSETFROM:-0400
TZOFFSETTO:-0500
TZNAME:EST
DTSTART:20271107T060000
END:STANDARD
END:VTIMEZONE
BEGIN:VEVENT
DTSTART;TZID=America/Montreal:20261101T084500
DTEND;TZID=America/Montreal:20261101T120000
DTSTAMP:20260422T233322
CREATED:20251125T210244Z
LAST-MODIFIED:20251210T162509Z
UID:10011014-1793522700-1793534400@www.lemontmartre.ca
SUMMARY:Groupe Harmonie 10H
DESCRIPTION:
URL:https://www.lemontmartre.ca/event/groupe-harmonie-10h-3/2026-11-01/
CATEGORIES:St-Vallier
END:VEVENT
BEGIN:VEVENT
DTSTART;TZID=America/Montreal:20261101T103000
DTEND;TZID=America/Montreal:20261101T120000
DTSTAMP:20260422T233322
CREATED:20251125T210053Z
LAST-MODIFIED:20251125T210053Z
UID:10010962-1793529000-1793534400@www.lemontmartre.ca
SUMMARY:Messe 10H30
DESCRIPTION:
URL:https://www.lemontmartre.ca/event/messe-10h30-3/2026-11-01/
CATEGORIES:St-Augustin
END:VEVENT
BEGIN:VEVENT
DTSTART;TZID=America/Montreal:20261102T111500
DTEND;TZID=America/Montreal:20261102T115000
DTSTAMP:20260422T233322
CREATED:20260105T000306Z
LAST-MODIFIED:20260105T000306Z
UID:10012005-1793618100-1793620200@www.lemontmartre.ca
SUMMARY:Messe à 11h15
DESCRIPTION:
URL:https://www.lemontmartre.ca/event/messe-a-11h15/2026-11-02/
LOCATION:Sanctuaire Montmartre\, 1679\, chemin Saint-Louis\, Québec\, Québec\, G1S 1G5\, Canada
CATEGORIES:Offices religieux
END:VEVENT
BEGIN:VEVENT
DTSTART;TZID=America/Montreal:20261102T120000
DTEND;TZID=America/Montreal:20261102T160000
DTSTAMP:20260422T233322
CREATED:20251125T164801Z
LAST-MODIFIED:20251125T164801Z
UID:10010629-1793620800-1793635200@www.lemontmartre.ca
SUMMARY:Club de bridge de Charlesbourg 12H45
DESCRIPTION:
URL:https://www.lemontmartre.ca/event/club-de-bridge-de-charlesbourg-12h45-3/2026-11-02/
CATEGORIES:Marie-Guyart
END:VEVENT
BEGIN:VEVENT
DTSTART;TZID=America/Montreal:20261103T111500
DTEND;TZID=America/Montreal:20261103T115000
DTSTAMP:20260422T233322
CREATED:20260105T000306Z
LAST-MODIFIED:20260105T000306Z
UID:10012006-1793704500-1793706600@www.lemontmartre.ca
SUMMARY:Messe à 11h15
DESCRIPTION:
URL:https://www.lemontmartre.ca/event/messe-a-11h15/2026-11-03/
LOCATION:Sanctuaire Montmartre\, 1679\, chemin Saint-Louis\, Québec\, Québec\, G1S 1G5\, Canada
CATEGORIES:Offices religieux
END:VEVENT
BEGIN:VEVENT
DTSTART;TZID=America/Montreal:20261103T120000
DTEND;TZID=America/Montreal:20261103T160000
DTSTAMP:20260422T233323
CREATED:20251125T164613Z
LAST-MODIFIED:20251125T165819Z
UID:10010730-1793707200-1793721600@www.lemontmartre.ca
SUMMARY:Club de bridge Roi de pique 12H45
DESCRIPTION:
URL:https://www.lemontmartre.ca/event/club-de-bridge-roi-de-pique-12h45/2026-11-03/
CATEGORIES:Marie-Guyart
END:VEVENT
BEGIN:VEVENT
DTSTART;TZID=America/Montreal:20261104T111500
DTEND;TZID=America/Montreal:20261104T115000
DTSTAMP:20260422T233323
CREATED:20260105T000306Z
LAST-MODIFIED:20260105T000306Z
UID:10012007-1793790900-1793793000@www.lemontmartre.ca
SUMMARY:Messe à 11h15
DESCRIPTION:
URL:https://www.lemontmartre.ca/event/messe-a-11h15/2026-11-04/
LOCATION:Sanctuaire Montmartre\, 1679\, chemin Saint-Louis\, Québec\, Québec\, G1S 1G5\, Canada
CATEGORIES:Offices religieux
END:VEVENT
BEGIN:VEVENT
DTSTART;TZID=America/Montreal:20261104T120000
DTEND;TZID=America/Montreal:20261104T160000
DTSTAMP:20260422T233323
CREATED:20251125T170548Z
LAST-MODIFIED:20260410T200106Z
UID:10010781-1793793600-1793808000@www.lemontmartre.ca
SUMMARY:Club de bridge l'Entame 12H45
DESCRIPTION:
URL:https://www.lemontmartre.ca/event/club-de-bridge-lentame-12h45-13/2026-11-04/
CATEGORIES:Marie-Guyart
END:VEVENT
BEGIN:VEVENT
DTSTART;TZID=America/Montreal:20261105T111500
DTEND;TZID=America/Montreal:20261105T115000
DTSTAMP:20260422T233323
CREATED:20260105T000306Z
LAST-MODIFIED:20260105T000306Z
UID:10012008-1793877300-1793879400@www.lemontmartre.ca
SUMMARY:Messe à 11h15
DESCRIPTION:
URL:https://www.lemontmartre.ca/event/messe-a-11h15/2026-11-05/
LOCATION:Sanctuaire Montmartre\, 1679\, chemin Saint-Louis\, Québec\, Québec\, G1S 1G5\, Canada
CATEGORIES:Offices religieux
END:VEVENT
BEGIN:VEVENT
DTSTART;TZID=America/Montreal:20261105T120000
DTEND;TZID=America/Montreal:20261105T160000
DTSTAMP:20260422T233323
CREATED:20251125T170939Z
LAST-MODIFIED:20251125T170939Z
UID:10010832-1793880000-1793894400@www.lemontmartre.ca
SUMMARY:Club de bridge Vieux-Québec 12H45
DESCRIPTION:
URL:https://www.lemontmartre.ca/event/club-de-bridge-vieux-quebec-12h45/2026-11-05/
CATEGORIES:Marie-Guyart
END:VEVENT
BEGIN:VEVENT
DTSTART;TZID=America/Montreal:20261105T180000
DTEND;TZID=America/Montreal:20261105T210000
DTSTAMP:20260422T233323
CREATED:20251125T165519Z
LAST-MODIFIED:20251125T165519Z
UID:10010680-1793901600-1793912400@www.lemontmartre.ca
SUMMARY:Groupe St-Antoine 19H
DESCRIPTION:
URL:https://www.lemontmartre.ca/event/groupe-st-antoine-19h-5/2026-11-05/
CATEGORIES:C. Staub
END:VEVENT
BEGIN:VEVENT
DTSTART;TZID=America/Montreal:20261106T111500
DTEND;TZID=America/Montreal:20261106T115000
DTSTAMP:20260422T233323
CREATED:20260105T000306Z
LAST-MODIFIED:20260105T000306Z
UID:10012009-1793963700-1793965800@www.lemontmartre.ca
SUMMARY:Messe à 11h15
DESCRIPTION:
URL:https://www.lemontmartre.ca/event/messe-a-11h15/2026-11-06/
LOCATION:Sanctuaire Montmartre\, 1679\, chemin Saint-Louis\, Québec\, Québec\, G1S 1G5\, Canada
CATEGORIES:Offices religieux
END:VEVENT
BEGIN:VEVENT
DTSTART;TZID=America/Montreal:20261106T120000
DTEND;TZID=America/Montreal:20261106T160000
DTSTAMP:20260422T233323
CREATED:20251125T171154Z
LAST-MODIFIED:20251125T171154Z
UID:10010882-1793966400-1793980800@www.lemontmartre.ca
SUMMARY:Club de bridge de la Capitale 12H45
DESCRIPTION:
URL:https://www.lemontmartre.ca/event/club-de-bridge-de-la-capitale-12h45-2/2026-11-06/
CATEGORIES:Marie-Guyart
END:VEVENT
BEGIN:VEVENT
DTSTART;TZID=America/Montreal:20261106T180000
DTEND;TZID=America/Montreal:20261106T220000
DTSTAMP:20260422T233323
CREATED:20251204T194627Z
LAST-MODIFIED:20260410T201746Z
UID:10011072-1793988000-1794002400@www.lemontmartre.ca
SUMMARY:En route vers la liberté 19H30
DESCRIPTION:
URL:https://www.lemontmartre.ca/event/en-route-vers-la-liberte-19h30-11/2026-11-06/
CATEGORIES:Marie-Guyart
END:VEVENT
BEGIN:VEVENT
DTSTART;TZID=America/Montreal:20261107T111500
DTEND;TZID=America/Montreal:20261107T115000
DTSTAMP:20260422T233323
CREATED:20260105T000306Z
LAST-MODIFIED:20260105T000306Z
UID:10012010-1794050100-1794052200@www.lemontmartre.ca
SUMMARY:Messe à 11h15
DESCRIPTION:
URL:https://www.lemontmartre.ca/event/messe-a-11h15/2026-11-07/
LOCATION:Sanctuaire Montmartre\, 1679\, chemin Saint-Louis\, Québec\, Québec\, G1S 1G5\, Canada
CATEGORIES:Offices religieux
END:VEVENT
BEGIN:VEVENT
DTSTART;TZID=America/Montreal:20261108T084500
DTEND;TZID=America/Montreal:20261108T120000
DTSTAMP:20260422T233323
CREATED:20251125T210244Z
LAST-MODIFIED:20251210T162509Z
UID:10011015-1794127500-1794139200@www.lemontmartre.ca
SUMMARY:Groupe Harmonie 10H
DESCRIPTION:
URL:https://www.lemontmartre.ca/event/groupe-harmonie-10h-3/2026-11-08/
CATEGORIES:St-Vallier
END:VEVENT
BEGIN:VEVENT
DTSTART;TZID=America/Montreal:20261108T103000
DTEND;TZID=America/Montreal:20261108T120000
DTSTAMP:20260422T233323
CREATED:20251125T210053Z
LAST-MODIFIED:20251125T210053Z
UID:10010963-1794133800-1794139200@www.lemontmartre.ca
SUMMARY:Messe 10H30
DESCRIPTION:
URL:https://www.lemontmartre.ca/event/messe-10h30-3/2026-11-08/
CATEGORIES:St-Augustin
END:VEVENT
BEGIN:VEVENT
DTSTART;TZID=America/Montreal:20261109T111500
DTEND;TZID=America/Montreal:20261109T115000
DTSTAMP:20260422T233323
CREATED:20260105T000306Z
LAST-MODIFIED:20260105T000306Z
UID:10012011-1794222900-1794225000@www.lemontmartre.ca
SUMMARY:Messe à 11h15
DESCRIPTION:
URL:https://www.lemontmartre.ca/event/messe-a-11h15/2026-11-09/
LOCATION:Sanctuaire Montmartre\, 1679\, chemin Saint-Louis\, Québec\, Québec\, G1S 1G5\, Canada
CATEGORIES:Offices religieux
END:VEVENT
BEGIN:VEVENT
DTSTART;TZID=America/Montreal:20261109T120000
DTEND;TZID=America/Montreal:20261109T160000
DTSTAMP:20260422T233323
CREATED:20251125T164801Z
LAST-MODIFIED:20251125T164801Z
UID:10010630-1794225600-1794240000@www.lemontmartre.ca
SUMMARY:Club de bridge de Charlesbourg 12H45
DESCRIPTION:
URL:https://www.lemontmartre.ca/event/club-de-bridge-de-charlesbourg-12h45-3/2026-11-09/
CATEGORIES:Marie-Guyart
END:VEVENT
BEGIN:VEVENT
DTSTART;TZID=America/Montreal:20261110T111500
DTEND;TZID=America/Montreal:20261110T115000
DTSTAMP:20260422T233323
CREATED:20260105T000306Z
LAST-MODIFIED:20260105T000306Z
UID:10012012-1794309300-1794311400@www.lemontmartre.ca
SUMMARY:Messe à 11h15
DESCRIPTION:
URL:https://www.lemontmartre.ca/event/messe-a-11h15/2026-11-10/
LOCATION:Sanctuaire Montmartre\, 1679\, chemin Saint-Louis\, Québec\, Québec\, G1S 1G5\, Canada
CATEGORIES:Offices religieux
END:VEVENT
BEGIN:VEVENT
DTSTART;TZID=America/Montreal:20261110T120000
DTEND;TZID=America/Montreal:20261110T160000
DTSTAMP:20260422T233323
CREATED:20251125T164613Z
LAST-MODIFIED:20251125T165819Z
UID:10010731-1794312000-1794326400@www.lemontmartre.ca
SUMMARY:Club de bridge Roi de pique 12H45
DESCRIPTION:
URL:https://www.lemontmartre.ca/event/club-de-bridge-roi-de-pique-12h45/2026-11-10/
CATEGORIES:Marie-Guyart
END:VEVENT
BEGIN:VEVENT
DTSTART;TZID=America/Montreal:20261111T111500
DTEND;TZID=America/Montreal:20261111T115000
DTSTAMP:20260422T233323
CREATED:20260105T000306Z
LAST-MODIFIED:20260105T000306Z
UID:10012013-1794395700-1794397800@www.lemontmartre.ca
SUMMARY:Messe à 11h15
DESCRIPTION:
URL:https://www.lemontmartre.ca/event/messe-a-11h15/2026-11-11/
LOCATION:Sanctuaire Montmartre\, 1679\, chemin Saint-Louis\, Québec\, Québec\, G1S 1G5\, Canada
CATEGORIES:Offices religieux
END:VEVENT
BEGIN:VEVENT
DTSTART;TZID=America/Montreal:20261111T120000
DTEND;TZID=America/Montreal:20261111T160000
DTSTAMP:20260422T233323
CREATED:20251125T170548Z
LAST-MODIFIED:20260410T200106Z
UID:10010782-1794398400-1794412800@www.lemontmartre.ca
SUMMARY:Club de bridge l'Entame 12H45
DESCRIPTION:
URL:https://www.lemontmartre.ca/event/club-de-bridge-lentame-12h45-13/2026-11-11/
CATEGORIES:Marie-Guyart
END:VEVENT
BEGIN:VEVENT
DTSTART;TZID=America/Montreal:20261112T090000
DTEND;TZID=America/Montreal:20261112T170000
DTSTAMP:20260422T233323
CREATED:20251210T155248Z
LAST-MODIFIED:20251211T195046Z
UID:10011546-1794474000-1794502800@www.lemontmartre.ca
SUMMARY:Aquarelle Diane Boilard 9H30
DESCRIPTION:
URL:https://www.lemontmartre.ca/event/aquarelle-diane-boilard-9h30-21/2026-11-12/
CATEGORIES:St-Vallier
END:VEVENT
BEGIN:VEVENT
DTSTART;TZID=America/Montreal:20261112T111500
DTEND;TZID=America/Montreal:20261112T115000
DTSTAMP:20260422T233323
CREATED:20260105T000306Z
LAST-MODIFIED:20260105T000306Z
UID:10012014-1794482100-1794484200@www.lemontmartre.ca
SUMMARY:Messe à 11h15
DESCRIPTION:
URL:https://www.lemontmartre.ca/event/messe-a-11h15/2026-11-12/
LOCATION:Sanctuaire Montmartre\, 1679\, chemin Saint-Louis\, Québec\, Québec\, G1S 1G5\, Canada
CATEGORIES:Offices religieux
END:VEVENT
BEGIN:VEVENT
DTSTART;TZID=America/Montreal:20261112T120000
DTEND;TZID=America/Montreal:20261112T160000
DTSTAMP:20260422T233323
CREATED:20251125T170939Z
LAST-MODIFIED:20251125T170939Z
UID:10010833-1794484800-1794499200@www.lemontmartre.ca
SUMMARY:Club de bridge Vieux-Québec 12H45
DESCRIPTION:
URL:https://www.lemontmartre.ca/event/club-de-bridge-vieux-quebec-12h45/2026-11-12/
CATEGORIES:Marie-Guyart
END:VEVENT
BEGIN:VEVENT
DTSTART;TZID=America/Montreal:20261112T180000
DTEND;TZID=America/Montreal:20261112T210000
DTSTAMP:20260422T233323
CREATED:20251125T165519Z
LAST-MODIFIED:20251125T165519Z
UID:10010681-1794506400-1794517200@www.lemontmartre.ca
SUMMARY:Groupe St-Antoine 19H
DESCRIPTION:
URL:https://www.lemontmartre.ca/event/groupe-st-antoine-19h-5/2026-11-12/
CATEGORIES:C. Staub
END:VEVENT
BEGIN:VEVENT
DTSTART;TZID=America/Montreal:20261113T090000
DTEND;TZID=America/Montreal:20261113T170000
DTSTAMP:20260422T233323
CREATED:20251210T155248Z
LAST-MODIFIED:20251211T195046Z
UID:10011529-1794560400-1794589200@www.lemontmartre.ca
SUMMARY:Aquarelle Diane Boilard 9H30
DESCRIPTION:
URL:https://www.lemontmartre.ca/event/aquarelle-diane-boilard-9h30-21/2026-11-13/
CATEGORIES:St-Vallier
END:VEVENT
BEGIN:VEVENT
DTSTART;TZID=America/Montreal:20261113T111500
DTEND;TZID=America/Montreal:20261113T115000
DTSTAMP:20260422T233323
CREATED:20260105T000306Z
LAST-MODIFIED:20260105T000306Z
UID:10012015-1794568500-1794570600@www.lemontmartre.ca
SUMMARY:Messe à 11h15
DESCRIPTION:
URL:https://www.lemontmartre.ca/event/messe-a-11h15/2026-11-13/
LOCATION:Sanctuaire Montmartre\, 1679\, chemin Saint-Louis\, Québec\, Québec\, G1S 1G5\, Canada
CATEGORIES:Offices religieux
END:VEVENT
BEGIN:VEVENT
DTSTART;TZID=America/Montreal:20261113T120000
DTEND;TZID=America/Montreal:20261113T160000
DTSTAMP:20260422T233323
CREATED:20251125T171154Z
LAST-MODIFIED:20251125T171154Z
UID:10010883-1794571200-1794585600@www.lemontmartre.ca
SUMMARY:Club de bridge de la Capitale 12H45
DESCRIPTION:
URL:https://www.lemontmartre.ca/event/club-de-bridge-de-la-capitale-12h45-2/2026-11-13/
CATEGORIES:Marie-Guyart
END:VEVENT
END:VCALENDAR