BEGIN:VCALENDAR
VERSION:2.0
PRODID:-//Le Montmartre - ECPv6.15.13//NONSGML v1.0//EN
CALSCALE:GREGORIAN
METHOD:PUBLISH
X-WR-CALNAME:Le Montmartre
X-ORIGINAL-URL:https://www.lemontmartre.ca
X-WR-CALDESC:Évènements pour Le Montmartre
REFRESH-INTERVAL;VALUE=DURATION:PT1H
X-Robots-Tag:noindex
X-PUBLISHED-TTL:PT1H
BEGIN:VTIMEZONE
TZID:America/Montreal
BEGIN:DAYLIGHT
TZOFFSETFROM:-0500
TZOFFSETTO:-0400
TZNAME:EDT
DTSTART:20250309T070000
END:DAYLIGHT
BEGIN:STANDARD
TZOFFSETFROM:-0400
TZOFFSETTO:-0500
TZNAME:EST
DTSTART:20251102T060000
END:STANDARD
BEGIN:DAYLIGHT
TZOFFSETFROM:-0500
TZOFFSETTO:-0400
TZNAME:EDT
DTSTART:20260308T070000
END:DAYLIGHT
BEGIN:STANDARD
TZOFFSETFROM:-0400
TZOFFSETTO:-0500
TZNAME:EST
DTSTART:20261101T060000
END:STANDARD
BEGIN:DAYLIGHT
TZOFFSETFROM:-0500
TZOFFSETTO:-0400
TZNAME:EDT
DTSTART:20270314T070000
END:DAYLIGHT
BEGIN:STANDARD
TZOFFSETFROM:-0400
TZOFFSETTO:-0500
TZNAME:EST
DTSTART:20271107T060000
END:STANDARD
END:VTIMEZONE
BEGIN:VEVENT
DTSTART;TZID=America/Montreal:20260801T111500
DTEND;TZID=America/Montreal:20260801T115000
DTSTAMP:20260422T185044
CREATED:20260105T000306Z
LAST-MODIFIED:20260105T000306Z
UID:10011929-1785582900-1785585000@www.lemontmartre.ca
SUMMARY:Messe à 11h15
DESCRIPTION:
URL:https://www.lemontmartre.ca/event/messe-a-11h15/2026-08-01/
LOCATION:Sanctuaire Montmartre\, 1679\, chemin Saint-Louis\, Québec\, Québec\, G1S 1G5\, Canada
CATEGORIES:Offices religieux
END:VEVENT
BEGIN:VEVENT
DTSTART;TZID=America/Montreal:20260802T084500
DTEND;TZID=America/Montreal:20260802T120000
DTSTAMP:20260422T185044
CREATED:20251125T210244Z
LAST-MODIFIED:20251210T162509Z
UID:10011001-1785660300-1785672000@www.lemontmartre.ca
SUMMARY:Groupe Harmonie 10H
DESCRIPTION:
URL:https://www.lemontmartre.ca/event/groupe-harmonie-10h-3/2026-08-02/
CATEGORIES:St-Vallier
END:VEVENT
BEGIN:VEVENT
DTSTART;TZID=America/Montreal:20260802T103000
DTEND;TZID=America/Montreal:20260802T120000
DTSTAMP:20260422T185044
CREATED:20251125T210053Z
LAST-MODIFIED:20251125T210053Z
UID:10010949-1785666600-1785672000@www.lemontmartre.ca
SUMMARY:Messe 10H30
DESCRIPTION:
URL:https://www.lemontmartre.ca/event/messe-10h30-3/2026-08-02/
CATEGORIES:St-Augustin
END:VEVENT
BEGIN:VEVENT
DTSTART;TZID=America/Montreal:20260803T111500
DTEND;TZID=America/Montreal:20260803T115000
DTSTAMP:20260422T185044
CREATED:20260105T000306Z
LAST-MODIFIED:20260105T000306Z
UID:10011930-1785755700-1785757800@www.lemontmartre.ca
SUMMARY:Messe à 11h15
DESCRIPTION:
URL:https://www.lemontmartre.ca/event/messe-a-11h15/2026-08-03/
LOCATION:Sanctuaire Montmartre\, 1679\, chemin Saint-Louis\, Québec\, Québec\, G1S 1G5\, Canada
CATEGORIES:Offices religieux
END:VEVENT
BEGIN:VEVENT
DTSTART;TZID=America/Montreal:20260803T120000
DTEND;TZID=America/Montreal:20260803T160000
DTSTAMP:20260422T185044
CREATED:20251125T164801Z
LAST-MODIFIED:20251125T164801Z
UID:10010616-1785758400-1785772800@www.lemontmartre.ca
SUMMARY:Club de bridge de Charlesbourg 12H45
DESCRIPTION:
URL:https://www.lemontmartre.ca/event/club-de-bridge-de-charlesbourg-12h45-3/2026-08-03/
CATEGORIES:Marie-Guyart
END:VEVENT
BEGIN:VEVENT
DTSTART;TZID=America/Montreal:20260804T111500
DTEND;TZID=America/Montreal:20260804T115000
DTSTAMP:20260422T185044
CREATED:20260105T000306Z
LAST-MODIFIED:20260105T000306Z
UID:10011931-1785842100-1785844200@www.lemontmartre.ca
SUMMARY:Messe à 11h15
DESCRIPTION:
URL:https://www.lemontmartre.ca/event/messe-a-11h15/2026-08-04/
LOCATION:Sanctuaire Montmartre\, 1679\, chemin Saint-Louis\, Québec\, Québec\, G1S 1G5\, Canada
CATEGORIES:Offices religieux
END:VEVENT
BEGIN:VEVENT
DTSTART;TZID=America/Montreal:20260804T120000
DTEND;TZID=America/Montreal:20260804T160000
DTSTAMP:20260422T185044
CREATED:20251125T164613Z
LAST-MODIFIED:20251125T165819Z
UID:10010717-1785844800-1785859200@www.lemontmartre.ca
SUMMARY:Club de bridge Roi de pique 12H45
DESCRIPTION:
URL:https://www.lemontmartre.ca/event/club-de-bridge-roi-de-pique-12h45/2026-08-04/
CATEGORIES:Marie-Guyart
END:VEVENT
BEGIN:VEVENT
DTSTART;TZID=America/Montreal:20260805T111500
DTEND;TZID=America/Montreal:20260805T115000
DTSTAMP:20260422T185044
CREATED:20260105T000306Z
LAST-MODIFIED:20260105T000306Z
UID:10011932-1785928500-1785930600@www.lemontmartre.ca
SUMMARY:Messe à 11h15
DESCRIPTION:
URL:https://www.lemontmartre.ca/event/messe-a-11h15/2026-08-05/
LOCATION:Sanctuaire Montmartre\, 1679\, chemin Saint-Louis\, Québec\, Québec\, G1S 1G5\, Canada
CATEGORIES:Offices religieux
END:VEVENT
BEGIN:VEVENT
DTSTART;TZID=America/Montreal:20260805T120000
DTEND;TZID=America/Montreal:20260805T160000
DTSTAMP:20260422T185044
CREATED:20251125T170548Z
LAST-MODIFIED:20260410T200106Z
UID:10010768-1785931200-1785945600@www.lemontmartre.ca
SUMMARY:Club de bridge l'Entame 12H45
DESCRIPTION:
URL:https://www.lemontmartre.ca/event/club-de-bridge-lentame-12h45-13/2026-08-05/
CATEGORIES:Marie-Guyart
END:VEVENT
BEGIN:VEVENT
DTSTART;TZID=America/Montreal:20260806T111500
DTEND;TZID=America/Montreal:20260806T115000
DTSTAMP:20260422T185044
CREATED:20260105T000306Z
LAST-MODIFIED:20260105T000306Z
UID:10011933-1786014900-1786017000@www.lemontmartre.ca
SUMMARY:Messe à 11h15
DESCRIPTION:
URL:https://www.lemontmartre.ca/event/messe-a-11h15/2026-08-06/
LOCATION:Sanctuaire Montmartre\, 1679\, chemin Saint-Louis\, Québec\, Québec\, G1S 1G5\, Canada
CATEGORIES:Offices religieux
END:VEVENT
BEGIN:VEVENT
DTSTART;TZID=America/Montreal:20260806T120000
DTEND;TZID=America/Montreal:20260806T160000
DTSTAMP:20260422T185044
CREATED:20251125T170939Z
LAST-MODIFIED:20251125T170939Z
UID:10010819-1786017600-1786032000@www.lemontmartre.ca
SUMMARY:Club de bridge Vieux-Québec 12H45
DESCRIPTION:
URL:https://www.lemontmartre.ca/event/club-de-bridge-vieux-quebec-12h45/2026-08-06/
CATEGORIES:Marie-Guyart
END:VEVENT
BEGIN:VEVENT
DTSTART;TZID=America/Montreal:20260806T180000
DTEND;TZID=America/Montreal:20260806T210000
DTSTAMP:20260422T185044
CREATED:20251125T165519Z
LAST-MODIFIED:20251125T165519Z
UID:10010667-1786039200-1786050000@www.lemontmartre.ca
SUMMARY:Groupe St-Antoine 19H
DESCRIPTION:
URL:https://www.lemontmartre.ca/event/groupe-st-antoine-19h-5/2026-08-06/
CATEGORIES:C. Staub
END:VEVENT
BEGIN:VEVENT
DTSTART;TZID=America/Montreal:20260807T111500
DTEND;TZID=America/Montreal:20260807T115000
DTSTAMP:20260422T185044
CREATED:20260105T000306Z
LAST-MODIFIED:20260105T000306Z
UID:10011934-1786101300-1786103400@www.lemontmartre.ca
SUMMARY:Messe à 11h15
DESCRIPTION:
URL:https://www.lemontmartre.ca/event/messe-a-11h15/2026-08-07/
LOCATION:Sanctuaire Montmartre\, 1679\, chemin Saint-Louis\, Québec\, Québec\, G1S 1G5\, Canada
CATEGORIES:Offices religieux
END:VEVENT
BEGIN:VEVENT
DTSTART;TZID=America/Montreal:20260807T120000
DTEND;TZID=America/Montreal:20260807T160000
DTSTAMP:20260422T185044
CREATED:20251125T171154Z
LAST-MODIFIED:20251125T171154Z
UID:10010869-1786104000-1786118400@www.lemontmartre.ca
SUMMARY:Club de bridge de la Capitale 12H45
DESCRIPTION:
URL:https://www.lemontmartre.ca/event/club-de-bridge-de-la-capitale-12h45-2/2026-08-07/
CATEGORIES:Marie-Guyart
END:VEVENT
BEGIN:VEVENT
DTSTART;TZID=America/Montreal:20260807T180000
DTEND;TZID=America/Montreal:20260807T220000
DTSTAMP:20260422T185044
CREATED:20251204T194627Z
LAST-MODIFIED:20260410T201746Z
UID:10011059-1786125600-1786140000@www.lemontmartre.ca
SUMMARY:En route vers la liberté 19H30
DESCRIPTION:
URL:https://www.lemontmartre.ca/event/en-route-vers-la-liberte-19h30-11/2026-08-07/
CATEGORIES:Marie-Guyart
END:VEVENT
BEGIN:VEVENT
DTSTART;TZID=America/Montreal:20260808T111500
DTEND;TZID=America/Montreal:20260808T115000
DTSTAMP:20260422T185044
CREATED:20260105T000306Z
LAST-MODIFIED:20260105T000306Z
UID:10011935-1786187700-1786189800@www.lemontmartre.ca
SUMMARY:Messe à 11h15
DESCRIPTION:
URL:https://www.lemontmartre.ca/event/messe-a-11h15/2026-08-08/
LOCATION:Sanctuaire Montmartre\, 1679\, chemin Saint-Louis\, Québec\, Québec\, G1S 1G5\, Canada
CATEGORIES:Offices religieux
END:VEVENT
BEGIN:VEVENT
DTSTART;TZID=America/Montreal:20260809T084500
DTEND;TZID=America/Montreal:20260809T120000
DTSTAMP:20260422T185044
CREATED:20251125T210244Z
LAST-MODIFIED:20251210T162509Z
UID:10011002-1786265100-1786276800@www.lemontmartre.ca
SUMMARY:Groupe Harmonie 10H
DESCRIPTION:
URL:https://www.lemontmartre.ca/event/groupe-harmonie-10h-3/2026-08-09/
CATEGORIES:St-Vallier
END:VEVENT
BEGIN:VEVENT
DTSTART;TZID=America/Montreal:20260809T103000
DTEND;TZID=America/Montreal:20260809T120000
DTSTAMP:20260422T185044
CREATED:20251125T210053Z
LAST-MODIFIED:20251125T210053Z
UID:10010950-1786271400-1786276800@www.lemontmartre.ca
SUMMARY:Messe 10H30
DESCRIPTION:
URL:https://www.lemontmartre.ca/event/messe-10h30-3/2026-08-09/
CATEGORIES:St-Augustin
END:VEVENT
BEGIN:VEVENT
DTSTART;TZID=America/Montreal:20260810T111500
DTEND;TZID=America/Montreal:20260810T115000
DTSTAMP:20260422T185044
CREATED:20260105T000306Z
LAST-MODIFIED:20260105T000306Z
UID:10011936-1786360500-1786362600@www.lemontmartre.ca
SUMMARY:Messe à 11h15
DESCRIPTION:
URL:https://www.lemontmartre.ca/event/messe-a-11h15/2026-08-10/
LOCATION:Sanctuaire Montmartre\, 1679\, chemin Saint-Louis\, Québec\, Québec\, G1S 1G5\, Canada
CATEGORIES:Offices religieux
END:VEVENT
BEGIN:VEVENT
DTSTART;TZID=America/Montreal:20260810T120000
DTEND;TZID=America/Montreal:20260810T160000
DTSTAMP:20260422T185044
CREATED:20251125T164801Z
LAST-MODIFIED:20251125T164801Z
UID:10010617-1786363200-1786377600@www.lemontmartre.ca
SUMMARY:Club de bridge de Charlesbourg 12H45
DESCRIPTION:
URL:https://www.lemontmartre.ca/event/club-de-bridge-de-charlesbourg-12h45-3/2026-08-10/
CATEGORIES:Marie-Guyart
END:VEVENT
BEGIN:VEVENT
DTSTART;TZID=America/Montreal:20260811T111500
DTEND;TZID=America/Montreal:20260811T115000
DTSTAMP:20260422T185044
CREATED:20260105T000306Z
LAST-MODIFIED:20260105T000306Z
UID:10011937-1786446900-1786449000@www.lemontmartre.ca
SUMMARY:Messe à 11h15
DESCRIPTION:
URL:https://www.lemontmartre.ca/event/messe-a-11h15/2026-08-11/
LOCATION:Sanctuaire Montmartre\, 1679\, chemin Saint-Louis\, Québec\, Québec\, G1S 1G5\, Canada
CATEGORIES:Offices religieux
END:VEVENT
BEGIN:VEVENT
DTSTART;TZID=America/Montreal:20260811T120000
DTEND;TZID=America/Montreal:20260811T160000
DTSTAMP:20260422T185044
CREATED:20251125T164613Z
LAST-MODIFIED:20251125T165819Z
UID:10010718-1786449600-1786464000@www.lemontmartre.ca
SUMMARY:Club de bridge Roi de pique 12H45
DESCRIPTION:
URL:https://www.lemontmartre.ca/event/club-de-bridge-roi-de-pique-12h45/2026-08-11/
CATEGORIES:Marie-Guyart
END:VEVENT
BEGIN:VEVENT
DTSTART;TZID=America/Montreal:20260812T111500
DTEND;TZID=America/Montreal:20260812T115000
DTSTAMP:20260422T185044
CREATED:20260105T000306Z
LAST-MODIFIED:20260105T000306Z
UID:10011938-1786533300-1786535400@www.lemontmartre.ca
SUMMARY:Messe à 11h15
DESCRIPTION:
URL:https://www.lemontmartre.ca/event/messe-a-11h15/2026-08-12/
LOCATION:Sanctuaire Montmartre\, 1679\, chemin Saint-Louis\, Québec\, Québec\, G1S 1G5\, Canada
CATEGORIES:Offices religieux
END:VEVENT
BEGIN:VEVENT
DTSTART;TZID=America/Montreal:20260812T120000
DTEND;TZID=America/Montreal:20260812T160000
DTSTAMP:20260422T185044
CREATED:20251125T170548Z
LAST-MODIFIED:20260410T200106Z
UID:10010769-1786536000-1786550400@www.lemontmartre.ca
SUMMARY:Club de bridge l'Entame 12H45
DESCRIPTION:
URL:https://www.lemontmartre.ca/event/club-de-bridge-lentame-12h45-13/2026-08-12/
CATEGORIES:Marie-Guyart
END:VEVENT
BEGIN:VEVENT
DTSTART;TZID=America/Montreal:20260813T120000
DTEND;TZID=America/Montreal:20260813T160000
DTSTAMP:20260422T185044
CREATED:20251125T170939Z
LAST-MODIFIED:20251125T170939Z
UID:10010820-1786622400-1786636800@www.lemontmartre.ca
SUMMARY:Club de bridge Vieux-Québec 12H45
DESCRIPTION:
URL:https://www.lemontmartre.ca/event/club-de-bridge-vieux-quebec-12h45/2026-08-13/
CATEGORIES:Marie-Guyart
END:VEVENT
BEGIN:VEVENT
DTSTART;TZID=America/Montreal:20260813T180000
DTEND;TZID=America/Montreal:20260813T210000
DTSTAMP:20260422T185044
CREATED:20251125T165519Z
LAST-MODIFIED:20251125T165519Z
UID:10010668-1786644000-1786654800@www.lemontmartre.ca
SUMMARY:Groupe St-Antoine 19H
DESCRIPTION:
URL:https://www.lemontmartre.ca/event/groupe-st-antoine-19h-5/2026-08-13/
CATEGORIES:C. Staub
END:VEVENT
BEGIN:VEVENT
DTSTART;TZID=America/Montreal:20260813T193000
DTEND;TZID=America/Montreal:20260813T210000
DTSTAMP:20260422T185044
CREATED:20251024T121446Z
LAST-MODIFIED:20251024T121446Z
UID:10010155-1786649400-1786654800@www.lemontmartre.ca
SUMMARY:Retraite de l'Assomption en temps du Centenaire
DESCRIPTION:
URL:https://www.lemontmartre.ca/event/retraite-de-lassomption-en-temps-du-centenaire/2026-08-13/
LOCATION:Centre Le Montmartre
CATEGORIES:Prière et intériorité
END:VEVENT
BEGIN:VEVENT
DTSTART;TZID=America/Montreal:20260814T120000
DTEND;TZID=America/Montreal:20260814T160000
DTSTAMP:20260422T185044
CREATED:20251125T171154Z
LAST-MODIFIED:20251125T171154Z
UID:10010870-1786708800-1786723200@www.lemontmartre.ca
SUMMARY:Club de bridge de la Capitale 12H45
DESCRIPTION:
URL:https://www.lemontmartre.ca/event/club-de-bridge-de-la-capitale-12h45-2/2026-08-14/
CATEGORIES:Marie-Guyart
END:VEVENT
BEGIN:VEVENT
DTSTART;TZID=America/Montreal:20260814T180000
DTEND;TZID=America/Montreal:20260814T220000
DTSTAMP:20260422T185044
CREATED:20251204T194627Z
LAST-MODIFIED:20260410T201746Z
UID:10011060-1786730400-1786744800@www.lemontmartre.ca
SUMMARY:En route vers la liberté 19H30
DESCRIPTION:
URL:https://www.lemontmartre.ca/event/en-route-vers-la-liberte-19h30-11/2026-08-14/
CATEGORIES:Marie-Guyart
END:VEVENT
BEGIN:VEVENT
DTSTART;TZID=America/Montreal:20260814T193000
DTEND;TZID=America/Montreal:20260814T210000
DTSTAMP:20260422T185044
CREATED:20251024T121446Z
LAST-MODIFIED:20251024T121446Z
UID:10010156-1786735800-1786741200@www.lemontmartre.ca
SUMMARY:Retraite de l'Assomption en temps du Centenaire
DESCRIPTION:
URL:https://www.lemontmartre.ca/event/retraite-de-lassomption-en-temps-du-centenaire/2026-08-14/
LOCATION:Centre Le Montmartre
CATEGORIES:Prière et intériorité
END:VEVENT
END:VCALENDAR