BEGIN:VCALENDAR
VERSION:2.0
PRODID:-//Le Montmartre - ECPv6.15.13//NONSGML v1.0//EN
CALSCALE:GREGORIAN
METHOD:PUBLISH
X-ORIGINAL-URL:https://www.lemontmartre.ca
X-WR-CALDESC:Évènements pour Le Montmartre
REFRESH-INTERVAL;VALUE=DURATION:PT1H
X-Robots-Tag:noindex
X-PUBLISHED-TTL:PT1H
BEGIN:VTIMEZONE
TZID:America/Montreal
BEGIN:DAYLIGHT
TZOFFSETFROM:-0500
TZOFFSETTO:-0400
TZNAME:EDT
DTSTART:20250309T070000
END:DAYLIGHT
BEGIN:STANDARD
TZOFFSETFROM:-0400
TZOFFSETTO:-0500
TZNAME:EST
DTSTART:20251102T060000
END:STANDARD
BEGIN:DAYLIGHT
TZOFFSETFROM:-0500
TZOFFSETTO:-0400
TZNAME:EDT
DTSTART:20260308T070000
END:DAYLIGHT
BEGIN:STANDARD
TZOFFSETFROM:-0400
TZOFFSETTO:-0500
TZNAME:EST
DTSTART:20261101T060000
END:STANDARD
BEGIN:DAYLIGHT
TZOFFSETFROM:-0500
TZOFFSETTO:-0400
TZNAME:EDT
DTSTART:20270314T070000
END:DAYLIGHT
BEGIN:STANDARD
TZOFFSETFROM:-0400
TZOFFSETTO:-0500
TZNAME:EST
DTSTART:20271107T060000
END:STANDARD
END:VTIMEZONE
BEGIN:VEVENT
DTSTART;TZID=America/Montreal:20261203T090000
DTEND;TZID=America/Montreal:20261203T170000
DTSTAMP:20260422T075138
CREATED:20251210T155337Z
LAST-MODIFIED:20251211T195142Z
UID:10011547-1796288400-1796317200@www.lemontmartre.ca
SUMMARY:Aquarelle Diane Boilard 9H30
DESCRIPTION:
URL:https://www.lemontmartre.ca/event/aquarelle-diane-boilard-9h30-22/2026-12-03/
CATEGORIES:St-Vallier
END:VEVENT
BEGIN:VEVENT
DTSTART;TZID=America/Montreal:20261204T090000
DTEND;TZID=America/Montreal:20261204T170000
DTSTAMP:20260422T075138
CREATED:20251210T155337Z
LAST-MODIFIED:20251211T195142Z
UID:10011531-1796374800-1796403600@www.lemontmartre.ca
SUMMARY:Aquarelle Diane Boilard 9H30
DESCRIPTION:
URL:https://www.lemontmartre.ca/event/aquarelle-diane-boilard-9h30-22/2026-12-04/
CATEGORIES:St-Vallier
END:VEVENT
BEGIN:VEVENT
DTSTART;TZID=America/Montreal:20261205T090000
DTEND;TZID=America/Montreal:20261205T170000
DTSTAMP:20260422T075138
CREATED:20251210T155337Z
LAST-MODIFIED:20251211T195142Z
UID:10011532-1796461200-1796490000@www.lemontmartre.ca
SUMMARY:Aquarelle Diane Boilard 9H30
DESCRIPTION:
URL:https://www.lemontmartre.ca/event/aquarelle-diane-boilard-9h30-22/2026-12-05/
CATEGORIES:St-Vallier
END:VEVENT
BEGIN:VEVENT
DTSTART;TZID=America/Montreal:20261206T084500
DTEND;TZID=America/Montreal:20261206T120000
DTSTAMP:20260422T075138
CREATED:20251125T210244Z
LAST-MODIFIED:20251210T162509Z
UID:10011019-1796546700-1796558400@www.lemontmartre.ca
SUMMARY:Groupe Harmonie 10H
DESCRIPTION:
URL:https://www.lemontmartre.ca/event/groupe-harmonie-10h-3/2026-12-06/
CATEGORIES:St-Vallier
END:VEVENT
BEGIN:VEVENT
DTSTART;TZID=America/Montreal:20261213T084500
DTEND;TZID=America/Montreal:20261213T120000
DTSTAMP:20260422T075138
CREATED:20251125T210244Z
LAST-MODIFIED:20251210T162509Z
UID:10011020-1797151500-1797163200@www.lemontmartre.ca
SUMMARY:Groupe Harmonie 10H
DESCRIPTION:
URL:https://www.lemontmartre.ca/event/groupe-harmonie-10h-3/2026-12-13/
CATEGORIES:St-Vallier
END:VEVENT
BEGIN:VEVENT
DTSTART;TZID=America/Montreal:20261220T084500
DTEND;TZID=America/Montreal:20261220T120000
DTSTAMP:20260422T075138
CREATED:20251125T210244Z
LAST-MODIFIED:20251210T162509Z
UID:10011021-1797756300-1797768000@www.lemontmartre.ca
SUMMARY:Groupe Harmonie 10H
DESCRIPTION:
URL:https://www.lemontmartre.ca/event/groupe-harmonie-10h-3/2026-12-20/
CATEGORIES:St-Vallier
END:VEVENT
BEGIN:VEVENT
DTSTART;TZID=America/Montreal:20261227T084500
DTEND;TZID=America/Montreal:20261227T120000
DTSTAMP:20260422T075138
CREATED:20251125T210244Z
LAST-MODIFIED:20251210T162509Z
UID:10011022-1798361100-1798372800@www.lemontmartre.ca
SUMMARY:Groupe Harmonie 10H
DESCRIPTION:
URL:https://www.lemontmartre.ca/event/groupe-harmonie-10h-3/2026-12-27/
CATEGORIES:St-Vallier
END:VEVENT
END:VCALENDAR