BEGIN:VCALENDAR
VERSION:2.0
PRODID:-//Le Montmartre - ECPv6.15.13//NONSGML v1.0//EN
CALSCALE:GREGORIAN
METHOD:PUBLISH
X-WR-CALNAME:Le Montmartre
X-ORIGINAL-URL:https://www.lemontmartre.ca
X-WR-CALDESC:Évènements pour Le Montmartre
REFRESH-INTERVAL;VALUE=DURATION:PT1H
X-Robots-Tag:noindex
X-PUBLISHED-TTL:PT1H
BEGIN:VTIMEZONE
TZID:America/Montreal
BEGIN:DAYLIGHT
TZOFFSETFROM:-0500
TZOFFSETTO:-0400
TZNAME:EDT
DTSTART:20250309T070000
END:DAYLIGHT
BEGIN:STANDARD
TZOFFSETFROM:-0400
TZOFFSETTO:-0500
TZNAME:EST
DTSTART:20251102T060000
END:STANDARD
BEGIN:DAYLIGHT
TZOFFSETFROM:-0500
TZOFFSETTO:-0400
TZNAME:EDT
DTSTART:20260308T070000
END:DAYLIGHT
BEGIN:STANDARD
TZOFFSETFROM:-0400
TZOFFSETTO:-0500
TZNAME:EST
DTSTART:20261101T060000
END:STANDARD
BEGIN:DAYLIGHT
TZOFFSETFROM:-0500
TZOFFSETTO:-0400
TZNAME:EDT
DTSTART:20270314T070000
END:DAYLIGHT
BEGIN:STANDARD
TZOFFSETFROM:-0400
TZOFFSETTO:-0500
TZNAME:EST
DTSTART:20271107T060000
END:STANDARD
END:VTIMEZONE
BEGIN:VEVENT
DTSTART;TZID=America/Montreal:20261101T084500
DTEND;TZID=America/Montreal:20261101T120000
DTSTAMP:20260422T061946
CREATED:20251125T210244Z
LAST-MODIFIED:20251210T162509Z
UID:10011014-1793522700-1793534400@www.lemontmartre.ca
SUMMARY:Groupe Harmonie 10H
DESCRIPTION:
URL:https://www.lemontmartre.ca/event/groupe-harmonie-10h-3/2026-11-01/
CATEGORIES:St-Vallier
END:VEVENT
BEGIN:VEVENT
DTSTART;TZID=America/Montreal:20261108T084500
DTEND;TZID=America/Montreal:20261108T120000
DTSTAMP:20260422T061946
CREATED:20251125T210244Z
LAST-MODIFIED:20251210T162509Z
UID:10011015-1794127500-1794139200@www.lemontmartre.ca
SUMMARY:Groupe Harmonie 10H
DESCRIPTION:
URL:https://www.lemontmartre.ca/event/groupe-harmonie-10h-3/2026-11-08/
CATEGORIES:St-Vallier
END:VEVENT
BEGIN:VEVENT
DTSTART;TZID=America/Montreal:20261112T090000
DTEND;TZID=America/Montreal:20261112T170000
DTSTAMP:20260422T061946
CREATED:20251210T155248Z
LAST-MODIFIED:20251211T195046Z
UID:10011546-1794474000-1794502800@www.lemontmartre.ca
SUMMARY:Aquarelle Diane Boilard 9H30
DESCRIPTION:
URL:https://www.lemontmartre.ca/event/aquarelle-diane-boilard-9h30-21/2026-11-12/
CATEGORIES:St-Vallier
END:VEVENT
BEGIN:VEVENT
DTSTART;TZID=America/Montreal:20261113T090000
DTEND;TZID=America/Montreal:20261113T170000
DTSTAMP:20260422T061946
CREATED:20251210T155248Z
LAST-MODIFIED:20251211T195046Z
UID:10011529-1794560400-1794589200@www.lemontmartre.ca
SUMMARY:Aquarelle Diane Boilard 9H30
DESCRIPTION:
URL:https://www.lemontmartre.ca/event/aquarelle-diane-boilard-9h30-21/2026-11-13/
CATEGORIES:St-Vallier
END:VEVENT
BEGIN:VEVENT
DTSTART;TZID=America/Montreal:20261114T090000
DTEND;TZID=America/Montreal:20261114T170000
DTSTAMP:20260422T061946
CREATED:20251210T155248Z
LAST-MODIFIED:20251211T195046Z
UID:10011530-1794646800-1794675600@www.lemontmartre.ca
SUMMARY:Aquarelle Diane Boilard 9H30
DESCRIPTION:
URL:https://www.lemontmartre.ca/event/aquarelle-diane-boilard-9h30-21/2026-11-14/
CATEGORIES:St-Vallier
END:VEVENT
BEGIN:VEVENT
DTSTART;TZID=America/Montreal:20261115T084500
DTEND;TZID=America/Montreal:20261115T120000
DTSTAMP:20260422T061946
CREATED:20251125T210244Z
LAST-MODIFIED:20251210T162509Z
UID:10011016-1794732300-1794744000@www.lemontmartre.ca
SUMMARY:Groupe Harmonie 10H
DESCRIPTION:
URL:https://www.lemontmartre.ca/event/groupe-harmonie-10h-3/2026-11-15/
CATEGORIES:St-Vallier
END:VEVENT
BEGIN:VEVENT
DTSTART;TZID=America/Montreal:20261122T084500
DTEND;TZID=America/Montreal:20261122T120000
DTSTAMP:20260422T061946
CREATED:20251125T210244Z
LAST-MODIFIED:20251210T162509Z
UID:10011017-1795337100-1795348800@www.lemontmartre.ca
SUMMARY:Groupe Harmonie 10H
DESCRIPTION:
URL:https://www.lemontmartre.ca/event/groupe-harmonie-10h-3/2026-11-22/
CATEGORIES:St-Vallier
END:VEVENT
BEGIN:VEVENT
DTSTART;TZID=America/Montreal:20261129T084500
DTEND;TZID=America/Montreal:20261129T120000
DTSTAMP:20260422T061946
CREATED:20251125T210244Z
LAST-MODIFIED:20251210T162509Z
UID:10011018-1795941900-1795953600@www.lemontmartre.ca
SUMMARY:Groupe Harmonie 10H
DESCRIPTION:
URL:https://www.lemontmartre.ca/event/groupe-harmonie-10h-3/2026-11-29/
CATEGORIES:St-Vallier
END:VEVENT
END:VCALENDAR