BEGIN:VCALENDAR
VERSION:2.0
PRODID:-//Le Montmartre - ECPv6.15.13//NONSGML v1.0//EN
CALSCALE:GREGORIAN
METHOD:PUBLISH
X-ORIGINAL-URL:https://www.lemontmartre.ca
X-WR-CALDESC:Évènements pour Le Montmartre
REFRESH-INTERVAL;VALUE=DURATION:PT1H
X-Robots-Tag:noindex
X-PUBLISHED-TTL:PT1H
BEGIN:VTIMEZONE
TZID:America/Montreal
BEGIN:DAYLIGHT
TZOFFSETFROM:-0500
TZOFFSETTO:-0400
TZNAME:EDT
DTSTART:20250309T070000
END:DAYLIGHT
BEGIN:STANDARD
TZOFFSETFROM:-0400
TZOFFSETTO:-0500
TZNAME:EST
DTSTART:20251102T060000
END:STANDARD
BEGIN:DAYLIGHT
TZOFFSETFROM:-0500
TZOFFSETTO:-0400
TZNAME:EDT
DTSTART:20260308T070000
END:DAYLIGHT
BEGIN:STANDARD
TZOFFSETFROM:-0400
TZOFFSETTO:-0500
TZNAME:EST
DTSTART:20261101T060000
END:STANDARD
BEGIN:DAYLIGHT
TZOFFSETFROM:-0500
TZOFFSETTO:-0400
TZNAME:EDT
DTSTART:20270314T070000
END:DAYLIGHT
BEGIN:STANDARD
TZOFFSETFROM:-0400
TZOFFSETTO:-0500
TZNAME:EST
DTSTART:20271107T060000
END:STANDARD
END:VTIMEZONE
BEGIN:VEVENT
DTSTART;TZID=America/Montreal:20260802T084500
DTEND;TZID=America/Montreal:20260802T120000
DTSTAMP:20260420T133332
CREATED:20251125T210244Z
LAST-MODIFIED:20251210T162509Z
UID:10011001-1785660300-1785672000@www.lemontmartre.ca
SUMMARY:Groupe Harmonie 10H
DESCRIPTION:
URL:https://www.lemontmartre.ca/event/groupe-harmonie-10h-3/2026-08-02/
CATEGORIES:St-Vallier
END:VEVENT
BEGIN:VEVENT
DTSTART;TZID=America/Montreal:20260809T084500
DTEND;TZID=America/Montreal:20260809T120000
DTSTAMP:20260420T133332
CREATED:20251125T210244Z
LAST-MODIFIED:20251210T162509Z
UID:10011002-1786265100-1786276800@www.lemontmartre.ca
SUMMARY:Groupe Harmonie 10H
DESCRIPTION:
URL:https://www.lemontmartre.ca/event/groupe-harmonie-10h-3/2026-08-09/
CATEGORIES:St-Vallier
END:VEVENT
BEGIN:VEVENT
DTSTART;TZID=America/Montreal:20260816T084500
DTEND;TZID=America/Montreal:20260816T120000
DTSTAMP:20260420T133332
CREATED:20251125T210244Z
LAST-MODIFIED:20251210T162509Z
UID:10011003-1786869900-1786881600@www.lemontmartre.ca
SUMMARY:Groupe Harmonie 10H
DESCRIPTION:
URL:https://www.lemontmartre.ca/event/groupe-harmonie-10h-3/2026-08-16/
CATEGORIES:St-Vallier
END:VEVENT
BEGIN:VEVENT
DTSTART;TZID=America/Montreal:20260823T084500
DTEND;TZID=America/Montreal:20260823T120000
DTSTAMP:20260420T133332
CREATED:20251125T210244Z
LAST-MODIFIED:20251210T162509Z
UID:10011004-1787474700-1787486400@www.lemontmartre.ca
SUMMARY:Groupe Harmonie 10H
DESCRIPTION:
URL:https://www.lemontmartre.ca/event/groupe-harmonie-10h-3/2026-08-23/
CATEGORIES:St-Vallier
END:VEVENT
BEGIN:VEVENT
DTSTART;TZID=America/Montreal:20260830T084500
DTEND;TZID=America/Montreal:20260830T120000
DTSTAMP:20260420T133332
CREATED:20251125T210244Z
LAST-MODIFIED:20251210T162509Z
UID:10011005-1788079500-1788091200@www.lemontmartre.ca
SUMMARY:Groupe Harmonie 10H
DESCRIPTION:
URL:https://www.lemontmartre.ca/event/groupe-harmonie-10h-3/2026-08-30/
CATEGORIES:St-Vallier
END:VEVENT
END:VCALENDAR