BEGIN:VCALENDAR
VERSION:2.0
PRODID:-//Le Montmartre - ECPv6.15.13//NONSGML v1.0//EN
CALSCALE:GREGORIAN
METHOD:PUBLISH
X-WR-CALNAME:Le Montmartre
X-ORIGINAL-URL:https://www.lemontmartre.ca
X-WR-CALDESC:Évènements pour Le Montmartre
REFRESH-INTERVAL;VALUE=DURATION:PT1H
X-Robots-Tag:noindex
X-PUBLISHED-TTL:PT1H
BEGIN:VTIMEZONE
TZID:America/Montreal
BEGIN:DAYLIGHT
TZOFFSETFROM:-0500
TZOFFSETTO:-0400
TZNAME:EDT
DTSTART:20250309T070000
END:DAYLIGHT
BEGIN:STANDARD
TZOFFSETFROM:-0400
TZOFFSETTO:-0500
TZNAME:EST
DTSTART:20251102T060000
END:STANDARD
BEGIN:DAYLIGHT
TZOFFSETFROM:-0500
TZOFFSETTO:-0400
TZNAME:EDT
DTSTART:20260308T070000
END:DAYLIGHT
BEGIN:STANDARD
TZOFFSETFROM:-0400
TZOFFSETTO:-0500
TZNAME:EST
DTSTART:20261101T060000
END:STANDARD
BEGIN:DAYLIGHT
TZOFFSETFROM:-0500
TZOFFSETTO:-0400
TZNAME:EDT
DTSTART:20270314T070000
END:DAYLIGHT
BEGIN:STANDARD
TZOFFSETFROM:-0400
TZOFFSETTO:-0500
TZNAME:EST
DTSTART:20271107T060000
END:STANDARD
END:VTIMEZONE
BEGIN:VEVENT
DTSTART;TZID=America/Montreal:20260607T084500
DTEND;TZID=America/Montreal:20260607T120000
DTSTAMP:20260420T103145
CREATED:20251125T210244Z
LAST-MODIFIED:20251210T162509Z
UID:10010993-1780821900-1780833600@www.lemontmartre.ca
SUMMARY:Groupe Harmonie 10H
DESCRIPTION:
URL:https://www.lemontmartre.ca/event/groupe-harmonie-10h-3/2026-06-07/
CATEGORIES:St-Vallier
END:VEVENT
BEGIN:VEVENT
DTSTART;TZID=America/Montreal:20260612T090000
DTEND;TZID=America/Montreal:20260612T170000
DTSTAMP:20260420T103145
CREATED:20251210T163655Z
LAST-MODIFIED:20251210T163655Z
UID:10011540-1781254800-1781283600@www.lemontmartre.ca
SUMMARY:Aquarelle Diane Boilard 9H30
DESCRIPTION:
URL:https://www.lemontmartre.ca/event/aquarelle-diane-boilard-9h30-26/2026-06-12/
CATEGORIES:St-Vallier
END:VEVENT
BEGIN:VEVENT
DTSTART;TZID=America/Montreal:20260613T090000
DTEND;TZID=America/Montreal:20260613T170000
DTSTAMP:20260420T103145
CREATED:20251210T163655Z
LAST-MODIFIED:20251210T163655Z
UID:10011541-1781341200-1781370000@www.lemontmartre.ca
SUMMARY:Aquarelle Diane Boilard 9H30
DESCRIPTION:
URL:https://www.lemontmartre.ca/event/aquarelle-diane-boilard-9h30-26/2026-06-13/
CATEGORIES:St-Vallier
END:VEVENT
BEGIN:VEVENT
DTSTART;TZID=America/Montreal:20260614T090000
DTEND;TZID=America/Montreal:20260614T170000
DTSTAMP:20260420T103145
CREATED:20251210T163655Z
LAST-MODIFIED:20251210T163655Z
UID:10011542-1781427600-1781456400@www.lemontmartre.ca
SUMMARY:Aquarelle Diane Boilard 9H30
DESCRIPTION:
URL:https://www.lemontmartre.ca/event/aquarelle-diane-boilard-9h30-26/2026-06-14/
CATEGORIES:St-Vallier
END:VEVENT
BEGIN:VEVENT
DTSTART;TZID=America/Montreal:20260621T084500
DTEND;TZID=America/Montreal:20260621T120000
DTSTAMP:20260420T103145
CREATED:20251125T210244Z
LAST-MODIFIED:20251210T162509Z
UID:10010995-1782031500-1782043200@www.lemontmartre.ca
SUMMARY:Groupe Harmonie 10H
DESCRIPTION:
URL:https://www.lemontmartre.ca/event/groupe-harmonie-10h-3/2026-06-21/
CATEGORIES:St-Vallier
END:VEVENT
BEGIN:VEVENT
DTSTART;TZID=America/Montreal:20260628T084500
DTEND;TZID=America/Montreal:20260628T120000
DTSTAMP:20260420T103145
CREATED:20251125T210244Z
LAST-MODIFIED:20251210T162509Z
UID:10010996-1782636300-1782648000@www.lemontmartre.ca
SUMMARY:Groupe Harmonie 10H
DESCRIPTION:
URL:https://www.lemontmartre.ca/event/groupe-harmonie-10h-3/2026-06-28/
CATEGORIES:St-Vallier
END:VEVENT
END:VCALENDAR