BEGIN:VCALENDAR
VERSION:2.0
PRODID:-//Le Montmartre - ECPv6.15.13//NONSGML v1.0//EN
CALSCALE:GREGORIAN
METHOD:PUBLISH
X-WR-CALNAME:Le Montmartre
X-ORIGINAL-URL:https://www.lemontmartre.ca
X-WR-CALDESC:Évènements pour Le Montmartre
REFRESH-INTERVAL;VALUE=DURATION:PT1H
X-Robots-Tag:noindex
X-PUBLISHED-TTL:PT1H
BEGIN:VTIMEZONE
TZID:America/Montreal
BEGIN:DAYLIGHT
TZOFFSETFROM:-0500
TZOFFSETTO:-0400
TZNAME:EDT
DTSTART:20250309T070000
END:DAYLIGHT
BEGIN:STANDARD
TZOFFSETFROM:-0400
TZOFFSETTO:-0500
TZNAME:EST
DTSTART:20251102T060000
END:STANDARD
BEGIN:DAYLIGHT
TZOFFSETFROM:-0500
TZOFFSETTO:-0400
TZNAME:EDT
DTSTART:20260308T070000
END:DAYLIGHT
BEGIN:STANDARD
TZOFFSETFROM:-0400
TZOFFSETTO:-0500
TZNAME:EST
DTSTART:20261101T060000
END:STANDARD
BEGIN:DAYLIGHT
TZOFFSETFROM:-0500
TZOFFSETTO:-0400
TZNAME:EDT
DTSTART:20270314T070000
END:DAYLIGHT
BEGIN:STANDARD
TZOFFSETFROM:-0400
TZOFFSETTO:-0500
TZNAME:EST
DTSTART:20271107T060000
END:STANDARD
END:VTIMEZONE
BEGIN:VEVENT
DTSTART;TZID=America/Montreal:20260501T090000
DTEND;TZID=America/Montreal:20260501T170000
DTSTAMP:20260420T103143
CREATED:20251210T154853Z
LAST-MODIFIED:20251210T154853Z
UID:10011521-1777626000-1777654800@www.lemontmartre.ca
SUMMARY:Aquarelle Diane Boilard 9H30
DESCRIPTION:
URL:https://www.lemontmartre.ca/event/aquarelle-diane-boilard-9h30-17/2026-05-01/
CATEGORIES:St-Vallier
END:VEVENT
BEGIN:VEVENT
DTSTART;TZID=America/Montreal:20260502T090000
DTEND;TZID=America/Montreal:20260502T170000
DTSTAMP:20260420T103143
CREATED:20251210T154853Z
LAST-MODIFIED:20251210T154853Z
UID:10011522-1777712400-1777741200@www.lemontmartre.ca
SUMMARY:Aquarelle Diane Boilard 9H30
DESCRIPTION:
URL:https://www.lemontmartre.ca/event/aquarelle-diane-boilard-9h30-17/2026-05-02/
CATEGORIES:St-Vallier
END:VEVENT
BEGIN:VEVENT
DTSTART;TZID=America/Montreal:20260503T090000
DTEND;TZID=America/Montreal:20260503T170000
DTSTAMP:20260420T103143
CREATED:20251210T161823Z
LAST-MODIFIED:20251210T161823Z
UID:10011535-1777798800-1777827600@www.lemontmartre.ca
SUMMARY:Aquarelle Diane Boilard 9H30
DESCRIPTION:
URL:https://www.lemontmartre.ca/event/aquarelle-diane-boilard-9h30-25/
CATEGORIES:St-Vallier
END:VEVENT
BEGIN:VEVENT
DTSTART;TZID=America/Montreal:20260505T183000
DTEND;TZID=America/Montreal:20260505T210000
DTSTAMP:20260420T103143
CREATED:20251125T171653Z
LAST-MODIFIED:20251211T211453Z
UID:10010906-1778005800-1778014800@www.lemontmartre.ca
SUMMARY:Club Toastmasters Les Communicateurs de Québec  18H50
DESCRIPTION:
URL:https://www.lemontmartre.ca/event/club-toastmasters-les-communicateurs-de-quebec-18h50-2/2026-05-05/
CATEGORIES:St-Vallier
END:VEVENT
BEGIN:VEVENT
DTSTART;TZID=America/Montreal:20260506T174500
DTEND;TZID=America/Montreal:20260506T203000
DTSTAMP:20260420T103143
CREATED:20251206T185805Z
LAST-MODIFIED:20251206T185805Z
UID:10011510-1778089500-1778099400@www.lemontmartre.ca
SUMMARY:Méditation au lever du soleil 18H30
DESCRIPTION:
URL:https://www.lemontmartre.ca/event/meditation-au-lever-du-soleil-18h30-9/
CATEGORIES:St-Vallier
END:VEVENT
BEGIN:VEVENT
DTSTART;TZID=America/Montreal:20260508T180000
DTEND;TZID=America/Montreal:20260508T220000
DTSTAMP:20260420T103143
CREATED:20260410T202043Z
LAST-MODIFIED:20260410T202043Z
UID:10012527-1778263200-1778277600@www.lemontmartre.ca
SUMMARY:En route vers la liberté 19H30
DESCRIPTION:
URL:https://www.lemontmartre.ca/event/en-route-vers-la-liberte-19h30-15/
CATEGORIES:St-Vallier
END:VEVENT
BEGIN:VEVENT
DTSTART;TZID=America/Montreal:20260510T084500
DTEND;TZID=America/Montreal:20260510T120000
DTSTAMP:20260420T103143
CREATED:20251125T210244Z
LAST-MODIFIED:20251210T162509Z
UID:10010989-1778402700-1778414400@www.lemontmartre.ca
SUMMARY:Groupe Harmonie 10H
DESCRIPTION:
URL:https://www.lemontmartre.ca/event/groupe-harmonie-10h-3/2026-05-10/
CATEGORIES:St-Vallier
END:VEVENT
BEGIN:VEVENT
DTSTART;TZID=America/Montreal:20260512T183000
DTEND;TZID=America/Montreal:20260512T210000
DTSTAMP:20260420T103143
CREATED:20251125T171653Z
LAST-MODIFIED:20251211T211453Z
UID:10010907-1778610600-1778619600@www.lemontmartre.ca
SUMMARY:Club Toastmasters Les Communicateurs de Québec  18H50
DESCRIPTION:
URL:https://www.lemontmartre.ca/event/club-toastmasters-les-communicateurs-de-quebec-18h50-2/2026-05-12/
CATEGORIES:St-Vallier
END:VEVENT
BEGIN:VEVENT
DTSTART;TZID=America/Montreal:20260513T093000
DTEND;TZID=America/Montreal:20260513T113000
DTSTAMP:20260420T103143
CREATED:20260129T213307Z
LAST-MODIFIED:20260202T203424Z
UID:10012317-1778664600-1778671800@www.lemontmartre.ca
SUMMARY:Les matins intelligents 9H30
DESCRIPTION:
URL:https://www.lemontmartre.ca/event/les-matins-intelligents-9h30-18/2026-05-13/
CATEGORIES:St-Vallier
END:VEVENT
BEGIN:VEVENT
DTSTART;TZID=America/Montreal:20260517T084500
DTEND;TZID=America/Montreal:20260517T120000
DTSTAMP:20260420T103143
CREATED:20251125T210244Z
LAST-MODIFIED:20251210T162509Z
UID:10010990-1779007500-1779019200@www.lemontmartre.ca
SUMMARY:Groupe Harmonie 10H
DESCRIPTION:
URL:https://www.lemontmartre.ca/event/groupe-harmonie-10h-3/2026-05-17/
CATEGORIES:St-Vallier
END:VEVENT
BEGIN:VEVENT
DTSTART;TZID=America/Montreal:20260519T183000
DTEND;TZID=America/Montreal:20260519T210000
DTSTAMP:20260420T103143
CREATED:20251125T171653Z
LAST-MODIFIED:20251211T211453Z
UID:10010908-1779215400-1779224400@www.lemontmartre.ca
SUMMARY:Club Toastmasters Les Communicateurs de Québec  18H50
DESCRIPTION:
URL:https://www.lemontmartre.ca/event/club-toastmasters-les-communicateurs-de-quebec-18h50-2/2026-05-19/
CATEGORIES:St-Vallier
END:VEVENT
BEGIN:VEVENT
DTSTART;TZID=America/Montreal:20260524T084500
DTEND;TZID=America/Montreal:20260524T120000
DTSTAMP:20260420T103143
CREATED:20251125T210244Z
LAST-MODIFIED:20251210T162509Z
UID:10010991-1779612300-1779624000@www.lemontmartre.ca
SUMMARY:Groupe Harmonie 10H
DESCRIPTION:
URL:https://www.lemontmartre.ca/event/groupe-harmonie-10h-3/2026-05-24/
CATEGORIES:St-Vallier
END:VEVENT
BEGIN:VEVENT
DTSTART;TZID=America/Montreal:20260526T183000
DTEND;TZID=America/Montreal:20260526T210000
DTSTAMP:20260420T103143
CREATED:20251125T171653Z
LAST-MODIFIED:20251211T211453Z
UID:10010909-1779820200-1779829200@www.lemontmartre.ca
SUMMARY:Club Toastmasters Les Communicateurs de Québec  18H50
DESCRIPTION:
URL:https://www.lemontmartre.ca/event/club-toastmasters-les-communicateurs-de-quebec-18h50-2/2026-05-26/
CATEGORIES:St-Vallier
END:VEVENT
BEGIN:VEVENT
DTSTART;TZID=America/Montreal:20260531T084500
DTEND;TZID=America/Montreal:20260531T120000
DTSTAMP:20260420T103143
CREATED:20251125T210244Z
LAST-MODIFIED:20251210T162509Z
UID:10010992-1780217100-1780228800@www.lemontmartre.ca
SUMMARY:Groupe Harmonie 10H
DESCRIPTION:
URL:https://www.lemontmartre.ca/event/groupe-harmonie-10h-3/2026-05-31/
CATEGORIES:St-Vallier
END:VEVENT
END:VCALENDAR