BEGIN:VCALENDAR
VERSION:2.0
PRODID:-//Le Montmartre - ECPv6.15.13//NONSGML v1.0//EN
CALSCALE:GREGORIAN
METHOD:PUBLISH
X-ORIGINAL-URL:https://www.lemontmartre.ca
X-WR-CALDESC:Évènements pour Le Montmartre
REFRESH-INTERVAL;VALUE=DURATION:PT1H
X-Robots-Tag:noindex
X-PUBLISHED-TTL:PT1H
BEGIN:VTIMEZONE
TZID:America/Montreal
BEGIN:DAYLIGHT
TZOFFSETFROM:-0500
TZOFFSETTO:-0400
TZNAME:EDT
DTSTART:20250309T070000
END:DAYLIGHT
BEGIN:STANDARD
TZOFFSETFROM:-0400
TZOFFSETTO:-0500
TZNAME:EST
DTSTART:20251102T060000
END:STANDARD
BEGIN:DAYLIGHT
TZOFFSETFROM:-0500
TZOFFSETTO:-0400
TZNAME:EDT
DTSTART:20260308T070000
END:DAYLIGHT
BEGIN:STANDARD
TZOFFSETFROM:-0400
TZOFFSETTO:-0500
TZNAME:EST
DTSTART:20261101T060000
END:STANDARD
BEGIN:DAYLIGHT
TZOFFSETFROM:-0500
TZOFFSETTO:-0400
TZNAME:EDT
DTSTART:20270314T070000
END:DAYLIGHT
BEGIN:STANDARD
TZOFFSETFROM:-0400
TZOFFSETTO:-0500
TZNAME:EST
DTSTART:20271107T060000
END:STANDARD
END:VTIMEZONE
BEGIN:VEVENT
DTSTART;TZID=America/Montreal:20260201T084500
DTEND;TZID=America/Montreal:20260201T120000
DTSTAMP:20260420T150948
CREATED:20251125T210244Z
LAST-MODIFIED:20251210T162509Z
UID:10010975-1769935500-1769947200@www.lemontmartre.ca
SUMMARY:Groupe Harmonie 10H
DESCRIPTION:
URL:https://www.lemontmartre.ca/event/groupe-harmonie-10h-3/2026-02-01/
CATEGORIES:St-Vallier
END:VEVENT
BEGIN:VEVENT
DTSTART;TZID=America/Montreal:20260203T183000
DTEND;TZID=America/Montreal:20260203T210000
DTSTAMP:20260420T150948
CREATED:20251125T171653Z
LAST-MODIFIED:20251211T211453Z
UID:10010893-1770143400-1770152400@www.lemontmartre.ca
SUMMARY:Club Toastmasters Les Communicateurs de Québec  18H50
DESCRIPTION:
URL:https://www.lemontmartre.ca/event/club-toastmasters-les-communicateurs-de-quebec-18h50-2/2026-02-03/
CATEGORIES:St-Vallier
END:VEVENT
BEGIN:VEVENT
DTSTART;TZID=America/Montreal:20260208T084500
DTEND;TZID=America/Montreal:20260208T120000
DTSTAMP:20260420T150948
CREATED:20251125T210244Z
LAST-MODIFIED:20251210T162509Z
UID:10010976-1770540300-1770552000@www.lemontmartre.ca
SUMMARY:Groupe Harmonie 10H
DESCRIPTION:
URL:https://www.lemontmartre.ca/event/groupe-harmonie-10h-3/2026-02-08/
CATEGORIES:St-Vallier
END:VEVENT
BEGIN:VEVENT
DTSTART;TZID=America/Montreal:20260210T183000
DTEND;TZID=America/Montreal:20260210T210000
DTSTAMP:20260420T150948
CREATED:20251125T171653Z
LAST-MODIFIED:20251211T211453Z
UID:10010894-1770748200-1770757200@www.lemontmartre.ca
SUMMARY:Club Toastmasters Les Communicateurs de Québec  18H50
DESCRIPTION:
URL:https://www.lemontmartre.ca/event/club-toastmasters-les-communicateurs-de-quebec-18h50-2/2026-02-10/
CATEGORIES:St-Vallier
END:VEVENT
BEGIN:VEVENT
DTSTART;TZID=America/Montreal:20260211T093000
DTEND;TZID=America/Montreal:20260211T113000
DTSTAMP:20260420T150948
CREATED:20260129T213307Z
LAST-MODIFIED:20260202T203424Z
UID:10012307-1770802200-1770809400@www.lemontmartre.ca
SUMMARY:Les matins intelligents 9H30
DESCRIPTION:
URL:https://www.lemontmartre.ca/event/les-matins-intelligents-9h30-18/2026-02-11/
CATEGORIES:St-Vallier
END:VEVENT
BEGIN:VEVENT
DTSTART;TZID=America/Montreal:20260215T084500
DTEND;TZID=America/Montreal:20260215T120000
DTSTAMP:20260420T150948
CREATED:20251125T210244Z
LAST-MODIFIED:20251210T162509Z
UID:10010977-1771145100-1771156800@www.lemontmartre.ca
SUMMARY:Groupe Harmonie 10H
DESCRIPTION:
URL:https://www.lemontmartre.ca/event/groupe-harmonie-10h-3/2026-02-15/
CATEGORIES:St-Vallier
END:VEVENT
BEGIN:VEVENT
DTSTART;TZID=America/Montreal:20260217T183000
DTEND;TZID=America/Montreal:20260217T210000
DTSTAMP:20260420T150948
CREATED:20251125T171653Z
LAST-MODIFIED:20251211T211453Z
UID:10010895-1771353000-1771362000@www.lemontmartre.ca
SUMMARY:Club Toastmasters Les Communicateurs de Québec  18H50
DESCRIPTION:
URL:https://www.lemontmartre.ca/event/club-toastmasters-les-communicateurs-de-quebec-18h50-2/2026-02-17/
CATEGORIES:St-Vallier
END:VEVENT
BEGIN:VEVENT
DTSTART;TZID=America/Montreal:20260218T093000
DTEND;TZID=America/Montreal:20260218T113000
DTSTAMP:20260420T150948
CREATED:20260129T213307Z
LAST-MODIFIED:20260202T203424Z
UID:10012308-1771407000-1771414200@www.lemontmartre.ca
SUMMARY:Les matins intelligents 9H30
DESCRIPTION:
URL:https://www.lemontmartre.ca/event/les-matins-intelligents-9h30-18/2026-02-18/
CATEGORIES:St-Vallier
END:VEVENT
BEGIN:VEVENT
DTSTART;TZID=America/Montreal:20260220T090000
DTEND;TZID=America/Montreal:20260220T170000
DTSTAMP:20260420T150948
CREATED:20251210T154651Z
LAST-MODIFIED:20251210T154651Z
UID:10011517-1771578000-1771606800@www.lemontmartre.ca
SUMMARY:Aquarelle Diane Boilard 9H30
DESCRIPTION:
URL:https://www.lemontmartre.ca/event/aquarelle-diane-boilard-9h30-15/2026-02-20/
CATEGORIES:St-Vallier
END:VEVENT
BEGIN:VEVENT
DTSTART;TZID=America/Montreal:20260221T090000
DTEND;TZID=America/Montreal:20260221T170000
DTSTAMP:20260420T150948
CREATED:20251210T154651Z
LAST-MODIFIED:20251210T154651Z
UID:10011518-1771664400-1771693200@www.lemontmartre.ca
SUMMARY:Aquarelle Diane Boilard 9H30
DESCRIPTION:
URL:https://www.lemontmartre.ca/event/aquarelle-diane-boilard-9h30-15/2026-02-21/
CATEGORIES:St-Vallier
END:VEVENT
BEGIN:VEVENT
DTSTART;TZID=America/Montreal:20260222T090000
DTEND;TZID=America/Montreal:20260222T170000
DTSTAMP:20260420T150948
CREATED:20251210T155502Z
LAST-MODIFIED:20251210T163152Z
UID:10011534-1771750800-1771779600@www.lemontmartre.ca
SUMMARY:Aquarelle Diane Boilard 9H30
DESCRIPTION:
URL:https://www.lemontmartre.ca/event/aquarelle-diane-boilard-9h30-24/
CATEGORIES:St-Vallier
END:VEVENT
BEGIN:VEVENT
DTSTART;TZID=America/Montreal:20260224T183000
DTEND;TZID=America/Montreal:20260224T210000
DTSTAMP:20260420T150948
CREATED:20251125T171653Z
LAST-MODIFIED:20251211T211453Z
UID:10010896-1771957800-1771966800@www.lemontmartre.ca
SUMMARY:Club Toastmasters Les Communicateurs de Québec  18H50
DESCRIPTION:
URL:https://www.lemontmartre.ca/event/club-toastmasters-les-communicateurs-de-quebec-18h50-2/2026-02-24/
CATEGORIES:St-Vallier
END:VEVENT
BEGIN:VEVENT
DTSTART;TZID=America/Montreal:20260225T093000
DTEND;TZID=America/Montreal:20260225T113000
DTSTAMP:20260420T150948
CREATED:20260129T213307Z
LAST-MODIFIED:20260202T203424Z
UID:10012309-1772011800-1772019000@www.lemontmartre.ca
SUMMARY:Les matins intelligents 9H30
DESCRIPTION:
URL:https://www.lemontmartre.ca/event/les-matins-intelligents-9h30-18/2026-02-25/
CATEGORIES:St-Vallier
END:VEVENT
END:VCALENDAR