BEGIN:VCALENDAR
VERSION:2.0
PRODID:-//Le Montmartre - ECPv6.15.13//NONSGML v1.0//EN
CALSCALE:GREGORIAN
METHOD:PUBLISH
X-ORIGINAL-URL:https://www.lemontmartre.ca
X-WR-CALDESC:Évènements pour Le Montmartre
REFRESH-INTERVAL;VALUE=DURATION:PT1H
X-Robots-Tag:noindex
X-PUBLISHED-TTL:PT1H
BEGIN:VTIMEZONE
TZID:America/Montreal
BEGIN:DAYLIGHT
TZOFFSETFROM:-0500
TZOFFSETTO:-0400
TZNAME:EDT
DTSTART:20240310T070000
END:DAYLIGHT
BEGIN:STANDARD
TZOFFSETFROM:-0400
TZOFFSETTO:-0500
TZNAME:EST
DTSTART:20241103T060000
END:STANDARD
BEGIN:DAYLIGHT
TZOFFSETFROM:-0500
TZOFFSETTO:-0400
TZNAME:EDT
DTSTART:20250309T070000
END:DAYLIGHT
BEGIN:STANDARD
TZOFFSETFROM:-0400
TZOFFSETTO:-0500
TZNAME:EST
DTSTART:20251102T060000
END:STANDARD
BEGIN:DAYLIGHT
TZOFFSETFROM:-0500
TZOFFSETTO:-0400
TZNAME:EDT
DTSTART:20260308T070000
END:DAYLIGHT
BEGIN:STANDARD
TZOFFSETFROM:-0400
TZOFFSETTO:-0500
TZNAME:EST
DTSTART:20261101T060000
END:STANDARD
END:VTIMEZONE
BEGIN:VEVENT
DTSTART;TZID=America/Montreal:20251202T183000
DTEND;TZID=America/Montreal:20251202T203000
DTSTAMP:20260422T132232
CREATED:20250828T190416Z
LAST-MODIFIED:20250828T190416Z
UID:10008564-1764700200-1764707400@www.lemontmartre.ca
SUMMARY:Club Toastmasters Les Communicateurs de Québec 18H50
DESCRIPTION:
URL:https://www.lemontmartre.ca/event/club-toastmasters-les-communicateurs-de-quebec-18h50/2025-12-02/
CATEGORIES:St-Vallier
END:VEVENT
BEGIN:VEVENT
DTSTART;TZID=America/Montreal:20251203T093000
DTEND;TZID=America/Montreal:20251203T113000
DTSTAMP:20260422T132232
CREATED:20250828T190733Z
LAST-MODIFIED:20251022T001822Z
UID:10008573-1764754200-1764761400@www.lemontmartre.ca
SUMMARY:Les matins intelligents 9H30
DESCRIPTION:
URL:https://www.lemontmartre.ca/event/les-matins-intelligents-9h30-12/2025-12-03/
CATEGORIES:St-Vallier
END:VEVENT
BEGIN:VEVENT
DTSTART;TZID=America/Montreal:20251205T180000
DTEND;TZID=America/Montreal:20251205T220000
DTSTAMP:20260422T132232
CREATED:20251125T163147Z
LAST-MODIFIED:20251125T163147Z
UID:10010581-1764957600-1764972000@www.lemontmartre.ca
SUMMARY:En route vers la liberté 19H30
DESCRIPTION:
URL:https://www.lemontmartre.ca/event/en-route-vers-la-liberte-19h30-9/
CATEGORIES:St-Vallier
END:VEVENT
BEGIN:VEVENT
DTSTART;TZID=America/Montreal:20251207T084500
DTEND;TZID=America/Montreal:20251207T120000
DTSTAMP:20260422T132232
CREATED:20241218T215554Z
LAST-MODIFIED:20251002T183002Z
UID:10006397-1765097100-1765108800@www.lemontmartre.ca
SUMMARY:Groupe Harmonie 10H
DESCRIPTION:
URL:https://www.lemontmartre.ca/event/groupe-harmonie-10h-2/2025-12-07/
CATEGORIES:St-Vallier
END:VEVENT
BEGIN:VEVENT
DTSTART;TZID=America/Montreal:20251210T090000
DTEND;TZID=America/Montreal:20251210T170000
DTSTAMP:20260422T132232
CREATED:20251118T202427Z
LAST-MODIFIED:20251118T202427Z
UID:10010559-1765357200-1765386000@www.lemontmartre.ca
SUMMARY:Aquarelle Diane Boilard 9H30
DESCRIPTION:
URL:https://www.lemontmartre.ca/event/aquarelle-diane-boilard-9h30-13/2025-12-10/
CATEGORIES:St-Vallier
END:VEVENT
BEGIN:VEVENT
DTSTART;TZID=America/Montreal:20251211T090000
DTEND;TZID=America/Montreal:20251211T170000
DTSTAMP:20260422T132232
CREATED:20251118T202427Z
LAST-MODIFIED:20251118T202427Z
UID:10010560-1765443600-1765472400@www.lemontmartre.ca
SUMMARY:Aquarelle Diane Boilard 9H30
DESCRIPTION:
URL:https://www.lemontmartre.ca/event/aquarelle-diane-boilard-9h30-13/2025-12-11/
CATEGORIES:St-Vallier
END:VEVENT
BEGIN:VEVENT
DTSTART;TZID=America/Montreal:20251212T090000
DTEND;TZID=America/Montreal:20251212T170000
DTSTAMP:20260422T132232
CREATED:20251118T202427Z
LAST-MODIFIED:20251118T202427Z
UID:10010561-1765530000-1765558800@www.lemontmartre.ca
SUMMARY:Aquarelle Diane Boilard 9H30
DESCRIPTION:
URL:https://www.lemontmartre.ca/event/aquarelle-diane-boilard-9h30-13/2025-12-12/
CATEGORIES:St-Vallier
END:VEVENT
BEGIN:VEVENT
DTSTART;TZID=America/Montreal:20251213T090000
DTEND;TZID=America/Montreal:20251213T170000
DTSTAMP:20260422T132232
CREATED:20251118T202427Z
LAST-MODIFIED:20251118T202427Z
UID:10010562-1765616400-1765645200@www.lemontmartre.ca
SUMMARY:Aquarelle Diane Boilard 9H30
DESCRIPTION:
URL:https://www.lemontmartre.ca/event/aquarelle-diane-boilard-9h30-13/2025-12-13/
CATEGORIES:St-Vallier
END:VEVENT
BEGIN:VEVENT
DTSTART;TZID=America/Montreal:20251214T084500
DTEND;TZID=America/Montreal:20251214T120000
DTSTAMP:20260422T132232
CREATED:20241218T215554Z
LAST-MODIFIED:20251002T183002Z
UID:10006398-1765701900-1765713600@www.lemontmartre.ca
SUMMARY:Groupe Harmonie 10H
DESCRIPTION:
URL:https://www.lemontmartre.ca/event/groupe-harmonie-10h-2/2025-12-14/
CATEGORIES:St-Vallier
END:VEVENT
BEGIN:VEVENT
DTSTART;TZID=America/Montreal:20251214T160000
DTEND;TZID=America/Montreal:20251214T233000
DTSTAMP:20260422T132232
CREATED:20251125T162305Z
LAST-MODIFIED:20251125T162305Z
UID:10010579-1765728000-1765755000@www.lemontmartre.ca
SUMMARY:Ass. retraités SSQ/Beneva  17H
DESCRIPTION:
URL:https://www.lemontmartre.ca/event/ass-retraites-ssq-beneva-17h-3/
CATEGORIES:St-Vallier
END:VEVENT
BEGIN:VEVENT
DTSTART;TZID=America/Montreal:20251217T093000
DTEND;TZID=America/Montreal:20251217T113000
DTSTAMP:20260422T132232
CREATED:20250828T190733Z
LAST-MODIFIED:20251022T001822Z
UID:10008574-1765963800-1765971000@www.lemontmartre.ca
SUMMARY:Les matins intelligents 9H30
DESCRIPTION:
URL:https://www.lemontmartre.ca/event/les-matins-intelligents-9h30-12/2025-12-17/
CATEGORIES:St-Vallier
END:VEVENT
BEGIN:VEVENT
DTSTART;TZID=America/Montreal:20251219T180000
DTEND;TZID=America/Montreal:20251219T220000
DTSTAMP:20260422T132232
CREATED:20251125T163224Z
LAST-MODIFIED:20251125T163224Z
UID:10010582-1766167200-1766181600@www.lemontmartre.ca
SUMMARY:En route vers la liberté 19H30
DESCRIPTION:
URL:https://www.lemontmartre.ca/event/en-route-vers-la-liberte-19h30-10/
CATEGORIES:St-Vallier
END:VEVENT
BEGIN:VEVENT
DTSTART;TZID=America/Montreal:20251220T080000
DTEND;TZID=America/Montreal:20251220T160000
DTSTAMP:20260422T132232
CREATED:20251125T200044Z
LAST-MODIFIED:20251125T200044Z
UID:10010913-1766217600-1766246400@www.lemontmartre.ca
SUMMARY:Communauté Jean de la Croix 8H15
DESCRIPTION:
URL:https://www.lemontmartre.ca/event/communaute-jean-de-la-croix-8h15-4/
CATEGORIES:St-Vallier
END:VEVENT
BEGIN:VEVENT
DTSTART;TZID=America/Montreal:20251221T084500
DTEND;TZID=America/Montreal:20251221T120000
DTSTAMP:20260422T132232
CREATED:20241218T215554Z
LAST-MODIFIED:20251002T183002Z
UID:10006399-1766306700-1766318400@www.lemontmartre.ca
SUMMARY:Groupe Harmonie 10H
DESCRIPTION:
URL:https://www.lemontmartre.ca/event/groupe-harmonie-10h-2/2025-12-21/
CATEGORIES:St-Vallier
END:VEVENT
BEGIN:VEVENT
DTSTART;TZID=America/Montreal:20251228T084500
DTEND;TZID=America/Montreal:20251228T120000
DTSTAMP:20260422T132232
CREATED:20241218T215554Z
LAST-MODIFIED:20251002T183002Z
UID:10006400-1766911500-1766923200@www.lemontmartre.ca
SUMMARY:Groupe Harmonie 10H
DESCRIPTION:
URL:https://www.lemontmartre.ca/event/groupe-harmonie-10h-2/2025-12-28/
CATEGORIES:St-Vallier
END:VEVENT
END:VCALENDAR