BEGIN:VCALENDAR
VERSION:2.0
PRODID:-//Le Montmartre - ECPv6.15.13//NONSGML v1.0//EN
CALSCALE:GREGORIAN
METHOD:PUBLISH
X-WR-CALNAME:Le Montmartre
X-ORIGINAL-URL:https://www.lemontmartre.ca
X-WR-CALDESC:Évènements pour Le Montmartre
REFRESH-INTERVAL;VALUE=DURATION:PT1H
X-Robots-Tag:noindex
X-PUBLISHED-TTL:PT1H
BEGIN:VTIMEZONE
TZID:America/Montreal
BEGIN:DAYLIGHT
TZOFFSETFROM:-0500
TZOFFSETTO:-0400
TZNAME:EDT
DTSTART:20240310T070000
END:DAYLIGHT
BEGIN:STANDARD
TZOFFSETFROM:-0400
TZOFFSETTO:-0500
TZNAME:EST
DTSTART:20241103T060000
END:STANDARD
BEGIN:DAYLIGHT
TZOFFSETFROM:-0500
TZOFFSETTO:-0400
TZNAME:EDT
DTSTART:20250309T070000
END:DAYLIGHT
BEGIN:STANDARD
TZOFFSETFROM:-0400
TZOFFSETTO:-0500
TZNAME:EST
DTSTART:20251102T060000
END:STANDARD
BEGIN:DAYLIGHT
TZOFFSETFROM:-0500
TZOFFSETTO:-0400
TZNAME:EDT
DTSTART:20260308T070000
END:DAYLIGHT
BEGIN:STANDARD
TZOFFSETFROM:-0400
TZOFFSETTO:-0500
TZNAME:EST
DTSTART:20261101T060000
END:STANDARD
END:VTIMEZONE
BEGIN:VEVENT
DTSTART;TZID=America/Montreal:20251001T093000
DTEND;TZID=America/Montreal:20251001T113000
DTSTAMP:20260422T161050
CREATED:20250828T190733Z
LAST-MODIFIED:20251022T001822Z
UID:10008567-1759311000-1759318200@www.lemontmartre.ca
SUMMARY:Les matins intelligents 9H30
DESCRIPTION:
URL:https://www.lemontmartre.ca/event/les-matins-intelligents-9h30-12/2025-10-01/
CATEGORIES:St-Vallier
END:VEVENT
BEGIN:VEVENT
DTSTART;TZID=America/Montreal:20251004T120000
DTEND;TZID=America/Montreal:20251004T160000
DTSTAMP:20260422T161050
CREATED:20250919T145552Z
LAST-MODIFIED:20250919T145552Z
UID:10009962-1759579200-1759593600@www.lemontmartre.ca
SUMMARY:Club de bridge Quatre-Coeurs 12H45
DESCRIPTION:
URL:https://www.lemontmartre.ca/event/club-de-bridge-quatre-coeurs-12h45-18/
CATEGORIES:St-Vallier
END:VEVENT
BEGIN:VEVENT
DTSTART;TZID=America/Montreal:20251005T120000
DTEND;TZID=America/Montreal:20251005T190000
DTSTAMP:20260422T161050
CREATED:20250924T002630Z
LAST-MODIFIED:20250924T002630Z
UID:10009990-1759665600-1759690800@www.lemontmartre.ca
SUMMARY:Mouvement du cursillo secteur Québec  15H30
DESCRIPTION:
URL:https://www.lemontmartre.ca/event/mouvement-du-cursillo-secteur-quebec-15h30-4/
CATEGORIES:St-Vallier
END:VEVENT
BEGIN:VEVENT
DTSTART;TZID=America/Montreal:20251007T183000
DTEND;TZID=America/Montreal:20251007T203000
DTSTAMP:20260422T161050
CREATED:20250828T190416Z
LAST-MODIFIED:20250828T190416Z
UID:10008556-1759861800-1759869000@www.lemontmartre.ca
SUMMARY:Club Toastmasters Les Communicateurs de Québec 18H50
DESCRIPTION:
URL:https://www.lemontmartre.ca/event/club-toastmasters-les-communicateurs-de-quebec-18h50/2025-10-07/
CATEGORIES:St-Vallier
END:VEVENT
BEGIN:VEVENT
DTSTART;TZID=America/Montreal:20251008T093000
DTEND;TZID=America/Montreal:20251008T113000
DTSTAMP:20260422T161050
CREATED:20250828T190733Z
LAST-MODIFIED:20251022T001822Z
UID:10008568-1759915800-1759923000@www.lemontmartre.ca
SUMMARY:Les matins intelligents 9H30
DESCRIPTION:
URL:https://www.lemontmartre.ca/event/les-matins-intelligents-9h30-12/2025-10-08/
CATEGORIES:St-Vallier
END:VEVENT
BEGIN:VEVENT
DTSTART;TZID=America/Montreal:20251012T084500
DTEND;TZID=America/Montreal:20251012T120000
DTSTAMP:20260422T161050
CREATED:20241218T215554Z
LAST-MODIFIED:20251002T183002Z
UID:10006389-1760258700-1760270400@www.lemontmartre.ca
SUMMARY:Groupe Harmonie 10H
DESCRIPTION:
URL:https://www.lemontmartre.ca/event/groupe-harmonie-10h-2/2025-10-12/
CATEGORIES:St-Vallier
END:VEVENT
BEGIN:VEVENT
DTSTART;TZID=America/Montreal:20251014T183000
DTEND;TZID=America/Montreal:20251014T203000
DTSTAMP:20260422T161050
CREATED:20250828T190416Z
LAST-MODIFIED:20250828T190416Z
UID:10008557-1760466600-1760473800@www.lemontmartre.ca
SUMMARY:Club Toastmasters Les Communicateurs de Québec 18H50
DESCRIPTION:
URL:https://www.lemontmartre.ca/event/club-toastmasters-les-communicateurs-de-quebec-18h50/2025-10-14/
CATEGORIES:St-Vallier
END:VEVENT
BEGIN:VEVENT
DTSTART;TZID=America/Montreal:20251015T093000
DTEND;TZID=America/Montreal:20251015T113000
DTSTAMP:20260422T161050
CREATED:20250828T190733Z
LAST-MODIFIED:20251022T001822Z
UID:10008569-1760520600-1760527800@www.lemontmartre.ca
SUMMARY:Les matins intelligents 9H30
DESCRIPTION:
URL:https://www.lemontmartre.ca/event/les-matins-intelligents-9h30-12/2025-10-15/
CATEGORIES:St-Vallier
END:VEVENT
BEGIN:VEVENT
DTSTART;TZID=America/Montreal:20251019T084500
DTEND;TZID=America/Montreal:20251019T120000
DTSTAMP:20260422T161050
CREATED:20241218T215554Z
LAST-MODIFIED:20251002T183002Z
UID:10006390-1760863500-1760875200@www.lemontmartre.ca
SUMMARY:Groupe Harmonie 10H
DESCRIPTION:
URL:https://www.lemontmartre.ca/event/groupe-harmonie-10h-2/2025-10-19/
CATEGORIES:St-Vallier
END:VEVENT
BEGIN:VEVENT
DTSTART;TZID=America/Montreal:20251021T183000
DTEND;TZID=America/Montreal:20251021T203000
DTSTAMP:20260422T161050
CREATED:20250828T190416Z
LAST-MODIFIED:20250828T190416Z
UID:10008558-1761071400-1761078600@www.lemontmartre.ca
SUMMARY:Club Toastmasters Les Communicateurs de Québec 18H50
DESCRIPTION:
URL:https://www.lemontmartre.ca/event/club-toastmasters-les-communicateurs-de-quebec-18h50/2025-10-21/
CATEGORIES:St-Vallier
END:VEVENT
BEGIN:VEVENT
DTSTART;TZID=America/Montreal:20251022T090000
DTEND;TZID=America/Montreal:20251022T170000
DTSTAMP:20260422T161050
CREATED:20251003T192035Z
LAST-MODIFIED:20251003T192035Z
UID:10010032-1761123600-1761152400@www.lemontmartre.ca
SUMMARY:Aquarelle Diane Boilard 9H30
DESCRIPTION:
URL:https://www.lemontmartre.ca/event/aquarelle-diane-boilard-9h30-11/2025-10-22/
CATEGORIES:St-Vallier
END:VEVENT
BEGIN:VEVENT
DTSTART;TZID=America/Montreal:20251023T090000
DTEND;TZID=America/Montreal:20251023T170000
DTSTAMP:20260422T161050
CREATED:20251003T192035Z
LAST-MODIFIED:20251003T192035Z
UID:10010033-1761210000-1761238800@www.lemontmartre.ca
SUMMARY:Aquarelle Diane Boilard 9H30
DESCRIPTION:
URL:https://www.lemontmartre.ca/event/aquarelle-diane-boilard-9h30-11/2025-10-23/
CATEGORIES:St-Vallier
END:VEVENT
BEGIN:VEVENT
DTSTART;TZID=America/Montreal:20251024T090000
DTEND;TZID=America/Montreal:20251024T170000
DTSTAMP:20260422T161050
CREATED:20251003T192035Z
LAST-MODIFIED:20251003T192035Z
UID:10010034-1761296400-1761325200@www.lemontmartre.ca
SUMMARY:Aquarelle Diane Boilard 9H30
DESCRIPTION:
URL:https://www.lemontmartre.ca/event/aquarelle-diane-boilard-9h30-11/2025-10-24/
CATEGORIES:St-Vallier
END:VEVENT
BEGIN:VEVENT
DTSTART;TZID=America/Montreal:20251025T090000
DTEND;TZID=America/Montreal:20251025T170000
DTSTAMP:20260422T161050
CREATED:20251003T192035Z
LAST-MODIFIED:20251003T192035Z
UID:10010035-1761382800-1761411600@www.lemontmartre.ca
SUMMARY:Aquarelle Diane Boilard 9H30
DESCRIPTION:
URL:https://www.lemontmartre.ca/event/aquarelle-diane-boilard-9h30-11/2025-10-25/
CATEGORIES:St-Vallier
END:VEVENT
BEGIN:VEVENT
DTSTART;TZID=America/Montreal:20251026T084500
DTEND;TZID=America/Montreal:20251026T120000
DTSTAMP:20260422T161050
CREATED:20241218T215554Z
LAST-MODIFIED:20251002T183002Z
UID:10006391-1761468300-1761480000@www.lemontmartre.ca
SUMMARY:Groupe Harmonie 10H
DESCRIPTION:
URL:https://www.lemontmartre.ca/event/groupe-harmonie-10h-2/2025-10-26/
CATEGORIES:St-Vallier
END:VEVENT
BEGIN:VEVENT
DTSTART;TZID=America/Montreal:20251028T183000
DTEND;TZID=America/Montreal:20251028T203000
DTSTAMP:20260422T161050
CREATED:20250828T190416Z
LAST-MODIFIED:20250828T190416Z
UID:10008559-1761676200-1761683400@www.lemontmartre.ca
SUMMARY:Club Toastmasters Les Communicateurs de Québec 18H50
DESCRIPTION:
URL:https://www.lemontmartre.ca/event/club-toastmasters-les-communicateurs-de-quebec-18h50/2025-10-28/
CATEGORIES:St-Vallier
END:VEVENT
BEGIN:VEVENT
DTSTART;TZID=America/Montreal:20251029T093000
DTEND;TZID=America/Montreal:20251029T113000
DTSTAMP:20260422T161050
CREATED:20250828T190733Z
LAST-MODIFIED:20251022T001822Z
UID:10008651-1761730200-1761737400@www.lemontmartre.ca
SUMMARY:Les matins intelligents 9H30
DESCRIPTION:
URL:https://www.lemontmartre.ca/event/les-matins-intelligents-9h30-12/2025-10-29/
CATEGORIES:St-Vallier
END:VEVENT
END:VCALENDAR