BEGIN:VCALENDAR
VERSION:2.0
PRODID:-//Le Montmartre - ECPv6.15.13//NONSGML v1.0//EN
CALSCALE:GREGORIAN
METHOD:PUBLISH
X-WR-CALNAME:Le Montmartre
X-ORIGINAL-URL:https://www.lemontmartre.ca
X-WR-CALDESC:Évènements pour Le Montmartre
REFRESH-INTERVAL;VALUE=DURATION:PT1H
X-Robots-Tag:noindex
X-PUBLISHED-TTL:PT1H
BEGIN:VTIMEZONE
TZID:America/Montreal
BEGIN:DAYLIGHT
TZOFFSETFROM:-0500
TZOFFSETTO:-0400
TZNAME:EDT
DTSTART:20240310T070000
END:DAYLIGHT
BEGIN:STANDARD
TZOFFSETFROM:-0400
TZOFFSETTO:-0500
TZNAME:EST
DTSTART:20241103T060000
END:STANDARD
BEGIN:DAYLIGHT
TZOFFSETFROM:-0500
TZOFFSETTO:-0400
TZNAME:EDT
DTSTART:20250309T070000
END:DAYLIGHT
BEGIN:STANDARD
TZOFFSETFROM:-0400
TZOFFSETTO:-0500
TZNAME:EST
DTSTART:20251102T060000
END:STANDARD
BEGIN:DAYLIGHT
TZOFFSETFROM:-0500
TZOFFSETTO:-0400
TZNAME:EDT
DTSTART:20260308T070000
END:DAYLIGHT
BEGIN:STANDARD
TZOFFSETFROM:-0400
TZOFFSETTO:-0500
TZNAME:EST
DTSTART:20261101T060000
END:STANDARD
END:VTIMEZONE
BEGIN:VEVENT
DTSTART;TZID=America/Montreal:20250706T084500
DTEND;TZID=America/Montreal:20250706T120000
DTSTAMP:20260423T062805
CREATED:20241218T215554Z
LAST-MODIFIED:20251002T183002Z
UID:10006375-1751791500-1751803200@www.lemontmartre.ca
SUMMARY:Groupe Harmonie 10H
DESCRIPTION:
URL:https://www.lemontmartre.ca/event/groupe-harmonie-10h-2/2025-07-06/
CATEGORIES:St-Vallier
END:VEVENT
BEGIN:VEVENT
DTSTART;TZID=America/Montreal:20250710T180000
DTEND;TZID=America/Montreal:20250710T210000
DTSTAMP:20260423T062805
CREATED:20250709T143917Z
LAST-MODIFIED:20250709T143941Z
UID:10008466-1752170400-1752181200@www.lemontmartre.ca
SUMMARY:Groupe St-Antoine 19H
DESCRIPTION:
URL:https://www.lemontmartre.ca/event/groupe-st-antoine-19h-3/2025-07-10/
CATEGORIES:St-Vallier
END:VEVENT
BEGIN:VEVENT
DTSTART;TZID=America/Montreal:20250713T084500
DTEND;TZID=America/Montreal:20250713T120000
DTSTAMP:20260423T062805
CREATED:20241218T215554Z
LAST-MODIFIED:20251002T183002Z
UID:10006376-1752396300-1752408000@www.lemontmartre.ca
SUMMARY:Groupe Harmonie 10H
DESCRIPTION:
URL:https://www.lemontmartre.ca/event/groupe-harmonie-10h-2/2025-07-13/
CATEGORIES:St-Vallier
END:VEVENT
BEGIN:VEVENT
DTSTART;TZID=America/Montreal:20250717T180000
DTEND;TZID=America/Montreal:20250717T210000
DTSTAMP:20260423T062805
CREATED:20250709T143917Z
LAST-MODIFIED:20250709T143941Z
UID:10008467-1752775200-1752786000@www.lemontmartre.ca
SUMMARY:Groupe St-Antoine 19H
DESCRIPTION:
URL:https://www.lemontmartre.ca/event/groupe-st-antoine-19h-3/2025-07-17/
CATEGORIES:St-Vallier
END:VEVENT
BEGIN:VEVENT
DTSTART;TZID=America/Montreal:20250720T084500
DTEND;TZID=America/Montreal:20250720T120000
DTSTAMP:20260423T062805
CREATED:20241218T215554Z
LAST-MODIFIED:20251002T183002Z
UID:10006377-1753001100-1753012800@www.lemontmartre.ca
SUMMARY:Groupe Harmonie 10H
DESCRIPTION:
URL:https://www.lemontmartre.ca/event/groupe-harmonie-10h-2/2025-07-20/
CATEGORIES:St-Vallier
END:VEVENT
BEGIN:VEVENT
DTSTART;TZID=America/Montreal:20250724T180000
DTEND;TZID=America/Montreal:20250724T210000
DTSTAMP:20260423T062805
CREATED:20250710T171233Z
LAST-MODIFIED:20250710T171233Z
UID:10008521-1753380000-1753390800@www.lemontmartre.ca
SUMMARY:Groupe St-Antoine 19H
DESCRIPTION:
URL:https://www.lemontmartre.ca/event/groupe-st-antoine-19h-4/
CATEGORIES:St-Vallier
END:VEVENT
BEGIN:VEVENT
DTSTART;TZID=America/Montreal:20250727T084500
DTEND;TZID=America/Montreal:20250727T120000
DTSTAMP:20260423T062805
CREATED:20241218T215554Z
LAST-MODIFIED:20251002T183002Z
UID:10006378-1753605900-1753617600@www.lemontmartre.ca
SUMMARY:Groupe Harmonie 10H
DESCRIPTION:
URL:https://www.lemontmartre.ca/event/groupe-harmonie-10h-2/2025-07-27/
CATEGORIES:St-Vallier
END:VEVENT
END:VCALENDAR