BEGIN:VCALENDAR
VERSION:2.0
PRODID:-//Le Montmartre - ECPv6.15.13//NONSGML v1.0//EN
CALSCALE:GREGORIAN
METHOD:PUBLISH
X-ORIGINAL-URL:https://www.lemontmartre.ca
X-WR-CALDESC:Évènements pour Le Montmartre
REFRESH-INTERVAL;VALUE=DURATION:PT1H
X-Robots-Tag:noindex
X-PUBLISHED-TTL:PT1H
BEGIN:VTIMEZONE
TZID:America/Montreal
BEGIN:DAYLIGHT
TZOFFSETFROM:-0500
TZOFFSETTO:-0400
TZNAME:EDT
DTSTART:20240310T070000
END:DAYLIGHT
BEGIN:STANDARD
TZOFFSETFROM:-0400
TZOFFSETTO:-0500
TZNAME:EST
DTSTART:20241103T060000
END:STANDARD
BEGIN:DAYLIGHT
TZOFFSETFROM:-0500
TZOFFSETTO:-0400
TZNAME:EDT
DTSTART:20250309T070000
END:DAYLIGHT
BEGIN:STANDARD
TZOFFSETFROM:-0400
TZOFFSETTO:-0500
TZNAME:EST
DTSTART:20251102T060000
END:STANDARD
BEGIN:DAYLIGHT
TZOFFSETFROM:-0500
TZOFFSETTO:-0400
TZNAME:EDT
DTSTART:20260308T070000
END:DAYLIGHT
BEGIN:STANDARD
TZOFFSETFROM:-0400
TZOFFSETTO:-0500
TZNAME:EST
DTSTART:20261101T060000
END:STANDARD
END:VTIMEZONE
BEGIN:VEVENT
DTSTART;TZID=America/Montreal:20250503T090000
DTEND;TZID=America/Montreal:20250503T170000
DTSTAMP:20260423T094508
CREATED:20250423T214444Z
LAST-MODIFIED:20250423T214444Z
UID:10007936-1746262800-1746291600@www.lemontmartre.ca
SUMMARY:Aquarelle Diane Boilard 9H30
DESCRIPTION:
URL:https://www.lemontmartre.ca/event/aquarelle-diane-boilard-9h30-8/
CATEGORIES:St-Vallier
END:VEVENT
BEGIN:VEVENT
DTSTART;TZID=America/Montreal:20250504T084500
DTEND;TZID=America/Montreal:20250504T120000
DTSTAMP:20260423T094508
CREATED:20241218T215554Z
LAST-MODIFIED:20251002T183002Z
UID:10006366-1746348300-1746360000@www.lemontmartre.ca
SUMMARY:Groupe Harmonie 10H
DESCRIPTION:
URL:https://www.lemontmartre.ca/event/groupe-harmonie-10h-2/2025-05-04/
CATEGORIES:St-Vallier
END:VEVENT
BEGIN:VEVENT
DTSTART;TZID=America/Montreal:20250506T183000
DTEND;TZID=America/Montreal:20250506T203000
DTSTAMP:20260423T094508
CREATED:20240829T161716Z
LAST-MODIFIED:20250528T151316Z
UID:10004470-1746556200-1746563400@www.lemontmartre.ca
SUMMARY:Toastmasters 19H00
DESCRIPTION:
URL:https://www.lemontmartre.ca/event/toastmasters-19h00/2025-05-06/
CATEGORIES:St-Vallier
END:VEVENT
BEGIN:VEVENT
DTSTART;TZID=America/Montreal:20250507T090000
DTEND;TZID=America/Montreal:20250507T113000
DTSTAMP:20260423T094508
CREATED:20250124T152506Z
LAST-MODIFIED:20250522T202442Z
UID:10006964-1746608400-1746617400@www.lemontmartre.ca
SUMMARY:Les matins intelligents 9H30
DESCRIPTION:
URL:https://www.lemontmartre.ca/event/les-matins-intelligents-9h30-8/2025-05-07/
CATEGORIES:St-Vallier
END:VEVENT
BEGIN:VEVENT
DTSTART;TZID=America/Montreal:20250511T084500
DTEND;TZID=America/Montreal:20250511T120000
DTSTAMP:20260423T094508
CREATED:20241218T215554Z
LAST-MODIFIED:20251002T183002Z
UID:10006367-1746953100-1746964800@www.lemontmartre.ca
SUMMARY:Groupe Harmonie 10H
DESCRIPTION:
URL:https://www.lemontmartre.ca/event/groupe-harmonie-10h-2/2025-05-11/
CATEGORIES:St-Vallier
END:VEVENT
BEGIN:VEVENT
DTSTART;TZID=America/Montreal:20250513T183000
DTEND;TZID=America/Montreal:20250513T203000
DTSTAMP:20260423T094508
CREATED:20240829T161716Z
LAST-MODIFIED:20250528T151316Z
UID:10004471-1747161000-1747168200@www.lemontmartre.ca
SUMMARY:Toastmasters 19H00
DESCRIPTION:
URL:https://www.lemontmartre.ca/event/toastmasters-19h00/2025-05-13/
CATEGORIES:St-Vallier
END:VEVENT
BEGIN:VEVENT
DTSTART;TZID=America/Montreal:20250514T090000
DTEND;TZID=America/Montreal:20250514T170000
DTSTAMP:20260423T094508
CREATED:20250502T193058Z
LAST-MODIFIED:20250502T193058Z
UID:10007951-1747213200-1747242000@www.lemontmartre.ca
SUMMARY:Aquarelle D. Boilard 9H30
DESCRIPTION:
URL:https://www.lemontmartre.ca/event/aquarelle-d-boilard-9h30-3/2025-05-14/
CATEGORIES:St-Vallier
END:VEVENT
BEGIN:VEVENT
DTSTART;TZID=America/Montreal:20250515T090000
DTEND;TZID=America/Montreal:20250515T170000
DTSTAMP:20260423T094508
CREATED:20250502T193058Z
LAST-MODIFIED:20250502T193058Z
UID:10007952-1747299600-1747328400@www.lemontmartre.ca
SUMMARY:Aquarelle D. Boilard 9H30
DESCRIPTION:
URL:https://www.lemontmartre.ca/event/aquarelle-d-boilard-9h30-3/2025-05-15/
CATEGORIES:St-Vallier
END:VEVENT
BEGIN:VEVENT
DTSTART;TZID=America/Montreal:20250516T090000
DTEND;TZID=America/Montreal:20250516T170000
DTSTAMP:20260423T094508
CREATED:20250502T193058Z
LAST-MODIFIED:20250502T193058Z
UID:10007953-1747386000-1747414800@www.lemontmartre.ca
SUMMARY:Aquarelle D. Boilard 9H30
DESCRIPTION:
URL:https://www.lemontmartre.ca/event/aquarelle-d-boilard-9h30-3/2025-05-16/
CATEGORIES:St-Vallier
END:VEVENT
BEGIN:VEVENT
DTSTART;TZID=America/Montreal:20250517T090000
DTEND;TZID=America/Montreal:20250517T170000
DTSTAMP:20260423T094508
CREATED:20250502T193058Z
LAST-MODIFIED:20250502T193058Z
UID:10007954-1747472400-1747501200@www.lemontmartre.ca
SUMMARY:Aquarelle D. Boilard 9H30
DESCRIPTION:
URL:https://www.lemontmartre.ca/event/aquarelle-d-boilard-9h30-3/2025-05-17/
CATEGORIES:St-Vallier
END:VEVENT
BEGIN:VEVENT
DTSTART;TZID=America/Montreal:20250518T084500
DTEND;TZID=America/Montreal:20250518T120000
DTSTAMP:20260423T094508
CREATED:20241218T215554Z
LAST-MODIFIED:20251002T183002Z
UID:10006368-1747557900-1747569600@www.lemontmartre.ca
SUMMARY:Groupe Harmonie 10H
DESCRIPTION:
URL:https://www.lemontmartre.ca/event/groupe-harmonie-10h-2/2025-05-18/
CATEGORIES:St-Vallier
END:VEVENT
BEGIN:VEVENT
DTSTART;TZID=America/Montreal:20250520T183000
DTEND;TZID=America/Montreal:20250520T203000
DTSTAMP:20260423T094508
CREATED:20240829T161716Z
LAST-MODIFIED:20250528T151316Z
UID:10004472-1747765800-1747773000@www.lemontmartre.ca
SUMMARY:Toastmasters 19H00
DESCRIPTION:
URL:https://www.lemontmartre.ca/event/toastmasters-19h00/2025-05-20/
CATEGORIES:St-Vallier
END:VEVENT
BEGIN:VEVENT
DTSTART;TZID=America/Montreal:20250525T084500
DTEND;TZID=America/Montreal:20250525T120000
DTSTAMP:20260423T094508
CREATED:20241218T215554Z
LAST-MODIFIED:20251002T183002Z
UID:10006369-1748162700-1748174400@www.lemontmartre.ca
SUMMARY:Groupe Harmonie 10H
DESCRIPTION:
URL:https://www.lemontmartre.ca/event/groupe-harmonie-10h-2/2025-05-25/
CATEGORIES:St-Vallier
END:VEVENT
BEGIN:VEVENT
DTSTART;TZID=America/Montreal:20250527T183000
DTEND;TZID=America/Montreal:20250527T203000
DTSTAMP:20260423T094508
CREATED:20240829T161716Z
LAST-MODIFIED:20250528T151316Z
UID:10004473-1748370600-1748377800@www.lemontmartre.ca
SUMMARY:Toastmasters 19H00
DESCRIPTION:
URL:https://www.lemontmartre.ca/event/toastmasters-19h00/2025-05-27/
CATEGORIES:St-Vallier
END:VEVENT
BEGIN:VEVENT
DTSTART;TZID=America/Montreal:20250529T180000
DTEND;TZID=America/Montreal:20250529T210000
DTSTAMP:20260423T094508
CREATED:20250515T202034Z
LAST-MODIFIED:20250515T202034Z
UID:10007965-1748541600-1748552400@www.lemontmartre.ca
SUMMARY:Groupe St-Antoine 19H
DESCRIPTION:
URL:https://www.lemontmartre.ca/event/groupe-st-antoine-19h-2/
CATEGORIES:St-Vallier
END:VEVENT
BEGIN:VEVENT
DTSTART;TZID=America/Montreal:20250531T090000
DTEND;TZID=America/Montreal:20250531T170000
DTSTAMP:20260423T094508
CREATED:20250515T202737Z
LAST-MODIFIED:20250515T202737Z
UID:10007986-1748682000-1748710800@www.lemontmartre.ca
SUMMARY:Aquarelle Diane Boilard 9H30
DESCRIPTION:
URL:https://www.lemontmartre.ca/event/aquarelle-diane-boilard-9h30-9/
CATEGORIES:St-Vallier
END:VEVENT
END:VCALENDAR