BEGIN:VCALENDAR
VERSION:2.0
PRODID:-//Le Montmartre - ECPv6.15.13//NONSGML v1.0//EN
CALSCALE:GREGORIAN
METHOD:PUBLISH
X-WR-CALNAME:Le Montmartre
X-ORIGINAL-URL:https://www.lemontmartre.ca
X-WR-CALDESC:Évènements pour Le Montmartre
REFRESH-INTERVAL;VALUE=DURATION:PT1H
X-Robots-Tag:noindex
X-PUBLISHED-TTL:PT1H
BEGIN:VTIMEZONE
TZID:America/Montreal
BEGIN:DAYLIGHT
TZOFFSETFROM:-0500
TZOFFSETTO:-0400
TZNAME:EDT
DTSTART:20240310T070000
END:DAYLIGHT
BEGIN:STANDARD
TZOFFSETFROM:-0400
TZOFFSETTO:-0500
TZNAME:EST
DTSTART:20241103T060000
END:STANDARD
BEGIN:DAYLIGHT
TZOFFSETFROM:-0500
TZOFFSETTO:-0400
TZNAME:EDT
DTSTART:20250309T070000
END:DAYLIGHT
BEGIN:STANDARD
TZOFFSETFROM:-0400
TZOFFSETTO:-0500
TZNAME:EST
DTSTART:20251102T060000
END:STANDARD
BEGIN:DAYLIGHT
TZOFFSETFROM:-0500
TZOFFSETTO:-0400
TZNAME:EDT
DTSTART:20260308T070000
END:DAYLIGHT
BEGIN:STANDARD
TZOFFSETFROM:-0400
TZOFFSETTO:-0500
TZNAME:EST
DTSTART:20261101T060000
END:STANDARD
END:VTIMEZONE
BEGIN:VEVENT
DTSTART;TZID=America/Montreal:20250401T183000
DTEND;TZID=America/Montreal:20250401T203000
DTSTAMP:20260423T125747
CREATED:20240829T161716Z
LAST-MODIFIED:20250528T151316Z
UID:10004465-1743532200-1743539400@www.lemontmartre.ca
SUMMARY:Toastmasters 19H00
DESCRIPTION:
URL:https://www.lemontmartre.ca/event/toastmasters-19h00/2025-04-01/
CATEGORIES:St-Vallier
END:VEVENT
BEGIN:VEVENT
DTSTART;TZID=America/Montreal:20250402T090000
DTEND;TZID=America/Montreal:20250402T113000
DTSTAMP:20260423T125747
CREATED:20250124T152506Z
LAST-MODIFIED:20250522T202442Z
UID:10006929-1743584400-1743593400@www.lemontmartre.ca
SUMMARY:Les matins intelligents 9H30
DESCRIPTION:
URL:https://www.lemontmartre.ca/event/les-matins-intelligents-9h30-8/2025-04-02/
CATEGORIES:St-Vallier
END:VEVENT
BEGIN:VEVENT
DTSTART;TZID=America/Montreal:20250404T180000
DTEND;TZID=America/Montreal:20250404T213000
DTSTAMP:20260423T125747
CREATED:20250317T211024Z
LAST-MODIFIED:20250317T211024Z
UID:10007515-1743789600-1743802200@www.lemontmartre.ca
SUMMARY:En route vers la liberté 19H
DESCRIPTION:
URL:https://www.lemontmartre.ca/event/en-route-vers-la-liberte-19h/
CATEGORIES:St-Vallier
END:VEVENT
BEGIN:VEVENT
DTSTART;TZID=America/Montreal:20250405T120000
DTEND;TZID=America/Montreal:20250405T160000
DTSTAMP:20260423T125747
CREATED:20250317T211118Z
LAST-MODIFIED:20250317T211118Z
UID:10007516-1743854400-1743868800@www.lemontmartre.ca
SUMMARY:Club de bridge Quatre-Coeurs 12H45
DESCRIPTION:
URL:https://www.lemontmartre.ca/event/club-de-bridge-quatre-coeurs-12h45-14/
CATEGORIES:St-Vallier
END:VEVENT
BEGIN:VEVENT
DTSTART;TZID=America/Montreal:20250406T084500
DTEND;TZID=America/Montreal:20250406T120000
DTSTAMP:20260423T125747
CREATED:20241218T215554Z
LAST-MODIFIED:20251002T183002Z
UID:10006362-1743929100-1743940800@www.lemontmartre.ca
SUMMARY:Groupe Harmonie 10H
DESCRIPTION:
URL:https://www.lemontmartre.ca/event/groupe-harmonie-10h-2/2025-04-06/
CATEGORIES:St-Vallier
END:VEVENT
BEGIN:VEVENT
DTSTART;TZID=America/Montreal:20250408T183000
DTEND;TZID=America/Montreal:20250408T203000
DTSTAMP:20260423T125747
CREATED:20240829T161716Z
LAST-MODIFIED:20250528T151316Z
UID:10004466-1744137000-1744144200@www.lemontmartre.ca
SUMMARY:Toastmasters 19H00
DESCRIPTION:
URL:https://www.lemontmartre.ca/event/toastmasters-19h00/2025-04-08/
CATEGORIES:St-Vallier
END:VEVENT
BEGIN:VEVENT
DTSTART;TZID=America/Montreal:20250409T090000
DTEND;TZID=America/Montreal:20250409T113000
DTSTAMP:20260423T125747
CREATED:20250124T152506Z
LAST-MODIFIED:20250522T202442Z
UID:10006936-1744189200-1744198200@www.lemontmartre.ca
SUMMARY:Les matins intelligents 9H30
DESCRIPTION:
URL:https://www.lemontmartre.ca/event/les-matins-intelligents-9h30-8/2025-04-09/
CATEGORIES:St-Vallier
END:VEVENT
BEGIN:VEVENT
DTSTART;TZID=America/Montreal:20250413T084500
DTEND;TZID=America/Montreal:20250413T120000
DTSTAMP:20260423T125747
CREATED:20241218T215554Z
LAST-MODIFIED:20251002T183002Z
UID:10006363-1744533900-1744545600@www.lemontmartre.ca
SUMMARY:Groupe Harmonie 10H
DESCRIPTION:
URL:https://www.lemontmartre.ca/event/groupe-harmonie-10h-2/2025-04-13/
CATEGORIES:St-Vallier
END:VEVENT
BEGIN:VEVENT
DTSTART;TZID=America/Montreal:20250413T120000
DTEND;TZID=America/Montreal:20250413T190000
DTSTAMP:20260423T125747
CREATED:20250401T152126Z
LAST-MODIFIED:20250401T152126Z
UID:10007527-1744545600-1744570800@www.lemontmartre.ca
SUMMARY:Mouvement des cursillos 15H45
DESCRIPTION:
URL:https://www.lemontmartre.ca/event/mouvement-des-cursillos-15h45-7/
CATEGORIES:St-Vallier
END:VEVENT
BEGIN:VEVENT
DTSTART;TZID=America/Montreal:20250415T183000
DTEND;TZID=America/Montreal:20250415T203000
DTSTAMP:20260423T125747
CREATED:20240829T161716Z
LAST-MODIFIED:20250528T151316Z
UID:10004467-1744741800-1744749000@www.lemontmartre.ca
SUMMARY:Toastmasters 19H00
DESCRIPTION:
URL:https://www.lemontmartre.ca/event/toastmasters-19h00/2025-04-15/
CATEGORIES:St-Vallier
END:VEVENT
BEGIN:VEVENT
DTSTART;TZID=America/Montreal:20250416T090000
DTEND;TZID=America/Montreal:20250416T113000
DTSTAMP:20260423T125747
CREATED:20250124T152506Z
LAST-MODIFIED:20250522T202442Z
UID:10006943-1744794000-1744803000@www.lemontmartre.ca
SUMMARY:Les matins intelligents 9H30
DESCRIPTION:
URL:https://www.lemontmartre.ca/event/les-matins-intelligents-9h30-8/2025-04-16/
CATEGORIES:St-Vallier
END:VEVENT
BEGIN:VEVENT
DTSTART;TZID=America/Montreal:20250420T084500
DTEND;TZID=America/Montreal:20250420T120000
DTSTAMP:20260423T125747
CREATED:20241218T215554Z
LAST-MODIFIED:20251002T183002Z
UID:10006364-1745138700-1745150400@www.lemontmartre.ca
SUMMARY:Groupe Harmonie 10H
DESCRIPTION:
URL:https://www.lemontmartre.ca/event/groupe-harmonie-10h-2/2025-04-20/
CATEGORIES:St-Vallier
END:VEVENT
BEGIN:VEVENT
DTSTART;TZID=America/Montreal:20250422T183000
DTEND;TZID=America/Montreal:20250422T203000
DTSTAMP:20260423T125747
CREATED:20240829T161716Z
LAST-MODIFIED:20250528T151316Z
UID:10004468-1745346600-1745353800@www.lemontmartre.ca
SUMMARY:Toastmasters 19H00
DESCRIPTION:
URL:https://www.lemontmartre.ca/event/toastmasters-19h00/2025-04-22/
CATEGORIES:St-Vallier
END:VEVENT
BEGIN:VEVENT
DTSTART;TZID=America/Montreal:20250423T090000
DTEND;TZID=America/Montreal:20250423T170000
DTSTAMP:20260423T125747
CREATED:20250407T151441Z
LAST-MODIFIED:20250407T151441Z
UID:10007912-1745398800-1745427600@www.lemontmartre.ca
SUMMARY:Aquarelle Diane Boilard 9H30
DESCRIPTION:
URL:https://www.lemontmartre.ca/event/aquarelle-diane-boilard-9h30-7/2025-04-23/
CATEGORIES:St-Vallier
END:VEVENT
BEGIN:VEVENT
DTSTART;TZID=America/Montreal:20250424T090000
DTEND;TZID=America/Montreal:20250424T170000
DTSTAMP:20260423T125747
CREATED:20250407T151441Z
LAST-MODIFIED:20250407T151441Z
UID:10007913-1745485200-1745514000@www.lemontmartre.ca
SUMMARY:Aquarelle Diane Boilard 9H30
DESCRIPTION:
URL:https://www.lemontmartre.ca/event/aquarelle-diane-boilard-9h30-7/2025-04-24/
CATEGORIES:St-Vallier
END:VEVENT
BEGIN:VEVENT
DTSTART;TZID=America/Montreal:20250425T090000
DTEND;TZID=America/Montreal:20250425T170000
DTSTAMP:20260423T125747
CREATED:20250407T151441Z
LAST-MODIFIED:20250407T151441Z
UID:10007914-1745571600-1745600400@www.lemontmartre.ca
SUMMARY:Aquarelle Diane Boilard 9H30
DESCRIPTION:
URL:https://www.lemontmartre.ca/event/aquarelle-diane-boilard-9h30-7/2025-04-25/
CATEGORIES:St-Vallier
END:VEVENT
BEGIN:VEVENT
DTSTART;TZID=America/Montreal:20250426T120000
DTEND;TZID=America/Montreal:20250426T160000
DTSTAMP:20260423T125747
CREATED:20250407T160423Z
LAST-MODIFIED:20250407T160423Z
UID:10007919-1745668800-1745683200@www.lemontmartre.ca
SUMMARY:Club de bridge Quatre-Coeurs 12H45
DESCRIPTION:
URL:https://www.lemontmartre.ca/event/club-de-bridge-quatre-coeurs-12h45-16/
CATEGORIES:St-Vallier
END:VEVENT
BEGIN:VEVENT
DTSTART;TZID=America/Montreal:20250427T084500
DTEND;TZID=America/Montreal:20250427T120000
DTSTAMP:20260423T125747
CREATED:20241218T215554Z
LAST-MODIFIED:20251002T183002Z
UID:10006365-1745743500-1745755200@www.lemontmartre.ca
SUMMARY:Groupe Harmonie 10H
DESCRIPTION:
URL:https://www.lemontmartre.ca/event/groupe-harmonie-10h-2/2025-04-27/
CATEGORIES:St-Vallier
END:VEVENT
BEGIN:VEVENT
DTSTART;TZID=America/Montreal:20250428T120000
DTEND;TZID=America/Montreal:20250428T163000
DTSTAMP:20260423T125747
CREATED:20250410T215227Z
LAST-MODIFIED:20250410T215227Z
UID:10007924-1745841600-1745857800@www.lemontmartre.ca
SUMMARY:Club de bridge de Charlesbourg 12H45
DESCRIPTION:
URL:https://www.lemontmartre.ca/event/club-de-bridge-de-charlesbourg-12h45-2/
CATEGORIES:St-Vallier
END:VEVENT
BEGIN:VEVENT
DTSTART;TZID=America/Montreal:20250429T183000
DTEND;TZID=America/Montreal:20250429T203000
DTSTAMP:20260423T125747
CREATED:20240829T161716Z
LAST-MODIFIED:20250528T151316Z
UID:10004469-1745951400-1745958600@www.lemontmartre.ca
SUMMARY:Toastmasters 19H00
DESCRIPTION:
URL:https://www.lemontmartre.ca/event/toastmasters-19h00/2025-04-29/
CATEGORIES:St-Vallier
END:VEVENT
BEGIN:VEVENT
DTSTART;TZID=America/Montreal:20250430T090000
DTEND;TZID=America/Montreal:20250430T113000
DTSTAMP:20260423T125747
CREATED:20250124T152506Z
LAST-MODIFIED:20250522T202442Z
UID:10006957-1746003600-1746012600@www.lemontmartre.ca
SUMMARY:Les matins intelligents 9H30
DESCRIPTION:
URL:https://www.lemontmartre.ca/event/les-matins-intelligents-9h30-8/2025-04-30/
CATEGORIES:St-Vallier
END:VEVENT
END:VCALENDAR