BEGIN:VCALENDAR
VERSION:2.0
PRODID:-//Le Montmartre - ECPv6.15.13//NONSGML v1.0//EN
CALSCALE:GREGORIAN
METHOD:PUBLISH
X-ORIGINAL-URL:https://www.lemontmartre.ca
X-WR-CALDESC:Évènements pour Le Montmartre
REFRESH-INTERVAL;VALUE=DURATION:PT1H
X-Robots-Tag:noindex
X-PUBLISHED-TTL:PT1H
BEGIN:VTIMEZONE
TZID:America/Montreal
BEGIN:DAYLIGHT
TZOFFSETFROM:-0500
TZOFFSETTO:-0400
TZNAME:EDT
DTSTART:20240310T070000
END:DAYLIGHT
BEGIN:STANDARD
TZOFFSETFROM:-0400
TZOFFSETTO:-0500
TZNAME:EST
DTSTART:20241103T060000
END:STANDARD
BEGIN:DAYLIGHT
TZOFFSETFROM:-0500
TZOFFSETTO:-0400
TZNAME:EDT
DTSTART:20250309T070000
END:DAYLIGHT
BEGIN:STANDARD
TZOFFSETFROM:-0400
TZOFFSETTO:-0500
TZNAME:EST
DTSTART:20251102T060000
END:STANDARD
BEGIN:DAYLIGHT
TZOFFSETFROM:-0500
TZOFFSETTO:-0400
TZNAME:EDT
DTSTART:20260308T070000
END:DAYLIGHT
BEGIN:STANDARD
TZOFFSETFROM:-0400
TZOFFSETTO:-0500
TZNAME:EST
DTSTART:20261101T060000
END:STANDARD
END:VTIMEZONE
BEGIN:VEVENT
DTSTART;TZID=America/Montreal:20250301T090000
DTEND;TZID=America/Montreal:20250301T163000
DTSTAMP:20260423T162233
CREATED:20250207T211018Z
LAST-MODIFIED:20250207T211018Z
UID:10007409-1740819600-1740846600@www.lemontmartre.ca
SUMMARY:Aquarelle Diane Boilard 9H30
DESCRIPTION:
URL:https://www.lemontmartre.ca/event/aquarelle-diane-boilard-9h30-6/2025-03-01/
CATEGORIES:St-Vallier
END:VEVENT
BEGIN:VEVENT
DTSTART;TZID=America/Montreal:20250302T084500
DTEND;TZID=America/Montreal:20250302T120000
DTSTAMP:20260423T162233
CREATED:20241218T215554Z
LAST-MODIFIED:20251002T183002Z
UID:10006357-1740905100-1740916800@www.lemontmartre.ca
SUMMARY:Groupe Harmonie 10H
DESCRIPTION:
URL:https://www.lemontmartre.ca/event/groupe-harmonie-10h-2/2025-03-02/
CATEGORIES:St-Vallier
END:VEVENT
BEGIN:VEVENT
DTSTART;TZID=America/Montreal:20250304T183000
DTEND;TZID=America/Montreal:20250304T203000
DTSTAMP:20260423T162233
CREATED:20240829T161716Z
LAST-MODIFIED:20250528T151316Z
UID:10004461-1741113000-1741120200@www.lemontmartre.ca
SUMMARY:Toastmasters 19H00
DESCRIPTION:
URL:https://www.lemontmartre.ca/event/toastmasters-19h00/2025-03-04/
CATEGORIES:St-Vallier
END:VEVENT
BEGIN:VEVENT
DTSTART;TZID=America/Montreal:20250305T090000
DTEND;TZID=America/Montreal:20250305T113000
DTSTAMP:20260423T162233
CREATED:20250124T152506Z
LAST-MODIFIED:20250522T202442Z
UID:10006902-1741165200-1741174200@www.lemontmartre.ca
SUMMARY:Les matins intelligents 9H30
DESCRIPTION:
URL:https://www.lemontmartre.ca/event/les-matins-intelligents-9h30-8/2025-03-05/
CATEGORIES:St-Vallier
END:VEVENT
BEGIN:VEVENT
DTSTART;TZID=America/Montreal:20250308T120000
DTEND;TZID=America/Montreal:20250308T160000
DTSTAMP:20260423T162233
CREATED:20250220T202536Z
LAST-MODIFIED:20250220T202536Z
UID:10007469-1741435200-1741449600@www.lemontmartre.ca
SUMMARY:Bridge Quatre-Coeurs 12H45
DESCRIPTION:
URL:https://www.lemontmartre.ca/event/bridge-quatre-coeurs-12h45-3/
CATEGORIES:St-Vallier
END:VEVENT
BEGIN:VEVENT
DTSTART;TZID=America/Montreal:20250309T084500
DTEND;TZID=America/Montreal:20250309T120000
DTSTAMP:20260423T162233
CREATED:20241218T215554Z
LAST-MODIFIED:20251002T183002Z
UID:10006358-1741509900-1741521600@www.lemontmartre.ca
SUMMARY:Groupe Harmonie 10H
DESCRIPTION:
URL:https://www.lemontmartre.ca/event/groupe-harmonie-10h-2/2025-03-09/
CATEGORIES:St-Vallier
END:VEVENT
BEGIN:VEVENT
DTSTART;TZID=America/Montreal:20250311T090000
DTEND;TZID=America/Montreal:20250311T133000
DTSTAMP:20260423T162233
CREATED:20241219T155538Z
LAST-MODIFIED:20241219T155849Z
UID:10006760-1741683600-1741699800@www.lemontmartre.ca
SUMMARY:Collectif amalgame 9H30
DESCRIPTION:
URL:https://www.lemontmartre.ca/event/collectif-amalgame-9h30-2/2025-03-11/
CATEGORIES:St-Vallier
END:VEVENT
BEGIN:VEVENT
DTSTART;TZID=America/Montreal:20250311T183000
DTEND;TZID=America/Montreal:20250311T203000
DTSTAMP:20260423T162233
CREATED:20240829T161716Z
LAST-MODIFIED:20250528T151316Z
UID:10004462-1741717800-1741725000@www.lemontmartre.ca
SUMMARY:Toastmasters 19H00
DESCRIPTION:
URL:https://www.lemontmartre.ca/event/toastmasters-19h00/2025-03-11/
CATEGORIES:St-Vallier
END:VEVENT
BEGIN:VEVENT
DTSTART;TZID=America/Montreal:20250312T090000
DTEND;TZID=America/Montreal:20250312T113000
DTSTAMP:20260423T162233
CREATED:20250124T152506Z
LAST-MODIFIED:20250522T202442Z
UID:10006909-1741770000-1741779000@www.lemontmartre.ca
SUMMARY:Les matins intelligents 9H30
DESCRIPTION:
URL:https://www.lemontmartre.ca/event/les-matins-intelligents-9h30-8/2025-03-12/
CATEGORIES:St-Vallier
END:VEVENT
BEGIN:VEVENT
DTSTART;TZID=America/Montreal:20250316T084500
DTEND;TZID=America/Montreal:20250316T120000
DTSTAMP:20260423T162233
CREATED:20241218T215554Z
LAST-MODIFIED:20251002T183002Z
UID:10006359-1742114700-1742126400@www.lemontmartre.ca
SUMMARY:Groupe Harmonie 10H
DESCRIPTION:
URL:https://www.lemontmartre.ca/event/groupe-harmonie-10h-2/2025-03-16/
CATEGORIES:St-Vallier
END:VEVENT
BEGIN:VEVENT
DTSTART;TZID=America/Montreal:20250318T183000
DTEND;TZID=America/Montreal:20250318T203000
DTSTAMP:20260423T162233
CREATED:20240829T161716Z
LAST-MODIFIED:20250528T151316Z
UID:10004463-1742322600-1742329800@www.lemontmartre.ca
SUMMARY:Toastmasters 19H00
DESCRIPTION:
URL:https://www.lemontmartre.ca/event/toastmasters-19h00/2025-03-18/
CATEGORIES:St-Vallier
END:VEVENT
BEGIN:VEVENT
DTSTART;TZID=America/Montreal:20250319T090000
DTEND;TZID=America/Montreal:20250319T113000
DTSTAMP:20260423T162233
CREATED:20250124T152506Z
LAST-MODIFIED:20250522T202442Z
UID:10006916-1742374800-1742383800@www.lemontmartre.ca
SUMMARY:Les matins intelligents 9H30
DESCRIPTION:
URL:https://www.lemontmartre.ca/event/les-matins-intelligents-9h30-8/2025-03-19/
CATEGORIES:St-Vallier
END:VEVENT
BEGIN:VEVENT
DTSTART;TZID=America/Montreal:20250323T084500
DTEND;TZID=America/Montreal:20250323T120000
DTSTAMP:20260423T162233
CREATED:20241218T215554Z
LAST-MODIFIED:20251002T183002Z
UID:10006360-1742719500-1742731200@www.lemontmartre.ca
SUMMARY:Groupe Harmonie 10H
DESCRIPTION:
URL:https://www.lemontmartre.ca/event/groupe-harmonie-10h-2/2025-03-23/
CATEGORIES:St-Vallier
END:VEVENT
BEGIN:VEVENT
DTSTART;TZID=America/Montreal:20250325T183000
DTEND;TZID=America/Montreal:20250325T203000
DTSTAMP:20260423T162233
CREATED:20240829T161716Z
LAST-MODIFIED:20250528T151316Z
UID:10004464-1742927400-1742934600@www.lemontmartre.ca
SUMMARY:Toastmasters 19H00
DESCRIPTION:
URL:https://www.lemontmartre.ca/event/toastmasters-19h00/2025-03-25/
CATEGORIES:St-Vallier
END:VEVENT
BEGIN:VEVENT
DTSTART;TZID=America/Montreal:20250329T120000
DTEND;TZID=America/Montreal:20250329T160000
DTSTAMP:20260423T162233
CREATED:20250314T173937Z
LAST-MODIFIED:20250314T173937Z
UID:10007501-1743249600-1743264000@www.lemontmartre.ca
SUMMARY:Club de bridge Quatre-Coeurs 12H45
DESCRIPTION:
URL:https://www.lemontmartre.ca/event/club-de-bridge-quatre-coeurs-12h45-13/
CATEGORIES:St-Vallier
END:VEVENT
BEGIN:VEVENT
DTSTART;TZID=America/Montreal:20250330T084500
DTEND;TZID=America/Montreal:20250330T120000
DTSTAMP:20260423T162233
CREATED:20241218T215554Z
LAST-MODIFIED:20251002T183002Z
UID:10006361-1743324300-1743336000@www.lemontmartre.ca
SUMMARY:Groupe Harmonie 10H
DESCRIPTION:
URL:https://www.lemontmartre.ca/event/groupe-harmonie-10h-2/2025-03-30/
CATEGORIES:St-Vallier
END:VEVENT
END:VCALENDAR