BEGIN:VCALENDAR
VERSION:2.0
PRODID:-//Le Montmartre - ECPv6.15.13//NONSGML v1.0//EN
CALSCALE:GREGORIAN
METHOD:PUBLISH
X-ORIGINAL-URL:https://www.lemontmartre.ca
X-WR-CALDESC:Évènements pour Le Montmartre
REFRESH-INTERVAL;VALUE=DURATION:PT1H
X-Robots-Tag:noindex
X-PUBLISHED-TTL:PT1H
BEGIN:VTIMEZONE
TZID:America/Montreal
BEGIN:DAYLIGHT
TZOFFSETFROM:-0500
TZOFFSETTO:-0400
TZNAME:EDT
DTSTART:20240310T070000
END:DAYLIGHT
BEGIN:STANDARD
TZOFFSETFROM:-0400
TZOFFSETTO:-0500
TZNAME:EST
DTSTART:20241103T060000
END:STANDARD
BEGIN:DAYLIGHT
TZOFFSETFROM:-0500
TZOFFSETTO:-0400
TZNAME:EDT
DTSTART:20250309T070000
END:DAYLIGHT
BEGIN:STANDARD
TZOFFSETFROM:-0400
TZOFFSETTO:-0500
TZNAME:EST
DTSTART:20251102T060000
END:STANDARD
BEGIN:DAYLIGHT
TZOFFSETFROM:-0500
TZOFFSETTO:-0400
TZNAME:EDT
DTSTART:20260308T070000
END:DAYLIGHT
BEGIN:STANDARD
TZOFFSETFROM:-0400
TZOFFSETTO:-0500
TZNAME:EST
DTSTART:20261101T060000
END:STANDARD
END:VTIMEZONE
BEGIN:VEVENT
DTSTART;TZID=America/Montreal:20250202T084500
DTEND;TZID=America/Montreal:20250202T120000
DTSTAMP:20260423T192809
CREATED:20241218T215554Z
LAST-MODIFIED:20251002T183002Z
UID:10006353-1738485900-1738497600@www.lemontmartre.ca
SUMMARY:Groupe Harmonie 10H
DESCRIPTION:
URL:https://www.lemontmartre.ca/event/groupe-harmonie-10h-2/2025-02-02/
CATEGORIES:St-Vallier
END:VEVENT
BEGIN:VEVENT
DTSTART;TZID=America/Montreal:20250202T123000
DTEND;TZID=America/Montreal:20250202T163000
DTSTAMP:20260423T192809
CREATED:20250127T165247Z
LAST-MODIFIED:20250127T165247Z
UID:10007015-1738499400-1738513800@www.lemontmartre.ca
SUMMARY:Diocèse Journée de la vie consacrée  12H30
DESCRIPTION:
URL:https://www.lemontmartre.ca/event/diocese-journee-de-la-vie-consacree-12h30/
CATEGORIES:St-Vallier
END:VEVENT
BEGIN:VEVENT
DTSTART;TZID=America/Montreal:20250204T183000
DTEND;TZID=America/Montreal:20250204T203000
DTSTAMP:20260423T192809
CREATED:20240829T161716Z
LAST-MODIFIED:20250528T151316Z
UID:10004457-1738693800-1738701000@www.lemontmartre.ca
SUMMARY:Toastmasters 19H00
DESCRIPTION:
URL:https://www.lemontmartre.ca/event/toastmasters-19h00/2025-02-04/
CATEGORIES:St-Vallier
END:VEVENT
BEGIN:VEVENT
DTSTART;TZID=America/Montreal:20250205T090000
DTEND;TZID=America/Montreal:20250205T170000
DTSTAMP:20260423T192809
CREATED:20250124T152112Z
LAST-MODIFIED:20250124T152112Z
UID:10006870-1738746000-1738774800@www.lemontmartre.ca
SUMMARY:Aquarelle Diane Boilard 9H30
DESCRIPTION:
URL:https://www.lemontmartre.ca/event/aquarelle-diane-boilard-9h30-5/2025-02-05/
CATEGORIES:St-Vallier
END:VEVENT
BEGIN:VEVENT
DTSTART;TZID=America/Montreal:20250206T090000
DTEND;TZID=America/Montreal:20250206T170000
DTSTAMP:20260423T192809
CREATED:20250124T152112Z
LAST-MODIFIED:20250124T152112Z
UID:10006871-1738832400-1738861200@www.lemontmartre.ca
SUMMARY:Aquarelle Diane Boilard 9H30
DESCRIPTION:
URL:https://www.lemontmartre.ca/event/aquarelle-diane-boilard-9h30-5/2025-02-06/
CATEGORIES:St-Vallier
END:VEVENT
BEGIN:VEVENT
DTSTART;TZID=America/Montreal:20250207T090000
DTEND;TZID=America/Montreal:20250207T170000
DTSTAMP:20260423T192809
CREATED:20250124T152112Z
LAST-MODIFIED:20250124T152112Z
UID:10006872-1738918800-1738947600@www.lemontmartre.ca
SUMMARY:Aquarelle Diane Boilard 9H30
DESCRIPTION:
URL:https://www.lemontmartre.ca/event/aquarelle-diane-boilard-9h30-5/2025-02-07/
CATEGORIES:St-Vallier
END:VEVENT
BEGIN:VEVENT
DTSTART;TZID=America/Montreal:20250208T090000
DTEND;TZID=America/Montreal:20250208T170000
DTSTAMP:20260423T192809
CREATED:20250124T152112Z
LAST-MODIFIED:20250124T152112Z
UID:10006873-1739005200-1739034000@www.lemontmartre.ca
SUMMARY:Aquarelle Diane Boilard 9H30
DESCRIPTION:
URL:https://www.lemontmartre.ca/event/aquarelle-diane-boilard-9h30-5/2025-02-08/
CATEGORIES:St-Vallier
END:VEVENT
BEGIN:VEVENT
DTSTART;TZID=America/Montreal:20250209T084500
DTEND;TZID=America/Montreal:20250209T120000
DTSTAMP:20260423T192809
CREATED:20241218T215554Z
LAST-MODIFIED:20251002T183002Z
UID:10006354-1739090700-1739102400@www.lemontmartre.ca
SUMMARY:Groupe Harmonie 10H
DESCRIPTION:
URL:https://www.lemontmartre.ca/event/groupe-harmonie-10h-2/2025-02-09/
CATEGORIES:St-Vallier
END:VEVENT
BEGIN:VEVENT
DTSTART;TZID=America/Montreal:20250211T090000
DTEND;TZID=America/Montreal:20250211T133000
DTSTAMP:20260423T192809
CREATED:20241219T155538Z
LAST-MODIFIED:20241219T155849Z
UID:10006758-1739264400-1739280600@www.lemontmartre.ca
SUMMARY:Collectif amalgame 9H30
DESCRIPTION:
URL:https://www.lemontmartre.ca/event/collectif-amalgame-9h30-2/2025-02-11/
CATEGORIES:St-Vallier
END:VEVENT
BEGIN:VEVENT
DTSTART;TZID=America/Montreal:20250211T183000
DTEND;TZID=America/Montreal:20250211T203000
DTSTAMP:20260423T192809
CREATED:20240829T161716Z
LAST-MODIFIED:20250528T151316Z
UID:10004458-1739298600-1739305800@www.lemontmartre.ca
SUMMARY:Toastmasters 19H00
DESCRIPTION:
URL:https://www.lemontmartre.ca/event/toastmasters-19h00/2025-02-11/
CATEGORIES:St-Vallier
END:VEVENT
BEGIN:VEVENT
DTSTART;TZID=America/Montreal:20250212T080000
DTEND;TZID=America/Montreal:20250212T170000
DTSTAMP:20260423T192809
CREATED:20250124T152506Z
LAST-MODIFIED:20250522T202442Z
UID:10007997-1739347200-1739379600@www.lemontmartre.ca
SUMMARY:Les matins intelligents 9H30
DESCRIPTION:
URL:https://www.lemontmartre.ca/event/les-matins-intelligents-9h30-8/2025-02-12/1/
CATEGORIES:St-Vallier
END:VEVENT
BEGIN:VEVENT
DTSTART;TZID=America/Montreal:20250212T090000
DTEND;TZID=America/Montreal:20250212T113000
DTSTAMP:20260423T192809
CREATED:20250124T152506Z
LAST-MODIFIED:20250522T202442Z
UID:10006881-1739350800-1739359800@www.lemontmartre.ca
SUMMARY:Les matins intelligents 9H30
DESCRIPTION:
URL:https://www.lemontmartre.ca/event/les-matins-intelligents-9h30-8/2025-02-12/2/
CATEGORIES:St-Vallier
END:VEVENT
BEGIN:VEVENT
DTSTART;TZID=America/Montreal:20250215T120000
DTEND;TZID=America/Montreal:20250215T160000
DTSTAMP:20260423T192809
CREATED:20250131T200420Z
LAST-MODIFIED:20250207T204251Z
UID:10007027-1739620800-1739635200@www.lemontmartre.ca
SUMMARY:Club de bridge Quatre-Coeurs 12H45
DESCRIPTION:
URL:https://www.lemontmartre.ca/event/club-de-bridge-quatre-coeurs-12h45-9/
CATEGORIES:St-Vallier
END:VEVENT
BEGIN:VEVENT
DTSTART;TZID=America/Montreal:20250216T084500
DTEND;TZID=America/Montreal:20250216T120000
DTSTAMP:20260423T192809
CREATED:20241218T215554Z
LAST-MODIFIED:20251002T183002Z
UID:10006355-1739695500-1739707200@www.lemontmartre.ca
SUMMARY:Groupe Harmonie 10H
DESCRIPTION:
URL:https://www.lemontmartre.ca/event/groupe-harmonie-10h-2/2025-02-16/
CATEGORIES:St-Vallier
END:VEVENT
BEGIN:VEVENT
DTSTART;TZID=America/Montreal:20250216T120000
DTEND;TZID=America/Montreal:20250216T190000
DTSTAMP:20260423T192809
CREATED:20250207T204614Z
LAST-MODIFIED:20250207T204614Z
UID:10007400-1739707200-1739732400@www.lemontmartre.ca
SUMMARY:Mouvement des Cursillos 15H45
DESCRIPTION:
URL:https://www.lemontmartre.ca/event/mouvement-des-cursillos-15h45-3/
CATEGORIES:St-Vallier
END:VEVENT
BEGIN:VEVENT
DTSTART;TZID=America/Montreal:20250218T183000
DTEND;TZID=America/Montreal:20250218T203000
DTSTAMP:20260423T192809
CREATED:20240829T161716Z
LAST-MODIFIED:20250528T151316Z
UID:10004459-1739903400-1739910600@www.lemontmartre.ca
SUMMARY:Toastmasters 19H00
DESCRIPTION:
URL:https://www.lemontmartre.ca/event/toastmasters-19h00/2025-02-18/
CATEGORIES:St-Vallier
END:VEVENT
BEGIN:VEVENT
DTSTART;TZID=America/Montreal:20250219T090000
DTEND;TZID=America/Montreal:20250219T113000
DTSTAMP:20260423T192809
CREATED:20250124T152506Z
LAST-MODIFIED:20250522T202442Z
UID:10006888-1739955600-1739964600@www.lemontmartre.ca
SUMMARY:Les matins intelligents 9H30
DESCRIPTION:
URL:https://www.lemontmartre.ca/event/les-matins-intelligents-9h30-8/2025-02-19/
CATEGORIES:St-Vallier
END:VEVENT
BEGIN:VEVENT
DTSTART;TZID=America/Montreal:20250222T080000
DTEND;TZID=America/Montreal:20250222T153000
DTSTAMP:20260423T192809
CREATED:20250207T205037Z
LAST-MODIFIED:20250207T205037Z
UID:10007403-1740211200-1740238200@www.lemontmartre.ca
SUMMARY:Communauté Jean de la Croix 8H
DESCRIPTION:
URL:https://www.lemontmartre.ca/event/communaute-jean-de-la-croix-8h-6/
CATEGORIES:St-Vallier
END:VEVENT
BEGIN:VEVENT
DTSTART;TZID=America/Montreal:20250223T084500
DTEND;TZID=America/Montreal:20250223T120000
DTSTAMP:20260423T192809
CREATED:20241218T215554Z
LAST-MODIFIED:20251002T183002Z
UID:10006356-1740300300-1740312000@www.lemontmartre.ca
SUMMARY:Groupe Harmonie 10H
DESCRIPTION:
URL:https://www.lemontmartre.ca/event/groupe-harmonie-10h-2/2025-02-23/
CATEGORIES:St-Vallier
END:VEVENT
BEGIN:VEVENT
DTSTART;TZID=America/Montreal:20250225T090000
DTEND;TZID=America/Montreal:20250225T133000
DTSTAMP:20260423T192809
CREATED:20241219T155538Z
LAST-MODIFIED:20241219T155849Z
UID:10006759-1740474000-1740490200@www.lemontmartre.ca
SUMMARY:Collectif amalgame 9H30
DESCRIPTION:
URL:https://www.lemontmartre.ca/event/collectif-amalgame-9h30-2/2025-02-25/
CATEGORIES:St-Vallier
END:VEVENT
BEGIN:VEVENT
DTSTART;TZID=America/Montreal:20250225T183000
DTEND;TZID=America/Montreal:20250225T203000
DTSTAMP:20260423T192809
CREATED:20240829T161716Z
LAST-MODIFIED:20250528T151316Z
UID:10004460-1740508200-1740515400@www.lemontmartre.ca
SUMMARY:Toastmasters 19H00
DESCRIPTION:
URL:https://www.lemontmartre.ca/event/toastmasters-19h00/2025-02-25/
CATEGORIES:St-Vallier
END:VEVENT
BEGIN:VEVENT
DTSTART;TZID=America/Montreal:20250226T090000
DTEND;TZID=America/Montreal:20250226T163000
DTSTAMP:20260423T192809
CREATED:20250207T211018Z
LAST-MODIFIED:20250207T211018Z
UID:10007406-1740560400-1740587400@www.lemontmartre.ca
SUMMARY:Aquarelle Diane Boilard 9H30
DESCRIPTION:
URL:https://www.lemontmartre.ca/event/aquarelle-diane-boilard-9h30-6/2025-02-26/
CATEGORIES:St-Vallier
END:VEVENT
BEGIN:VEVENT
DTSTART;TZID=America/Montreal:20250227T090000
DTEND;TZID=America/Montreal:20250227T163000
DTSTAMP:20260423T192809
CREATED:20250207T211018Z
LAST-MODIFIED:20250207T211018Z
UID:10007407-1740646800-1740673800@www.lemontmartre.ca
SUMMARY:Aquarelle Diane Boilard 9H30
DESCRIPTION:
URL:https://www.lemontmartre.ca/event/aquarelle-diane-boilard-9h30-6/2025-02-27/
CATEGORIES:St-Vallier
END:VEVENT
BEGIN:VEVENT
DTSTART;TZID=America/Montreal:20250228T090000
DTEND;TZID=America/Montreal:20250228T163000
DTSTAMP:20260423T192809
CREATED:20250207T211018Z
LAST-MODIFIED:20250207T211018Z
UID:10007408-1740733200-1740760200@www.lemontmartre.ca
SUMMARY:Aquarelle Diane Boilard 9H30
DESCRIPTION:
URL:https://www.lemontmartre.ca/event/aquarelle-diane-boilard-9h30-6/2025-02-28/
CATEGORIES:St-Vallier
END:VEVENT
END:VCALENDAR