BEGIN:VCALENDAR
VERSION:2.0
PRODID:-//Le Montmartre - ECPv6.15.13//NONSGML v1.0//EN
CALSCALE:GREGORIAN
METHOD:PUBLISH
X-ORIGINAL-URL:https://www.lemontmartre.ca
X-WR-CALDESC:Évènements pour Le Montmartre
REFRESH-INTERVAL;VALUE=DURATION:PT1H
X-Robots-Tag:noindex
X-PUBLISHED-TTL:PT1H
BEGIN:VTIMEZONE
TZID:America/Montreal
BEGIN:DAYLIGHT
TZOFFSETFROM:-0500
TZOFFSETTO:-0400
TZNAME:EDT
DTSTART:20240310T070000
END:DAYLIGHT
BEGIN:STANDARD
TZOFFSETFROM:-0400
TZOFFSETTO:-0500
TZNAME:EST
DTSTART:20241103T060000
END:STANDARD
BEGIN:DAYLIGHT
TZOFFSETFROM:-0500
TZOFFSETTO:-0400
TZNAME:EDT
DTSTART:20250309T070000
END:DAYLIGHT
BEGIN:STANDARD
TZOFFSETFROM:-0400
TZOFFSETTO:-0500
TZNAME:EST
DTSTART:20251102T060000
END:STANDARD
BEGIN:DAYLIGHT
TZOFFSETFROM:-0500
TZOFFSETTO:-0400
TZNAME:EDT
DTSTART:20260308T070000
END:DAYLIGHT
BEGIN:STANDARD
TZOFFSETFROM:-0400
TZOFFSETTO:-0500
TZNAME:EST
DTSTART:20261101T060000
END:STANDARD
END:VTIMEZONE
BEGIN:VEVENT
DTSTART;TZID=America/Montreal:20250105T084500
DTEND;TZID=America/Montreal:20250105T120000
DTSTAMP:20260423T192901
CREATED:20241218T215554Z
LAST-MODIFIED:20251002T183002Z
UID:10006349-1736066700-1736078400@www.lemontmartre.ca
SUMMARY:Groupe Harmonie 10H
DESCRIPTION:
URL:https://www.lemontmartre.ca/event/groupe-harmonie-10h-2/2025-01-05/
CATEGORIES:St-Vallier
END:VEVENT
BEGIN:VEVENT
DTSTART;TZID=America/Montreal:20250107T183000
DTEND;TZID=America/Montreal:20250107T203000
DTSTAMP:20260423T192901
CREATED:20240829T161716Z
LAST-MODIFIED:20250528T151316Z
UID:10004453-1736274600-1736281800@www.lemontmartre.ca
SUMMARY:Toastmasters 19H00
DESCRIPTION:
URL:https://www.lemontmartre.ca/event/toastmasters-19h00/2025-01-07/
CATEGORIES:St-Vallier
END:VEVENT
BEGIN:VEVENT
DTSTART;TZID=America/Montreal:20250111T120000
DTEND;TZID=America/Montreal:20250111T160000
DTSTAMP:20260423T192901
CREATED:20241218T220351Z
LAST-MODIFIED:20241220T175845Z
UID:10006651-1736596800-1736611200@www.lemontmartre.ca
SUMMARY:Club de bridge Quatre-Coeurs 12H45
DESCRIPTION:
URL:https://www.lemontmartre.ca/event/club-de-bridge-quatre-coeurs-12h45-6/
CATEGORIES:St-Vallier
END:VEVENT
BEGIN:VEVENT
DTSTART;TZID=America/Montreal:20250112T084500
DTEND;TZID=America/Montreal:20250112T120000
DTSTAMP:20260423T192901
CREATED:20241218T215554Z
LAST-MODIFIED:20251002T183002Z
UID:10006350-1736671500-1736683200@www.lemontmartre.ca
SUMMARY:Groupe Harmonie 10H
DESCRIPTION:
URL:https://www.lemontmartre.ca/event/groupe-harmonie-10h-2/2025-01-12/
CATEGORIES:St-Vallier
END:VEVENT
BEGIN:VEVENT
DTSTART;TZID=America/Montreal:20250114T090000
DTEND;TZID=America/Montreal:20250114T133000
DTSTAMP:20260423T192901
CREATED:20241219T155538Z
LAST-MODIFIED:20241219T155849Z
UID:10006756-1736845200-1736861400@www.lemontmartre.ca
SUMMARY:Collectif amalgame 9H30
DESCRIPTION:
URL:https://www.lemontmartre.ca/event/collectif-amalgame-9h30-2/2025-01-14/
CATEGORIES:St-Vallier
END:VEVENT
BEGIN:VEVENT
DTSTART;TZID=America/Montreal:20250114T183000
DTEND;TZID=America/Montreal:20250114T203000
DTSTAMP:20260423T192901
CREATED:20240829T161716Z
LAST-MODIFIED:20250528T151316Z
UID:10004454-1736879400-1736886600@www.lemontmartre.ca
SUMMARY:Toastmasters 19H00
DESCRIPTION:
URL:https://www.lemontmartre.ca/event/toastmasters-19h00/2025-01-14/
CATEGORIES:St-Vallier
END:VEVENT
BEGIN:VEVENT
DTSTART;TZID=America/Montreal:20250118T080000
DTEND;TZID=America/Montreal:20250118T153000
DTSTAMP:20260423T192901
CREATED:20241219T233049Z
LAST-MODIFIED:20241219T233049Z
UID:10006796-1737187200-1737214200@www.lemontmartre.ca
SUMMARY:Communauté Jean de la Croix 8H
DESCRIPTION:
URL:https://www.lemontmartre.ca/event/communaute-jean-de-la-croix-8h-5/
CATEGORIES:St-Vallier
END:VEVENT
BEGIN:VEVENT
DTSTART;TZID=America/Montreal:20250119T084500
DTEND;TZID=America/Montreal:20250119T120000
DTSTAMP:20260423T192901
CREATED:20241218T215554Z
LAST-MODIFIED:20251002T183002Z
UID:10006351-1737276300-1737288000@www.lemontmartre.ca
SUMMARY:Groupe Harmonie 10H
DESCRIPTION:
URL:https://www.lemontmartre.ca/event/groupe-harmonie-10h-2/2025-01-19/
CATEGORIES:St-Vallier
END:VEVENT
BEGIN:VEVENT
DTSTART;TZID=America/Montreal:20250121T183000
DTEND;TZID=America/Montreal:20250121T203000
DTSTAMP:20260423T192901
CREATED:20240829T161716Z
LAST-MODIFIED:20250528T151316Z
UID:10004455-1737484200-1737491400@www.lemontmartre.ca
SUMMARY:Toastmasters 19H00
DESCRIPTION:
URL:https://www.lemontmartre.ca/event/toastmasters-19h00/2025-01-21/
CATEGORIES:St-Vallier
END:VEVENT
BEGIN:VEVENT
DTSTART;TZID=America/Montreal:20250122T120000
DTEND;TZID=America/Montreal:20250122T160000
DTSTAMP:20260423T192901
CREATED:20241220T180252Z
LAST-MODIFIED:20241220T180252Z
UID:10006801-1737547200-1737561600@www.lemontmartre.ca
SUMMARY:Club de bridge l'Entame 12H45
DESCRIPTION:
URL:https://www.lemontmartre.ca/event/club-de-bridge-lentame-12h45-7/
CATEGORIES:St-Vallier
END:VEVENT
BEGIN:VEVENT
DTSTART;TZID=America/Montreal:20250123T173000
DTEND;TZID=America/Montreal:20250123T210000
DTSTAMP:20260423T192901
CREATED:20241220T182757Z
LAST-MODIFIED:20241223T201141Z
UID:10006804-1737653400-1737666000@www.lemontmartre.ca
SUMMARY:Tel-Aide Québec 18H30
DESCRIPTION:
URL:https://www.lemontmartre.ca/event/tel-aide-quebec-19h/
CATEGORIES:St-Vallier
END:VEVENT
BEGIN:VEVENT
DTSTART;TZID=America/Montreal:20250126T084500
DTEND;TZID=America/Montreal:20250126T120000
DTSTAMP:20260423T192901
CREATED:20241218T215554Z
LAST-MODIFIED:20251002T183002Z
UID:10006352-1737881100-1737892800@www.lemontmartre.ca
SUMMARY:Groupe Harmonie 10H
DESCRIPTION:
URL:https://www.lemontmartre.ca/event/groupe-harmonie-10h-2/2025-01-26/
CATEGORIES:St-Vallier
END:VEVENT
BEGIN:VEVENT
DTSTART;TZID=America/Montreal:20250128T090000
DTEND;TZID=America/Montreal:20250128T133000
DTSTAMP:20260423T192901
CREATED:20241219T155538Z
LAST-MODIFIED:20241219T155849Z
UID:10006757-1738054800-1738071000@www.lemontmartre.ca
SUMMARY:Collectif amalgame 9H30
DESCRIPTION:
URL:https://www.lemontmartre.ca/event/collectif-amalgame-9h30-2/2025-01-28/
CATEGORIES:St-Vallier
END:VEVENT
BEGIN:VEVENT
DTSTART;TZID=America/Montreal:20250128T183000
DTEND;TZID=America/Montreal:20250128T203000
DTSTAMP:20260423T192901
CREATED:20240829T161716Z
LAST-MODIFIED:20250528T151316Z
UID:10004456-1738089000-1738096200@www.lemontmartre.ca
SUMMARY:Toastmasters 19H00
DESCRIPTION:
URL:https://www.lemontmartre.ca/event/toastmasters-19h00/2025-01-28/
CATEGORIES:St-Vallier
END:VEVENT
END:VCALENDAR