BEGIN:VCALENDAR
VERSION:2.0
PRODID:-//Le Montmartre - ECPv6.15.13//NONSGML v1.0//EN
CALSCALE:GREGORIAN
METHOD:PUBLISH
X-WR-CALNAME:Le Montmartre
X-ORIGINAL-URL:https://www.lemontmartre.ca
X-WR-CALDESC:Évènements pour Le Montmartre
REFRESH-INTERVAL;VALUE=DURATION:PT1H
X-Robots-Tag:noindex
X-PUBLISHED-TTL:PT1H
BEGIN:VTIMEZONE
TZID:America/Montreal
BEGIN:DAYLIGHT
TZOFFSETFROM:-0500
TZOFFSETTO:-0400
TZNAME:EDT
DTSTART:20230312T070000
END:DAYLIGHT
BEGIN:STANDARD
TZOFFSETFROM:-0400
TZOFFSETTO:-0500
TZNAME:EST
DTSTART:20231105T060000
END:STANDARD
BEGIN:DAYLIGHT
TZOFFSETFROM:-0500
TZOFFSETTO:-0400
TZNAME:EDT
DTSTART:20240310T070000
END:DAYLIGHT
BEGIN:STANDARD
TZOFFSETFROM:-0400
TZOFFSETTO:-0500
TZNAME:EST
DTSTART:20241103T060000
END:STANDARD
BEGIN:DAYLIGHT
TZOFFSETFROM:-0500
TZOFFSETTO:-0400
TZNAME:EDT
DTSTART:20250309T070000
END:DAYLIGHT
BEGIN:STANDARD
TZOFFSETFROM:-0400
TZOFFSETTO:-0500
TZNAME:EST
DTSTART:20251102T060000
END:STANDARD
END:VTIMEZONE
BEGIN:VEVENT
DTSTART;TZID=America/Montreal:20241103T081500
DTEND;TZID=America/Montreal:20241103T120000
DTSTAMP:20260424T053213
CREATED:20240423T155537Z
LAST-MODIFIED:20240423T155537Z
UID:10001483-1730621700-1730635200@www.lemontmartre.ca
SUMMARY:Groupe Harmonie 10H
DESCRIPTION:<p style= »text-align: justify; »><span style= »color: #030303; »>8H15 Arrivée 12H00 Fin</span></p>
URL:https://www.lemontmartre.ca/event/groupe-harmonie-10h/2024-11-03/
CATEGORIES:St-Vallier
END:VEVENT
BEGIN:VEVENT
DTSTART;TZID=America/Montreal:20241105T183000
DTEND;TZID=America/Montreal:20241105T210000
DTSTAMP:20260424T053213
CREATED:20240815T192059Z
LAST-MODIFIED:20240829T161530Z
UID:10004358-1730831400-1730840400@www.lemontmartre.ca
SUMMARY:Toastmasters 19H00
DESCRIPTION:
URL:https://www.lemontmartre.ca/event/toastmasters-18h50-2/2024-11-05/
CATEGORIES:St-Vallier
END:VEVENT
BEGIN:VEVENT
DTSTART;TZID=America/Montreal:20241106T090000
DTEND;TZID=America/Montreal:20241106T113000
DTSTAMP:20260424T053213
CREATED:20240910T232532Z
LAST-MODIFIED:20240910T233643Z
UID:10004555-1730883600-1730892600@www.lemontmartre.ca
SUMMARY:Les matins intelligents 9H30
DESCRIPTION:
URL:https://www.lemontmartre.ca/event/les-matins-intelligents-9h30-2/2024-11-06/
CATEGORIES:St-Vallier
END:VEVENT
BEGIN:VEVENT
DTSTART;TZID=America/Montreal:20241109T120000
DTEND;TZID=America/Montreal:20241109T160000
DTSTAMP:20260424T053213
CREATED:20241105T150600Z
LAST-MODIFIED:20241105T150600Z
UID:10005487-1731153600-1731168000@www.lemontmartre.ca
SUMMARY:Club de bridge Quatre-Coeurs 12H45
DESCRIPTION:
URL:https://www.lemontmartre.ca/event/club-de-bridge-quatre-coeurs-12h45-4/
CATEGORIES:St-Vallier
END:VEVENT
BEGIN:VEVENT
DTSTART;TZID=America/Montreal:20241110T081500
DTEND;TZID=America/Montreal:20241110T120000
DTSTAMP:20260424T053213
CREATED:20240423T155537Z
LAST-MODIFIED:20240423T155537Z
UID:10001484-1731226500-1731240000@www.lemontmartre.ca
SUMMARY:Groupe Harmonie 10H
DESCRIPTION:<p style= »text-align: justify; »><span style= »color: #030303; »>8H15 Arrivée 12H00 Fin</span></p>
URL:https://www.lemontmartre.ca/event/groupe-harmonie-10h/2024-11-10/
CATEGORIES:St-Vallier
END:VEVENT
BEGIN:VEVENT
DTSTART;TZID=America/Montreal:20241112T093000
DTEND;TZID=America/Montreal:20241112T133000
DTSTAMP:20260424T053213
CREATED:20240913T210629Z
LAST-MODIFIED:20240913T210629Z
UID:10004946-1731403800-1731418200@www.lemontmartre.ca
SUMMARY:Collectif amalgame 9H30
DESCRIPTION:
URL:https://www.lemontmartre.ca/event/collectif-amalgame-9h30/2024-11-12/
CATEGORIES:St-Vallier
END:VEVENT
BEGIN:VEVENT
DTSTART;TZID=America/Montreal:20241112T183000
DTEND;TZID=America/Montreal:20241112T210000
DTSTAMP:20260424T053213
CREATED:20240815T192059Z
LAST-MODIFIED:20240829T161530Z
UID:10004359-1731436200-1731445200@www.lemontmartre.ca
SUMMARY:Toastmasters 19H00
DESCRIPTION:
URL:https://www.lemontmartre.ca/event/toastmasters-18h50-2/2024-11-12/
CATEGORIES:St-Vallier
END:VEVENT
BEGIN:VEVENT
DTSTART;TZID=America/Montreal:20241113T090000
DTEND;TZID=America/Montreal:20241113T163000
DTSTAMP:20260424T053213
CREATED:20241105T152753Z
LAST-MODIFIED:20241105T152753Z
UID:10005493-1731488400-1731515400@www.lemontmartre.ca
SUMMARY:Aquarelle D. Boilard 9H30
DESCRIPTION:
URL:https://www.lemontmartre.ca/event/aquarelle-d-boilard-9h30-2/2024-11-13/
CATEGORIES:St-Vallier
END:VEVENT
BEGIN:VEVENT
DTSTART;TZID=America/Montreal:20241114T090000
DTEND;TZID=America/Montreal:20241114T163000
DTSTAMP:20260424T053213
CREATED:20241105T152753Z
LAST-MODIFIED:20241105T152753Z
UID:10005494-1731574800-1731601800@www.lemontmartre.ca
SUMMARY:Aquarelle D. Boilard 9H30
DESCRIPTION:
URL:https://www.lemontmartre.ca/event/aquarelle-d-boilard-9h30-2/2024-11-14/
CATEGORIES:St-Vallier
END:VEVENT
BEGIN:VEVENT
DTSTART;TZID=America/Montreal:20241115T090000
DTEND;TZID=America/Montreal:20241115T163000
DTSTAMP:20260424T053213
CREATED:20241105T152753Z
LAST-MODIFIED:20241105T152753Z
UID:10005495-1731661200-1731688200@www.lemontmartre.ca
SUMMARY:Aquarelle D. Boilard 9H30
DESCRIPTION:
URL:https://www.lemontmartre.ca/event/aquarelle-d-boilard-9h30-2/2024-11-15/
CATEGORIES:St-Vallier
END:VEVENT
BEGIN:VEVENT
DTSTART;TZID=America/Montreal:20241116T090000
DTEND;TZID=America/Montreal:20241116T163000
DTSTAMP:20260424T053213
CREATED:20241105T152753Z
LAST-MODIFIED:20241105T152753Z
UID:10005496-1731747600-1731774600@www.lemontmartre.ca
SUMMARY:Aquarelle D. Boilard 9H30
DESCRIPTION:
URL:https://www.lemontmartre.ca/event/aquarelle-d-boilard-9h30-2/2024-11-16/
CATEGORIES:St-Vallier
END:VEVENT
BEGIN:VEVENT
DTSTART;TZID=America/Montreal:20241117T081500
DTEND;TZID=America/Montreal:20241117T120000
DTSTAMP:20260424T053213
CREATED:20240423T155537Z
LAST-MODIFIED:20240423T155537Z
UID:10001485-1731831300-1731844800@www.lemontmartre.ca
SUMMARY:Groupe Harmonie 10H
DESCRIPTION:<p style= »text-align: justify; »><span style= »color: #030303; »>8H15 Arrivée 12H00 Fin</span></p>
URL:https://www.lemontmartre.ca/event/groupe-harmonie-10h/2024-11-17/
CATEGORIES:St-Vallier
END:VEVENT
BEGIN:VEVENT
DTSTART;TZID=America/Montreal:20241118T173000
DTEND;TZID=America/Montreal:20241118T210000
DTSTAMP:20260424T053214
CREATED:20241112T194342Z
LAST-MODIFIED:20241112T194342Z
UID:10005510-1731951000-1731963600@www.lemontmartre.ca
SUMMARY:Tel-Aide Québec 18H30
DESCRIPTION:
URL:https://www.lemontmartre.ca/event/tel-aide-quebec-18h30-3/
CATEGORIES:St-Vallier
END:VEVENT
BEGIN:VEVENT
DTSTART;TZID=America/Montreal:20241119T183000
DTEND;TZID=America/Montreal:20241119T210000
DTSTAMP:20260424T053214
CREATED:20240815T192059Z
LAST-MODIFIED:20240829T161530Z
UID:10004360-1732041000-1732050000@www.lemontmartre.ca
SUMMARY:Toastmasters 19H00
DESCRIPTION:
URL:https://www.lemontmartre.ca/event/toastmasters-18h50-2/2024-11-19/
CATEGORIES:St-Vallier
END:VEVENT
BEGIN:VEVENT
DTSTART;TZID=America/Montreal:20241120T090000
DTEND;TZID=America/Montreal:20241120T113000
DTSTAMP:20260424T053214
CREATED:20240910T232532Z
LAST-MODIFIED:20240910T233643Z
UID:10004556-1732093200-1732102200@www.lemontmartre.ca
SUMMARY:Les matins intelligents 9H30
DESCRIPTION:
URL:https://www.lemontmartre.ca/event/les-matins-intelligents-9h30-2/2024-11-20/
CATEGORIES:St-Vallier
END:VEVENT
BEGIN:VEVENT
DTSTART;TZID=America/Montreal:20241124T081500
DTEND;TZID=America/Montreal:20241124T120000
DTSTAMP:20260424T053214
CREATED:20240423T155537Z
LAST-MODIFIED:20240423T155537Z
UID:10001486-1732436100-1732449600@www.lemontmartre.ca
SUMMARY:Groupe Harmonie 10H
DESCRIPTION:<p style= »text-align: justify; »><span style= »color: #030303; »>8H15 Arrivée 12H00 Fin</span></p>
URL:https://www.lemontmartre.ca/event/groupe-harmonie-10h/2024-11-24/
CATEGORIES:St-Vallier
END:VEVENT
BEGIN:VEVENT
DTSTART;TZID=America/Montreal:20241126T093000
DTEND;TZID=America/Montreal:20241126T133000
DTSTAMP:20260424T053214
CREATED:20240913T210629Z
LAST-MODIFIED:20240913T210629Z
UID:10004947-1732613400-1732627800@www.lemontmartre.ca
SUMMARY:Collectif amalgame 9H30
DESCRIPTION:
URL:https://www.lemontmartre.ca/event/collectif-amalgame-9h30/2024-11-26/
CATEGORIES:St-Vallier
END:VEVENT
BEGIN:VEVENT
DTSTART;TZID=America/Montreal:20241126T183000
DTEND;TZID=America/Montreal:20241126T210000
DTSTAMP:20260424T053214
CREATED:20240815T192059Z
LAST-MODIFIED:20240829T161530Z
UID:10004361-1732645800-1732654800@www.lemontmartre.ca
SUMMARY:Toastmasters 19H00
DESCRIPTION:
URL:https://www.lemontmartre.ca/event/toastmasters-18h50-2/2024-11-26/
CATEGORIES:St-Vallier
END:VEVENT
BEGIN:VEVENT
DTSTART;TZID=America/Montreal:20241127T090000
DTEND;TZID=America/Montreal:20241127T113000
DTSTAMP:20260424T053214
CREATED:20240910T232532Z
LAST-MODIFIED:20240910T233643Z
UID:10004557-1732698000-1732707000@www.lemontmartre.ca
SUMMARY:Les matins intelligents 9H30
DESCRIPTION:
URL:https://www.lemontmartre.ca/event/les-matins-intelligents-9h30-2/2024-11-27/
CATEGORIES:St-Vallier
END:VEVENT
END:VCALENDAR