BEGIN:VCALENDAR
VERSION:2.0
PRODID:-//Le Montmartre - ECPv6.15.13//NONSGML v1.0//EN
CALSCALE:GREGORIAN
METHOD:PUBLISH
X-ORIGINAL-URL:https://www.lemontmartre.ca
X-WR-CALDESC:Évènements pour Le Montmartre
REFRESH-INTERVAL;VALUE=DURATION:PT1H
X-Robots-Tag:noindex
X-PUBLISHED-TTL:PT1H
BEGIN:VTIMEZONE
TZID:America/Montreal
BEGIN:DAYLIGHT
TZOFFSETFROM:-0500
TZOFFSETTO:-0400
TZNAME:EDT
DTSTART:20230312T070000
END:DAYLIGHT
BEGIN:STANDARD
TZOFFSETFROM:-0400
TZOFFSETTO:-0500
TZNAME:EST
DTSTART:20231105T060000
END:STANDARD
BEGIN:DAYLIGHT
TZOFFSETFROM:-0500
TZOFFSETTO:-0400
TZNAME:EDT
DTSTART:20240310T070000
END:DAYLIGHT
BEGIN:STANDARD
TZOFFSETFROM:-0400
TZOFFSETTO:-0500
TZNAME:EST
DTSTART:20241103T060000
END:STANDARD
BEGIN:DAYLIGHT
TZOFFSETFROM:-0500
TZOFFSETTO:-0400
TZNAME:EDT
DTSTART:20250309T070000
END:DAYLIGHT
BEGIN:STANDARD
TZOFFSETFROM:-0400
TZOFFSETTO:-0500
TZNAME:EST
DTSTART:20251102T060000
END:STANDARD
END:VTIMEZONE
BEGIN:VEVENT
DTSTART;TZID=America/Montreal:20241001T093000
DTEND;TZID=America/Montreal:20241001T133000
DTSTAMP:20260424T035221
CREATED:20240913T210629Z
LAST-MODIFIED:20240913T210629Z
UID:10004943-1727775000-1727789400@www.lemontmartre.ca
SUMMARY:Collectif amalgame 9H30
DESCRIPTION:
URL:https://www.lemontmartre.ca/event/collectif-amalgame-9h30/2024-10-01/
CATEGORIES:St-Vallier
END:VEVENT
BEGIN:VEVENT
DTSTART;TZID=America/Montreal:20241001T183000
DTEND;TZID=America/Montreal:20241001T210000
DTSTAMP:20260424T035221
CREATED:20240815T192059Z
LAST-MODIFIED:20240829T161530Z
UID:10004353-1727807400-1727816400@www.lemontmartre.ca
SUMMARY:Toastmasters 19H00
DESCRIPTION:
URL:https://www.lemontmartre.ca/event/toastmasters-18h50-2/2024-10-01/
CATEGORIES:St-Vallier
END:VEVENT
BEGIN:VEVENT
DTSTART;TZID=America/Montreal:20241002T090000
DTEND;TZID=America/Montreal:20241002T113000
DTSTAMP:20260424T035221
CREATED:20240910T232532Z
LAST-MODIFIED:20240910T233643Z
UID:10004552-1727859600-1727868600@www.lemontmartre.ca
SUMMARY:Les matins intelligents 9H30
DESCRIPTION:
URL:https://www.lemontmartre.ca/event/les-matins-intelligents-9h30-2/2024-10-02/
CATEGORIES:St-Vallier
END:VEVENT
BEGIN:VEVENT
DTSTART;TZID=America/Montreal:20241006T081500
DTEND;TZID=America/Montreal:20241006T120000
DTSTAMP:20260424T035221
CREATED:20240423T155537Z
LAST-MODIFIED:20240423T155537Z
UID:10001479-1728202500-1728216000@www.lemontmartre.ca
SUMMARY:Groupe Harmonie 10H
DESCRIPTION:<p style= »text-align: justify; »><span style= »color: #030303; »>8H15 Arrivée 12H00 Fin</span></p>
URL:https://www.lemontmartre.ca/event/groupe-harmonie-10h/2024-10-06/
CATEGORIES:St-Vallier
END:VEVENT
BEGIN:VEVENT
DTSTART;TZID=America/Montreal:20241008T183000
DTEND;TZID=America/Montreal:20241008T210000
DTSTAMP:20260424T035221
CREATED:20240815T192059Z
LAST-MODIFIED:20240829T161530Z
UID:10004354-1728412200-1728421200@www.lemontmartre.ca
SUMMARY:Toastmasters 19H00
DESCRIPTION:
URL:https://www.lemontmartre.ca/event/toastmasters-18h50-2/2024-10-08/
CATEGORIES:St-Vallier
END:VEVENT
BEGIN:VEVENT
DTSTART;TZID=America/Montreal:20241009T090000
DTEND;TZID=America/Montreal:20241009T113000
DTSTAMP:20260424T035221
CREATED:20240910T232532Z
LAST-MODIFIED:20240910T233643Z
UID:10004553-1728464400-1728473400@www.lemontmartre.ca
SUMMARY:Les matins intelligents 9H30
DESCRIPTION:
URL:https://www.lemontmartre.ca/event/les-matins-intelligents-9h30-2/2024-10-09/
CATEGORIES:St-Vallier
END:VEVENT
BEGIN:VEVENT
DTSTART;TZID=America/Montreal:20241012T080000
DTEND;TZID=America/Montreal:20241012T160000
DTSTAMP:20260424T035221
CREATED:20241007T200852Z
LAST-MODIFIED:20241011T201135Z
UID:10005405-1728720000-1728748800@www.lemontmartre.ca
SUMMARY:Club de bridge Quatre-Coeurs 12H45
DESCRIPTION:
URL:https://www.lemontmartre.ca/event/club-de-bridge-quatre-coeurs-12h45/
CATEGORIES:St-Vallier
END:VEVENT
BEGIN:VEVENT
DTSTART;TZID=America/Montreal:20241013T081500
DTEND;TZID=America/Montreal:20241013T120000
DTSTAMP:20260424T035221
CREATED:20240423T155537Z
LAST-MODIFIED:20240423T155537Z
UID:10001480-1728807300-1728820800@www.lemontmartre.ca
SUMMARY:Groupe Harmonie 10H
DESCRIPTION:<p style= »text-align: justify; »><span style= »color: #030303; »>8H15 Arrivée 12H00 Fin</span></p>
URL:https://www.lemontmartre.ca/event/groupe-harmonie-10h/2024-10-13/
CATEGORIES:St-Vallier
END:VEVENT
BEGIN:VEVENT
DTSTART;TZID=America/Montreal:20241015T093000
DTEND;TZID=America/Montreal:20241015T133000
DTSTAMP:20260424T035221
CREATED:20240913T210629Z
LAST-MODIFIED:20240913T210629Z
UID:10004944-1728984600-1728999000@www.lemontmartre.ca
SUMMARY:Collectif amalgame 9H30
DESCRIPTION:
URL:https://www.lemontmartre.ca/event/collectif-amalgame-9h30/2024-10-15/
CATEGORIES:St-Vallier
END:VEVENT
BEGIN:VEVENT
DTSTART;TZID=America/Montreal:20241015T183000
DTEND;TZID=America/Montreal:20241015T210000
DTSTAMP:20260424T035221
CREATED:20240815T192059Z
LAST-MODIFIED:20240829T161530Z
UID:10004355-1729017000-1729026000@www.lemontmartre.ca
SUMMARY:Toastmasters 19H00
DESCRIPTION:
URL:https://www.lemontmartre.ca/event/toastmasters-18h50-2/2024-10-15/
CATEGORIES:St-Vallier
END:VEVENT
BEGIN:VEVENT
DTSTART;TZID=America/Montreal:20241016T090000
DTEND;TZID=America/Montreal:20241016T170000
DTSTAMP:20260424T035221
CREATED:20241007T202752Z
LAST-MODIFIED:20241007T202752Z
UID:10005412-1729069200-1729098000@www.lemontmartre.ca
SUMMARY:Aquarelle Diane Boilard 9H30
DESCRIPTION:
URL:https://www.lemontmartre.ca/event/aquarelle-diane-boilard-9h30-3/2024-10-16/
CATEGORIES:St-Vallier
END:VEVENT
BEGIN:VEVENT
DTSTART;TZID=America/Montreal:20241017T090000
DTEND;TZID=America/Montreal:20241017T170000
DTSTAMP:20260424T035221
CREATED:20241007T202752Z
LAST-MODIFIED:20241007T202752Z
UID:10005413-1729155600-1729184400@www.lemontmartre.ca
SUMMARY:Aquarelle Diane Boilard 9H30
DESCRIPTION:
URL:https://www.lemontmartre.ca/event/aquarelle-diane-boilard-9h30-3/2024-10-17/
CATEGORIES:St-Vallier
END:VEVENT
BEGIN:VEVENT
DTSTART;TZID=America/Montreal:20241018T090000
DTEND;TZID=America/Montreal:20241018T170000
DTSTAMP:20260424T035221
CREATED:20241007T202752Z
LAST-MODIFIED:20241007T202752Z
UID:10005414-1729242000-1729270800@www.lemontmartre.ca
SUMMARY:Aquarelle Diane Boilard 9H30
DESCRIPTION:
URL:https://www.lemontmartre.ca/event/aquarelle-diane-boilard-9h30-3/2024-10-18/
CATEGORIES:St-Vallier
END:VEVENT
BEGIN:VEVENT
DTSTART;TZID=America/Montreal:20241019T090000
DTEND;TZID=America/Montreal:20241019T170000
DTSTAMP:20260424T035221
CREATED:20241007T202752Z
LAST-MODIFIED:20241007T202752Z
UID:10005415-1729328400-1729357200@www.lemontmartre.ca
SUMMARY:Aquarelle Diane Boilard 9H30
DESCRIPTION:
URL:https://www.lemontmartre.ca/event/aquarelle-diane-boilard-9h30-3/2024-10-19/
CATEGORIES:St-Vallier
END:VEVENT
BEGIN:VEVENT
DTSTART;TZID=America/Montreal:20241020T081500
DTEND;TZID=America/Montreal:20241020T120000
DTSTAMP:20260424T035221
CREATED:20240423T155537Z
LAST-MODIFIED:20240423T155537Z
UID:10001481-1729412100-1729425600@www.lemontmartre.ca
SUMMARY:Groupe Harmonie 10H
DESCRIPTION:<p style= »text-align: justify; »><span style= »color: #030303; »>8H15 Arrivée 12H00 Fin</span></p>
URL:https://www.lemontmartre.ca/event/groupe-harmonie-10h/2024-10-20/
CATEGORIES:St-Vallier
END:VEVENT
BEGIN:VEVENT
DTSTART;TZID=America/Montreal:20241022T183000
DTEND;TZID=America/Montreal:20241022T210000
DTSTAMP:20260424T035221
CREATED:20240815T192059Z
LAST-MODIFIED:20240829T161530Z
UID:10004356-1729621800-1729630800@www.lemontmartre.ca
SUMMARY:Toastmasters 19H00
DESCRIPTION:
URL:https://www.lemontmartre.ca/event/toastmasters-18h50-2/2024-10-22/
CATEGORIES:St-Vallier
END:VEVENT
BEGIN:VEVENT
DTSTART;TZID=America/Montreal:20241023T120000
DTEND;TZID=America/Montreal:20241023T163000
DTSTAMP:20260424T035221
CREATED:20241022T160013Z
LAST-MODIFIED:20241022T160013Z
UID:10005433-1729684800-1729701000@www.lemontmartre.ca
SUMMARY:Club de bridge l'Entame 12H45
DESCRIPTION:
URL:https://www.lemontmartre.ca/event/club-de-bridge-lentame-12h45-3/
CATEGORIES:St-Vallier
END:VEVENT
BEGIN:VEVENT
DTSTART;TZID=America/Montreal:20241026T120000
DTEND;TZID=America/Montreal:20241026T163000
DTSTAMP:20260424T035221
CREATED:20241022T160729Z
LAST-MODIFIED:20241022T160729Z
UID:10005436-1729944000-1729960200@www.lemontmartre.ca
SUMMARY:Club de bridge Quatre-Coeur 13H
DESCRIPTION:
URL:https://www.lemontmartre.ca/event/club-de-bridge-quatre-coeur-13h-3/
CATEGORIES:St-Vallier
END:VEVENT
BEGIN:VEVENT
DTSTART;TZID=America/Montreal:20241027T081500
DTEND;TZID=America/Montreal:20241027T120000
DTSTAMP:20260424T035221
CREATED:20240423T155537Z
LAST-MODIFIED:20240423T155537Z
UID:10001482-1730016900-1730030400@www.lemontmartre.ca
SUMMARY:Groupe Harmonie 10H
DESCRIPTION:<p style= »text-align: justify; »><span style= »color: #030303; »>8H15 Arrivée 12H00 Fin</span></p>
URL:https://www.lemontmartre.ca/event/groupe-harmonie-10h/2024-10-27/
CATEGORIES:St-Vallier
END:VEVENT
BEGIN:VEVENT
DTSTART;TZID=America/Montreal:20241027T120000
DTEND;TZID=America/Montreal:20241027T190000
DTSTAMP:20260424T035221
CREATED:20241024T140947Z
LAST-MODIFIED:20241024T140947Z
UID:10005448-1730030400-1730055600@www.lemontmartre.ca
SUMMARY:Mouvement du cursillo 13H15
DESCRIPTION:
URL:https://www.lemontmartre.ca/event/mouvement-du-cursillo-13h15-3/
CATEGORIES:St-Vallier
END:VEVENT
BEGIN:VEVENT
DTSTART;TZID=America/Montreal:20241029T093000
DTEND;TZID=America/Montreal:20241029T133000
DTSTAMP:20260424T035221
CREATED:20240913T210629Z
LAST-MODIFIED:20240913T210629Z
UID:10004945-1730194200-1730208600@www.lemontmartre.ca
SUMMARY:Collectif amalgame 9H30
DESCRIPTION:
URL:https://www.lemontmartre.ca/event/collectif-amalgame-9h30/2024-10-29/
CATEGORIES:St-Vallier
END:VEVENT
BEGIN:VEVENT
DTSTART;TZID=America/Montreal:20241029T183000
DTEND;TZID=America/Montreal:20241029T210000
DTSTAMP:20260424T035221
CREATED:20240815T192059Z
LAST-MODIFIED:20240829T161530Z
UID:10004357-1730226600-1730235600@www.lemontmartre.ca
SUMMARY:Toastmasters 19H00
DESCRIPTION:
URL:https://www.lemontmartre.ca/event/toastmasters-18h50-2/2024-10-29/
CATEGORIES:St-Vallier
END:VEVENT
BEGIN:VEVENT
DTSTART;TZID=America/Montreal:20241030T173000
DTEND;TZID=America/Montreal:20241030T210000
DTSTAMP:20260424T035221
CREATED:20241024T192024Z
LAST-MODIFIED:20241024T192024Z
UID:10005477-1730309400-1730322000@www.lemontmartre.ca
SUMMARY:Tel-Aide Québec 18H30
DESCRIPTION:
URL:https://www.lemontmartre.ca/event/tel-aide-quebec-18h30/
CATEGORIES:St-Vallier
END:VEVENT
END:VCALENDAR