BEGIN:VCALENDAR
VERSION:2.0
PRODID:-//Le Montmartre - ECPv6.15.13//NONSGML v1.0//EN
CALSCALE:GREGORIAN
METHOD:PUBLISH
X-WR-CALNAME:Le Montmartre
X-ORIGINAL-URL:https://www.lemontmartre.ca
X-WR-CALDESC:Évènements pour Le Montmartre
REFRESH-INTERVAL;VALUE=DURATION:PT1H
X-Robots-Tag:noindex
X-PUBLISHED-TTL:PT1H
BEGIN:VTIMEZONE
TZID:America/Montreal
BEGIN:DAYLIGHT
TZOFFSETFROM:-0500
TZOFFSETTO:-0400
TZNAME:EDT
DTSTART:20230312T070000
END:DAYLIGHT
BEGIN:STANDARD
TZOFFSETFROM:-0400
TZOFFSETTO:-0500
TZNAME:EST
DTSTART:20231105T060000
END:STANDARD
BEGIN:DAYLIGHT
TZOFFSETFROM:-0500
TZOFFSETTO:-0400
TZNAME:EDT
DTSTART:20240310T070000
END:DAYLIGHT
BEGIN:STANDARD
TZOFFSETFROM:-0400
TZOFFSETTO:-0500
TZNAME:EST
DTSTART:20241103T060000
END:STANDARD
BEGIN:DAYLIGHT
TZOFFSETFROM:-0500
TZOFFSETTO:-0400
TZNAME:EDT
DTSTART:20250309T070000
END:DAYLIGHT
BEGIN:STANDARD
TZOFFSETFROM:-0400
TZOFFSETTO:-0500
TZNAME:EST
DTSTART:20251102T060000
END:STANDARD
END:VTIMEZONE
BEGIN:VEVENT
DTSTART;TZID=America/Montreal:20240602T081500
DTEND;TZID=America/Montreal:20240602T120000
DTSTAMP:20260424T204350
CREATED:20240423T155537Z
LAST-MODIFIED:20240423T155537Z
UID:10001461-1717316100-1717329600@www.lemontmartre.ca
SUMMARY:Groupe Harmonie 10H
DESCRIPTION:<p style= »text-align: justify; »><span style= »color: #030303; »>8H15 Arrivée 12H00 Fin</span></p>
URL:https://www.lemontmartre.ca/event/groupe-harmonie-10h/2024-06-02/
CATEGORIES:St-Vallier
END:VEVENT
BEGIN:VEVENT
DTSTART;TZID=America/Montreal:20240604T183000
DTEND;TZID=America/Montreal:20240604T210000
DTSTAMP:20260424T204350
CREATED:20240423T160415Z
LAST-MODIFIED:20240607T192658Z
UID:10001670-1717525800-1717534800@www.lemontmartre.ca
SUMMARY:Toastmasters 18H50
DESCRIPTION:
URL:https://www.lemontmartre.ca/event/toastmasters-18h50/2024-06-04/
CATEGORIES:St-Vallier
END:VEVENT
BEGIN:VEVENT
DTSTART;TZID=America/Montreal:20240607T170000
DTEND;TZID=America/Montreal:20240607T210000
DTSTAMP:20260424T204350
CREATED:20240604T201048Z
LAST-MODIFIED:20240604T201048Z
UID:10003162-1717779600-1717794000@www.lemontmartre.ca
SUMMARY:Cursillo 18H
DESCRIPTION:
URL:https://www.lemontmartre.ca/event/cursillo-18h/
CATEGORIES:St-Vallier
END:VEVENT
BEGIN:VEVENT
DTSTART;TZID=America/Montreal:20240609T081500
DTEND;TZID=America/Montreal:20240609T120000
DTSTAMP:20260424T204350
CREATED:20240423T155537Z
LAST-MODIFIED:20240423T155537Z
UID:10001462-1717920900-1717934400@www.lemontmartre.ca
SUMMARY:Groupe Harmonie 10H
DESCRIPTION:<p style= »text-align: justify; »><span style= »color: #030303; »>8H15 Arrivée 12H00 Fin</span></p>
URL:https://www.lemontmartre.ca/event/groupe-harmonie-10h/2024-06-09/
CATEGORIES:St-Vallier
END:VEVENT
BEGIN:VEVENT
DTSTART;TZID=America/Montreal:20240614T090000
DTEND;TZID=America/Montreal:20240614T170000
DTSTAMP:20260424T204350
CREATED:20240604T215615Z
LAST-MODIFIED:20240604T215615Z
UID:10003572-1718355600-1718384400@www.lemontmartre.ca
SUMMARY:Aquarelle D. Boilard 9H30
DESCRIPTION:
URL:https://www.lemontmartre.ca/event/aquarelle-d-boilard-9h30/2024-06-14/
CATEGORIES:St-Vallier
END:VEVENT
BEGIN:VEVENT
DTSTART;TZID=America/Montreal:20240615T090000
DTEND;TZID=America/Montreal:20240615T170000
DTSTAMP:20260424T204350
CREATED:20240604T215615Z
LAST-MODIFIED:20240604T215615Z
UID:10003573-1718442000-1718470800@www.lemontmartre.ca
SUMMARY:Aquarelle D. Boilard 9H30
DESCRIPTION:
URL:https://www.lemontmartre.ca/event/aquarelle-d-boilard-9h30/2024-06-15/
CATEGORIES:St-Vallier
END:VEVENT
BEGIN:VEVENT
DTSTART;TZID=America/Montreal:20240616T081500
DTEND;TZID=America/Montreal:20240616T120000
DTSTAMP:20260424T204351
CREATED:20240423T155537Z
LAST-MODIFIED:20240423T155537Z
UID:10001463-1718525700-1718539200@www.lemontmartre.ca
SUMMARY:Groupe Harmonie 10H
DESCRIPTION:<p style= »text-align: justify; »><span style= »color: #030303; »>8H15 Arrivée 12H00 Fin</span></p>
URL:https://www.lemontmartre.ca/event/groupe-harmonie-10h/2024-06-16/
CATEGORIES:St-Vallier
END:VEVENT
BEGIN:VEVENT
DTSTART;TZID=America/Montreal:20240620T150000
DTEND;TZID=America/Montreal:20240620T210000
DTSTAMP:20260424T204351
CREATED:20240607T202934Z
LAST-MODIFIED:20240607T202934Z
UID:10003578-1718895600-1718917200@www.lemontmartre.ca
SUMMARY:Tel-Aide Québec 17H
DESCRIPTION:
URL:https://www.lemontmartre.ca/event/tel-aide-quebec-17h/
CATEGORIES:St-Vallier
END:VEVENT
BEGIN:VEVENT
DTSTART;TZID=America/Montreal:20240623T081500
DTEND;TZID=America/Montreal:20240623T120000
DTSTAMP:20260424T204351
CREATED:20240423T155537Z
LAST-MODIFIED:20240423T155537Z
UID:10001464-1719130500-1719144000@www.lemontmartre.ca
SUMMARY:Groupe Harmonie 10H
DESCRIPTION:<p style= »text-align: justify; »><span style= »color: #030303; »>8H15 Arrivée 12H00 Fin</span></p>
URL:https://www.lemontmartre.ca/event/groupe-harmonie-10h/2024-06-23/
CATEGORIES:St-Vallier
END:VEVENT
BEGIN:VEVENT
DTSTART;TZID=America/Montreal:20240630T081500
DTEND;TZID=America/Montreal:20240630T120000
DTSTAMP:20260424T204351
CREATED:20240423T155537Z
LAST-MODIFIED:20240423T155537Z
UID:10001465-1719735300-1719748800@www.lemontmartre.ca
SUMMARY:Groupe Harmonie 10H
DESCRIPTION:<p style= »text-align: justify; »><span style= »color: #030303; »>8H15 Arrivée 12H00 Fin</span></p>
URL:https://www.lemontmartre.ca/event/groupe-harmonie-10h/2024-06-30/
CATEGORIES:St-Vallier
END:VEVENT
END:VCALENDAR