BEGIN:VCALENDAR
VERSION:2.0
PRODID:-//Le Montmartre - ECPv6.15.13//NONSGML v1.0//EN
CALSCALE:GREGORIAN
METHOD:PUBLISH
X-WR-CALNAME:Le Montmartre
X-ORIGINAL-URL:https://www.lemontmartre.ca
X-WR-CALDESC:Évènements pour Le Montmartre
REFRESH-INTERVAL;VALUE=DURATION:PT1H
X-Robots-Tag:noindex
X-PUBLISHED-TTL:PT1H
BEGIN:VTIMEZONE
TZID:America/Montreal
BEGIN:DAYLIGHT
TZOFFSETFROM:-0500
TZOFFSETTO:-0400
TZNAME:EDT
DTSTART:20230312T070000
END:DAYLIGHT
BEGIN:STANDARD
TZOFFSETFROM:-0400
TZOFFSETTO:-0500
TZNAME:EST
DTSTART:20231105T060000
END:STANDARD
BEGIN:DAYLIGHT
TZOFFSETFROM:-0500
TZOFFSETTO:-0400
TZNAME:EDT
DTSTART:20240310T070000
END:DAYLIGHT
BEGIN:STANDARD
TZOFFSETFROM:-0400
TZOFFSETTO:-0500
TZNAME:EST
DTSTART:20241103T060000
END:STANDARD
BEGIN:DAYLIGHT
TZOFFSETFROM:-0500
TZOFFSETTO:-0400
TZNAME:EDT
DTSTART:20250309T070000
END:DAYLIGHT
BEGIN:STANDARD
TZOFFSETFROM:-0400
TZOFFSETTO:-0500
TZNAME:EST
DTSTART:20251102T060000
END:STANDARD
END:VTIMEZONE
BEGIN:VEVENT
DTSTART;TZID=America/Montreal:20240501T093000
DTEND;TZID=America/Montreal:20240501T113000
DTSTAMP:20260424T222323
CREATED:20240423T160940Z
LAST-MODIFIED:20240521T232935Z
UID:10001802-1714555800-1714563000@www.lemontmartre.ca
SUMMARY:Les matins intelligents 9H30
DESCRIPTION:
URL:https://www.lemontmartre.ca/event/les-matins-intelligents-9h30/2024-05-01/
CATEGORIES:St-Vallier
END:VEVENT
BEGIN:VEVENT
DTSTART;TZID=America/Montreal:20240505T081500
DTEND;TZID=America/Montreal:20240505T120000
DTSTAMP:20260424T222323
CREATED:20240423T155537Z
LAST-MODIFIED:20240423T155537Z
UID:10001457-1714896900-1714910400@www.lemontmartre.ca
SUMMARY:Groupe Harmonie 10H
DESCRIPTION:<p style= »text-align: justify; »><span style= »color: #030303; »>8H15 Arrivée 12H00 Fin</span></p>
URL:https://www.lemontmartre.ca/event/groupe-harmonie-10h/2024-05-05/
CATEGORIES:St-Vallier
END:VEVENT
BEGIN:VEVENT
DTSTART;TZID=America/Montreal:20240507T183000
DTEND;TZID=America/Montreal:20240507T210000
DTSTAMP:20260424T222323
CREATED:20240423T160415Z
LAST-MODIFIED:20240607T192658Z
UID:10001666-1715106600-1715115600@www.lemontmartre.ca
SUMMARY:Toastmasters 18H50
DESCRIPTION:
URL:https://www.lemontmartre.ca/event/toastmasters-18h50/2024-05-07/
CATEGORIES:St-Vallier
END:VEVENT
BEGIN:VEVENT
DTSTART;TZID=America/Montreal:20240508T093000
DTEND;TZID=America/Montreal:20240508T113000
DTSTAMP:20260424T222323
CREATED:20240423T160940Z
LAST-MODIFIED:20240521T232935Z
UID:10001803-1715160600-1715167800@www.lemontmartre.ca
SUMMARY:Les matins intelligents 9H30
DESCRIPTION:
URL:https://www.lemontmartre.ca/event/les-matins-intelligents-9h30/2024-05-08/
CATEGORIES:St-Vallier
END:VEVENT
BEGIN:VEVENT
DTSTART;TZID=America/Montreal:20240511T080000
DTEND;TZID=America/Montreal:20240511T160000
DTSTAMP:20260424T222323
CREATED:20240423T200419Z
LAST-MODIFIED:20240423T200419Z
UID:10002104-1715414400-1715443200@www.lemontmartre.ca
SUMMARY:Communauté Jean de la Croix 8H00
DESCRIPTION:
URL:https://www.lemontmartre.ca/event/communaute-jean-de-la-croix-8h00/2024-05-11/
CATEGORIES:St-Vallier
END:VEVENT
BEGIN:VEVENT
DTSTART;TZID=America/Montreal:20240512T081500
DTEND;TZID=America/Montreal:20240512T120000
DTSTAMP:20260424T222323
CREATED:20240423T155537Z
LAST-MODIFIED:20240423T155537Z
UID:10001458-1715501700-1715515200@www.lemontmartre.ca
SUMMARY:Groupe Harmonie 10H
DESCRIPTION:<p style= »text-align: justify; »><span style= »color: #030303; »>8H15 Arrivée 12H00 Fin</span></p>
URL:https://www.lemontmartre.ca/event/groupe-harmonie-10h/2024-05-12/
CATEGORIES:St-Vallier
END:VEVENT
BEGIN:VEVENT
DTSTART;TZID=America/Montreal:20240514T183000
DTEND;TZID=America/Montreal:20240514T210000
DTSTAMP:20260424T222323
CREATED:20240423T160415Z
LAST-MODIFIED:20240607T192658Z
UID:10001667-1715711400-1715720400@www.lemontmartre.ca
SUMMARY:Toastmasters 18H50
DESCRIPTION:
URL:https://www.lemontmartre.ca/event/toastmasters-18h50/2024-05-14/
CATEGORIES:St-Vallier
END:VEVENT
BEGIN:VEVENT
DTSTART;TZID=America/Montreal:20240515T093000
DTEND;TZID=America/Montreal:20240515T113000
DTSTAMP:20260424T222323
CREATED:20240423T160940Z
LAST-MODIFIED:20240521T232935Z
UID:10001804-1715765400-1715772600@www.lemontmartre.ca
SUMMARY:Les matins intelligents 9H30
DESCRIPTION:
URL:https://www.lemontmartre.ca/event/les-matins-intelligents-9h30/2024-05-15/
CATEGORIES:St-Vallier
END:VEVENT
BEGIN:VEVENT
DTSTART;TZID=America/Montreal:20240516T080000
DTEND;TZID=America/Montreal:20240516T170000
DTSTAMP:20260424T222323
CREATED:20240423T230657Z
LAST-MODIFIED:20240423T230740Z
UID:10002771-1715846400-1715878800@www.lemontmartre.ca
SUMMARY:Aquarelle Diane Boilard 9H30
DESCRIPTION:9H00 Arrivée 17H00 Fin 
URL:https://www.lemontmartre.ca/event/aquarelle-diane-boilard-9h30/2024-05-16/1/
CATEGORIES:St-Vallier
END:VEVENT
BEGIN:VEVENT
DTSTART;TZID=America/Montreal:20240516T090000
DTEND;TZID=America/Montreal:20240516T170000
DTSTAMP:20260424T222323
CREATED:20240423T230657Z
LAST-MODIFIED:20240423T230740Z
UID:10002402-1715850000-1715878800@www.lemontmartre.ca
SUMMARY:Aquarelle Diane Boilard 9H30
DESCRIPTION:9H00 Arrivée 17H00 Fin 
URL:https://www.lemontmartre.ca/event/aquarelle-diane-boilard-9h30/2024-05-16/2/
CATEGORIES:St-Vallier
END:VEVENT
BEGIN:VEVENT
DTSTART;TZID=America/Montreal:20240517T090000
DTEND;TZID=America/Montreal:20240517T170000
DTSTAMP:20260424T222323
CREATED:20240423T230657Z
LAST-MODIFIED:20240423T230740Z
UID:10002403-1715936400-1715965200@www.lemontmartre.ca
SUMMARY:Aquarelle Diane Boilard 9H30
DESCRIPTION:9H00 Arrivée 17H00 Fin 
URL:https://www.lemontmartre.ca/event/aquarelle-diane-boilard-9h30/2024-05-17/
CATEGORIES:St-Vallier
END:VEVENT
BEGIN:VEVENT
DTSTART;TZID=America/Montreal:20240518T090000
DTEND;TZID=America/Montreal:20240518T170000
DTSTAMP:20260424T222323
CREATED:20240423T230657Z
LAST-MODIFIED:20240423T230740Z
UID:10002404-1716022800-1716051600@www.lemontmartre.ca
SUMMARY:Aquarelle Diane Boilard 9H30
DESCRIPTION:9H00 Arrivée 17H00 Fin 
URL:https://www.lemontmartre.ca/event/aquarelle-diane-boilard-9h30/2024-05-18/
CATEGORIES:St-Vallier
END:VEVENT
BEGIN:VEVENT
DTSTART;TZID=America/Montreal:20240519T081500
DTEND;TZID=America/Montreal:20240519T120000
DTSTAMP:20260424T222323
CREATED:20240423T155537Z
LAST-MODIFIED:20240423T155537Z
UID:10001459-1716106500-1716120000@www.lemontmartre.ca
SUMMARY:Groupe Harmonie 10H
DESCRIPTION:<p style= »text-align: justify; »><span style= »color: #030303; »>8H15 Arrivée 12H00 Fin</span></p>
URL:https://www.lemontmartre.ca/event/groupe-harmonie-10h/2024-05-19/
CATEGORIES:St-Vallier
END:VEVENT
BEGIN:VEVENT
DTSTART;TZID=America/Montreal:20240519T090000
DTEND;TZID=America/Montreal:20240519T170000
DTSTAMP:20260424T222323
CREATED:20240423T230657Z
LAST-MODIFIED:20240423T230740Z
UID:10002405-1716109200-1716138000@www.lemontmartre.ca
SUMMARY:Aquarelle Diane Boilard 9H30
DESCRIPTION:9H00 Arrivée 17H00 Fin 
URL:https://www.lemontmartre.ca/event/aquarelle-diane-boilard-9h30/2024-05-19/
CATEGORIES:St-Vallier
END:VEVENT
BEGIN:VEVENT
DTSTART;TZID=America/Montreal:20240521T183000
DTEND;TZID=America/Montreal:20240521T210000
DTSTAMP:20260424T222323
CREATED:20240423T160415Z
LAST-MODIFIED:20240607T192658Z
UID:10001668-1716316200-1716325200@www.lemontmartre.ca
SUMMARY:Toastmasters 18H50
DESCRIPTION:
URL:https://www.lemontmartre.ca/event/toastmasters-18h50/2024-05-21/
CATEGORIES:St-Vallier
END:VEVENT
BEGIN:VEVENT
DTSTART;TZID=America/Montreal:20240522T093000
DTEND;TZID=America/Montreal:20240522T113000
DTSTAMP:20260424T222323
CREATED:20240423T160940Z
LAST-MODIFIED:20240521T232935Z
UID:10001805-1716370200-1716377400@www.lemontmartre.ca
SUMMARY:Les matins intelligents 9H30
DESCRIPTION:
URL:https://www.lemontmartre.ca/event/les-matins-intelligents-9h30/2024-05-22/
CATEGORIES:St-Vallier
END:VEVENT
BEGIN:VEVENT
DTSTART;TZID=America/Montreal:20240526T081500
DTEND;TZID=America/Montreal:20240526T120000
DTSTAMP:20260424T222323
CREATED:20240423T155537Z
LAST-MODIFIED:20240423T155537Z
UID:10001460-1716711300-1716724800@www.lemontmartre.ca
SUMMARY:Groupe Harmonie 10H
DESCRIPTION:<p style= »text-align: justify; »><span style= »color: #030303; »>8H15 Arrivée 12H00 Fin</span></p>
URL:https://www.lemontmartre.ca/event/groupe-harmonie-10h/2024-05-26/
CATEGORIES:St-Vallier
END:VEVENT
BEGIN:VEVENT
DTSTART;TZID=America/Montreal:20240528T183000
DTEND;TZID=America/Montreal:20240528T210000
DTSTAMP:20260424T222323
CREATED:20240423T160415Z
LAST-MODIFIED:20240607T192658Z
UID:10001669-1716921000-1716930000@www.lemontmartre.ca
SUMMARY:Toastmasters 18H50
DESCRIPTION:
URL:https://www.lemontmartre.ca/event/toastmasters-18h50/2024-05-28/
CATEGORIES:St-Vallier
END:VEVENT
END:VCALENDAR