BEGIN:VCALENDAR
VERSION:2.0
PRODID:-//Le Montmartre - ECPv6.15.13//NONSGML v1.0//EN
CALSCALE:GREGORIAN
METHOD:PUBLISH
X-ORIGINAL-URL:https://www.lemontmartre.ca
X-WR-CALDESC:Évènements pour Le Montmartre
REFRESH-INTERVAL;VALUE=DURATION:PT1H
X-Robots-Tag:noindex
X-PUBLISHED-TTL:PT1H
BEGIN:VTIMEZONE
TZID:America/Montreal
BEGIN:DAYLIGHT
TZOFFSETFROM:-0500
TZOFFSETTO:-0400
TZNAME:EDT
DTSTART:20240310T070000
END:DAYLIGHT
BEGIN:STANDARD
TZOFFSETFROM:-0400
TZOFFSETTO:-0500
TZNAME:EST
DTSTART:20241103T060000
END:STANDARD
BEGIN:DAYLIGHT
TZOFFSETFROM:-0500
TZOFFSETTO:-0400
TZNAME:EDT
DTSTART:20250309T070000
END:DAYLIGHT
BEGIN:STANDARD
TZOFFSETFROM:-0400
TZOFFSETTO:-0500
TZNAME:EST
DTSTART:20251102T060000
END:STANDARD
BEGIN:DAYLIGHT
TZOFFSETFROM:-0500
TZOFFSETTO:-0400
TZNAME:EDT
DTSTART:20260308T070000
END:DAYLIGHT
BEGIN:STANDARD
TZOFFSETFROM:-0400
TZOFFSETTO:-0500
TZNAME:EST
DTSTART:20261101T060000
END:STANDARD
END:VTIMEZONE
BEGIN:VEVENT
DTSTART;TZID=America/Montreal:20251003T123000
DTEND;TZID=America/Montreal:20251003T163000
DTSTAMP:20260419T222959
CREATED:20250925T185040Z
LAST-MODIFIED:20250925T185040Z
UID:10009995-1759494600-1759509000@www.lemontmartre.ca
SUMMARY:Renouveau charismatique 12H30 Installation
DESCRIPTION:
URL:https://www.lemontmartre.ca/event/renouveau-charismatique-12h30-installation/
CATEGORIES:St-Augustin
END:VEVENT
BEGIN:VEVENT
DTSTART;TZID=America/Montreal:20251004T070000
DTEND;TZID=America/Montreal:20251004T203000
DTSTAMP:20260419T222959
CREATED:20250924T202849Z
LAST-MODIFIED:20250924T202849Z
UID:10009991-1759561200-1759609800@www.lemontmartre.ca
SUMMARY:Renouveau charismatique 8H30
DESCRIPTION:
URL:https://www.lemontmartre.ca/event/renouveau-charismatique-8h30/
CATEGORIES:St-Augustin
END:VEVENT
BEGIN:VEVENT
DTSTART;TZID=America/Montreal:20251005T103000
DTEND;TZID=America/Montreal:20251005T120000
DTSTAMP:20260419T222959
CREATED:20241218T215437Z
LAST-MODIFIED:20241218T215437Z
UID:10006336-1759660200-1759665600@www.lemontmartre.ca
SUMMARY:Messe 10H30
DESCRIPTION:
URL:https://www.lemontmartre.ca/event/messe-10h30-2/2025-10-05/
CATEGORIES:St-Augustin
END:VEVENT
BEGIN:VEVENT
DTSTART;TZID=America/Montreal:20251005T120000
DTEND;TZID=America/Montreal:20251005T190000
DTSTAMP:20260419T222959
CREATED:20250924T002429Z
LAST-MODIFIED:20250924T002429Z
UID:10009987-1759665600-1759690800@www.lemontmartre.ca
SUMMARY:Mouvement du cursillo secteur Québec  15H30
DESCRIPTION:
URL:https://www.lemontmartre.ca/event/mouvement-du-cursillo-secteur-quebec-15h30/
CATEGORIES:St-Augustin
END:VEVENT
BEGIN:VEVENT
DTSTART;TZID=America/Montreal:20251006T180000
DTEND;TZID=America/Montreal:20251006T213000
DTSTAMP:20260419T222959
CREATED:20250530T143415Z
LAST-MODIFIED:20260310T153059Z
UID:10008033-1759773600-1759786200@www.lemontmartre.ca
SUMMARY:Soirées d'adoration et de louange 19H
DESCRIPTION:
URL:https://www.lemontmartre.ca/event/soirees-dadoration-et-de-louange-19h/2025-10-06/
CATEGORIES:St-Augustin
END:VEVENT
BEGIN:VEVENT
DTSTART;TZID=America/Montreal:20251007T183000
DTEND;TZID=America/Montreal:20251007T210000
DTSTAMP:20260419T222959
CREATED:20250923T192448Z
LAST-MODIFIED:20250923T192448Z
UID:10009963-1759861800-1759870800@www.lemontmartre.ca
SUMMARY:La Schola Cantorum 18H30
DESCRIPTION:
URL:https://www.lemontmartre.ca/event/la-schola-cantorum-18h30/2025-10-07/
CATEGORIES:St-Augustin
END:VEVENT
BEGIN:VEVENT
DTSTART;TZID=America/Montreal:20251008T180000
DTEND;TZID=America/Montreal:20251008T220000
DTSTAMP:20260419T222959
CREATED:20250928T174442Z
LAST-MODIFIED:20250928T174442Z
UID:10009997-1759946400-1759960800@www.lemontmartre.ca
SUMMARY:Condo Woodfield 19H
DESCRIPTION:
URL:https://www.lemontmartre.ca/event/condo-woodfield-19h/
CATEGORIES:St-Augustin
END:VEVENT
BEGIN:VEVENT
DTSTART;TZID=America/Montreal:20251012T103000
DTEND;TZID=America/Montreal:20251012T120000
DTSTAMP:20260419T222959
CREATED:20241218T215437Z
LAST-MODIFIED:20241218T215437Z
UID:10006337-1760265000-1760270400@www.lemontmartre.ca
SUMMARY:Messe 10H30
DESCRIPTION:
URL:https://www.lemontmartre.ca/event/messe-10h30-2/2025-10-12/
CATEGORIES:St-Augustin
END:VEVENT
BEGIN:VEVENT
DTSTART;TZID=America/Montreal:20251013T180000
DTEND;TZID=America/Montreal:20251013T213000
DTSTAMP:20260419T222959
CREATED:20250530T143415Z
LAST-MODIFIED:20260310T153059Z
UID:10008034-1760378400-1760391000@www.lemontmartre.ca
SUMMARY:Soirées d'adoration et de louange 19H
DESCRIPTION:
URL:https://www.lemontmartre.ca/event/soirees-dadoration-et-de-louange-19h/2025-10-13/
CATEGORIES:St-Augustin
END:VEVENT
BEGIN:VEVENT
DTSTART;TZID=America/Montreal:20251014T180000
DTEND;TZID=America/Montreal:20251014T220000
DTSTAMP:20260419T222959
CREATED:20251002T184504Z
LAST-MODIFIED:20251002T185227Z
UID:10010014-1760464800-1760479200@www.lemontmartre.ca
SUMMARY:ADQC 19H
DESCRIPTION:
URL:https://www.lemontmartre.ca/event/aqdc-19h/
CATEGORIES:St-Augustin
END:VEVENT
BEGIN:VEVENT
DTSTART;TZID=America/Montreal:20251016T080000
DTEND;TZID=America/Montreal:20251016T123000
DTSTAMP:20260419T222959
CREATED:20251002T191457Z
LAST-MODIFIED:20251002T191457Z
UID:10010022-1760601600-1760617800@www.lemontmartre.ca
SUMMARY:Remax 1er choix 9H
DESCRIPTION:
URL:https://www.lemontmartre.ca/event/remax-1er-choix-9h/
CATEGORIES:St-Augustin
END:VEVENT
BEGIN:VEVENT
DTSTART;TZID=America/Montreal:20251018T120000
DTEND;TZID=America/Montreal:20251018T160000
DTSTAMP:20260419T222959
CREATED:20250211T150009Z
LAST-MODIFIED:20250211T150009Z
UID:10007418-1760788800-1760803200@www.lemontmartre.ca
SUMMARY:Petites Âmes 13H30
DESCRIPTION:
URL:https://www.lemontmartre.ca/event/petites-ames-13h30-13/
CATEGORIES:St-Augustin
END:VEVENT
BEGIN:VEVENT
DTSTART;TZID=America/Montreal:20251019T103000
DTEND;TZID=America/Montreal:20251019T120000
DTSTAMP:20260419T222959
CREATED:20241218T215437Z
LAST-MODIFIED:20241218T215437Z
UID:10006338-1760869800-1760875200@www.lemontmartre.ca
SUMMARY:Messe 10H30
DESCRIPTION:
URL:https://www.lemontmartre.ca/event/messe-10h30-2/2025-10-19/
CATEGORIES:St-Augustin
END:VEVENT
BEGIN:VEVENT
DTSTART;TZID=America/Montreal:20251019T120000
DTEND;TZID=America/Montreal:20251019T160000
DTSTAMP:20260419T222959
CREATED:20251002T192507Z
LAST-MODIFIED:20251016T153116Z
UID:10010030-1760875200-1760889600@www.lemontmartre.ca
SUMMARY:Maison Michel-Sarrazin 14H
DESCRIPTION:
URL:https://www.lemontmartre.ca/event/maison-michel-sarrasin-14h/
CATEGORIES:St-Augustin
END:VEVENT
BEGIN:VEVENT
DTSTART;TZID=America/Montreal:20251020T180000
DTEND;TZID=America/Montreal:20251020T213000
DTSTAMP:20260419T222959
CREATED:20250530T143415Z
LAST-MODIFIED:20260310T153059Z
UID:10008035-1760983200-1760995800@www.lemontmartre.ca
SUMMARY:Soirées d'adoration et de louange 19H
DESCRIPTION:
URL:https://www.lemontmartre.ca/event/soirees-dadoration-et-de-louange-19h/2025-10-20/
CATEGORIES:St-Augustin
END:VEVENT
BEGIN:VEVENT
DTSTART;TZID=America/Montreal:20251021T183000
DTEND;TZID=America/Montreal:20251021T210000
DTSTAMP:20260419T222959
CREATED:20250923T192448Z
LAST-MODIFIED:20250923T192448Z
UID:10009964-1761071400-1761080400@www.lemontmartre.ca
SUMMARY:La Schola Cantorum 18H30
DESCRIPTION:
URL:https://www.lemontmartre.ca/event/la-schola-cantorum-18h30/2025-10-21/
CATEGORIES:St-Augustin
END:VEVENT
BEGIN:VEVENT
DTSTART;TZID=America/Montreal:20251026T103000
DTEND;TZID=America/Montreal:20251026T120000
DTSTAMP:20260419T222959
CREATED:20241218T215437Z
LAST-MODIFIED:20241218T215437Z
UID:10006339-1761474600-1761480000@www.lemontmartre.ca
SUMMARY:Messe 10H30
DESCRIPTION:
URL:https://www.lemontmartre.ca/event/messe-10h30-2/2025-10-26/
CATEGORIES:St-Augustin
END:VEVENT
BEGIN:VEVENT
DTSTART;TZID=America/Montreal:20251027T180000
DTEND;TZID=America/Montreal:20251027T213000
DTSTAMP:20260419T222959
CREATED:20250530T143415Z
LAST-MODIFIED:20260310T153059Z
UID:10008036-1761588000-1761600600@www.lemontmartre.ca
SUMMARY:Soirées d'adoration et de louange 19H
DESCRIPTION:
URL:https://www.lemontmartre.ca/event/soirees-dadoration-et-de-louange-19h/2025-10-27/
CATEGORIES:St-Augustin
END:VEVENT
BEGIN:VEVENT
DTSTART;TZID=America/Montreal:20251028T183000
DTEND;TZID=America/Montreal:20251028T210000
DTSTAMP:20260419T222959
CREATED:20250923T192448Z
LAST-MODIFIED:20250923T192448Z
UID:10009965-1761676200-1761685200@www.lemontmartre.ca
SUMMARY:La Schola Cantorum 18H30
DESCRIPTION:
URL:https://www.lemontmartre.ca/event/la-schola-cantorum-18h30/2025-10-28/
CATEGORIES:St-Augustin
END:VEVENT
END:VCALENDAR