BEGIN:VCALENDAR
VERSION:2.0
PRODID:-//Le Montmartre - ECPv6.15.13//NONSGML v1.0//EN
CALSCALE:GREGORIAN
METHOD:PUBLISH
X-ORIGINAL-URL:https://www.lemontmartre.ca
X-WR-CALDESC:Évènements pour Le Montmartre
REFRESH-INTERVAL;VALUE=DURATION:PT1H
X-Robots-Tag:noindex
X-PUBLISHED-TTL:PT1H
BEGIN:VTIMEZONE
TZID:America/Montreal
BEGIN:DAYLIGHT
TZOFFSETFROM:-0500
TZOFFSETTO:-0400
TZNAME:EDT
DTSTART:20240310T070000
END:DAYLIGHT
BEGIN:STANDARD
TZOFFSETFROM:-0400
TZOFFSETTO:-0500
TZNAME:EST
DTSTART:20241103T060000
END:STANDARD
BEGIN:DAYLIGHT
TZOFFSETFROM:-0500
TZOFFSETTO:-0400
TZNAME:EDT
DTSTART:20250309T070000
END:DAYLIGHT
BEGIN:STANDARD
TZOFFSETFROM:-0400
TZOFFSETTO:-0500
TZNAME:EST
DTSTART:20251102T060000
END:STANDARD
BEGIN:DAYLIGHT
TZOFFSETFROM:-0500
TZOFFSETTO:-0400
TZNAME:EDT
DTSTART:20260308T070000
END:DAYLIGHT
BEGIN:STANDARD
TZOFFSETFROM:-0400
TZOFFSETTO:-0500
TZNAME:EST
DTSTART:20261101T060000
END:STANDARD
END:VTIMEZONE
BEGIN:VEVENT
DTSTART;TZID=America/Montreal:20250803T103000
DTEND;TZID=America/Montreal:20250803T120000
DTSTAMP:20260420T002006
CREATED:20241218T215437Z
LAST-MODIFIED:20241218T215437Z
UID:10006327-1754217000-1754222400@www.lemontmartre.ca
SUMMARY:Messe 10H30
DESCRIPTION:
URL:https://www.lemontmartre.ca/event/messe-10h30-2/2025-08-03/
CATEGORIES:St-Augustin
END:VEVENT
BEGIN:VEVENT
DTSTART;TZID=America/Montreal:20250804T180000
DTEND;TZID=America/Montreal:20250804T213000
DTSTAMP:20260420T002007
CREATED:20250530T143415Z
LAST-MODIFIED:20260310T153059Z
UID:10008024-1754330400-1754343000@www.lemontmartre.ca
SUMMARY:Soirées d'adoration et de louange 19H
DESCRIPTION:
URL:https://www.lemontmartre.ca/event/soirees-dadoration-et-de-louange-19h/2025-08-04/
CATEGORIES:St-Augustin
END:VEVENT
BEGIN:VEVENT
DTSTART;TZID=America/Montreal:20250808T190000
DTEND;TZID=America/Montreal:20250808T210000
DTSTAMP:20260420T002007
CREATED:20250711T190759Z
LAST-MODIFIED:20250711T190759Z
UID:10008522-1754679600-1754686800@www.lemontmartre.ca
SUMMARY:Installation sono 19H
DESCRIPTION:
URL:https://www.lemontmartre.ca/event/installation-sono-19h/
CATEGORIES:St-Augustin
END:VEVENT
BEGIN:VEVENT
DTSTART;TZID=America/Montreal:20250809T070000
DTEND;TZID=America/Montreal:20250809T213000
DTSTAMP:20260420T002007
CREATED:20250703T172711Z
LAST-MODIFIED:20250711T192032Z
UID:10008464-1754722800-1754775000@www.lemontmartre.ca
SUMMARY:Marcher sous l'influence de l'Esprit 9H
DESCRIPTION:
URL:https://www.lemontmartre.ca/event/pere-charles-vallieres-9h/
CATEGORIES:St-Augustin
END:VEVENT
BEGIN:VEVENT
DTSTART;TZID=America/Montreal:20250810T103000
DTEND;TZID=America/Montreal:20250810T120000
DTSTAMP:20260420T002007
CREATED:20241218T215437Z
LAST-MODIFIED:20241218T215437Z
UID:10006328-1754821800-1754827200@www.lemontmartre.ca
SUMMARY:Messe 10H30
DESCRIPTION:
URL:https://www.lemontmartre.ca/event/messe-10h30-2/2025-08-10/
CATEGORIES:St-Augustin
END:VEVENT
BEGIN:VEVENT
DTSTART;TZID=America/Montreal:20250811T180000
DTEND;TZID=America/Montreal:20250811T213000
DTSTAMP:20260420T002007
CREATED:20250530T143415Z
LAST-MODIFIED:20260310T153059Z
UID:10008025-1754935200-1754947800@www.lemontmartre.ca
SUMMARY:Soirées d'adoration et de louange 19H
DESCRIPTION:
URL:https://www.lemontmartre.ca/event/soirees-dadoration-et-de-louange-19h/2025-08-11/
CATEGORIES:St-Augustin
END:VEVENT
BEGIN:VEVENT
DTSTART;TZID=America/Montreal:20250813T193000
DTEND;TZID=America/Montreal:20250813T210000
DTSTAMP:20260420T002007
CREATED:20250603T211100Z
LAST-MODIFIED:20250603T211100Z
UID:10008448-1755113400-1755118800@www.lemontmartre.ca
SUMMARY:Retraite de l'Assomption 19H30
DESCRIPTION:
URL:https://www.lemontmartre.ca/event/retraite-de-lassomption-19h30-2/2025-08-13/
CATEGORIES:St-Augustin
END:VEVENT
BEGIN:VEVENT
DTSTART;TZID=America/Montreal:20250814T193000
DTEND;TZID=America/Montreal:20250814T210000
DTSTAMP:20260420T002007
CREATED:20250603T211100Z
LAST-MODIFIED:20250603T211100Z
UID:10008449-1755199800-1755205200@www.lemontmartre.ca
SUMMARY:Retraite de l'Assomption 19H30
DESCRIPTION:
URL:https://www.lemontmartre.ca/event/retraite-de-lassomption-19h30-2/2025-08-14/
CATEGORIES:St-Augustin
END:VEVENT
BEGIN:VEVENT
DTSTART;TZID=America/Montreal:20250815T193000
DTEND;TZID=America/Montreal:20250815T210000
DTSTAMP:20260420T002007
CREATED:20250603T211100Z
LAST-MODIFIED:20250603T211100Z
UID:10008450-1755286200-1755291600@www.lemontmartre.ca
SUMMARY:Retraite de l'Assomption 19H30
DESCRIPTION:
URL:https://www.lemontmartre.ca/event/retraite-de-lassomption-19h30-2/2025-08-15/
CATEGORIES:St-Augustin
END:VEVENT
BEGIN:VEVENT
DTSTART;TZID=America/Montreal:20250817T103000
DTEND;TZID=America/Montreal:20250817T120000
DTSTAMP:20260420T002007
CREATED:20241218T215437Z
LAST-MODIFIED:20241218T215437Z
UID:10006329-1755426600-1755432000@www.lemontmartre.ca
SUMMARY:Messe 10H30
DESCRIPTION:
URL:https://www.lemontmartre.ca/event/messe-10h30-2/2025-08-17/
CATEGORIES:St-Augustin
END:VEVENT
BEGIN:VEVENT
DTSTART;TZID=America/Montreal:20250818T180000
DTEND;TZID=America/Montreal:20250818T213000
DTSTAMP:20260420T002007
CREATED:20250530T143415Z
LAST-MODIFIED:20260310T153059Z
UID:10008026-1755540000-1755552600@www.lemontmartre.ca
SUMMARY:Soirées d'adoration et de louange 19H
DESCRIPTION:
URL:https://www.lemontmartre.ca/event/soirees-dadoration-et-de-louange-19h/2025-08-18/
CATEGORIES:St-Augustin
END:VEVENT
BEGIN:VEVENT
DTSTART;TZID=America/Montreal:20250824T103000
DTEND;TZID=America/Montreal:20250824T120000
DTSTAMP:20260420T002007
CREATED:20241218T215437Z
LAST-MODIFIED:20241218T215437Z
UID:10006330-1756031400-1756036800@www.lemontmartre.ca
SUMMARY:Messe 10H30
DESCRIPTION:
URL:https://www.lemontmartre.ca/event/messe-10h30-2/2025-08-24/
CATEGORIES:St-Augustin
END:VEVENT
BEGIN:VEVENT
DTSTART;TZID=America/Montreal:20250825T180000
DTEND;TZID=America/Montreal:20250825T213000
DTSTAMP:20260420T002007
CREATED:20250530T143415Z
LAST-MODIFIED:20260310T153059Z
UID:10008027-1756144800-1756157400@www.lemontmartre.ca
SUMMARY:Soirées d'adoration et de louange 19H
DESCRIPTION:
URL:https://www.lemontmartre.ca/event/soirees-dadoration-et-de-louange-19h/2025-08-25/
CATEGORIES:St-Augustin
END:VEVENT
BEGIN:VEVENT
DTSTART;TZID=America/Montreal:20250831T103000
DTEND;TZID=America/Montreal:20250831T120000
DTSTAMP:20260420T002007
CREATED:20241218T215437Z
LAST-MODIFIED:20241218T215437Z
UID:10006331-1756636200-1756641600@www.lemontmartre.ca
SUMMARY:Messe 10H30
DESCRIPTION:
URL:https://www.lemontmartre.ca/event/messe-10h30-2/2025-08-31/
CATEGORIES:St-Augustin
END:VEVENT
END:VCALENDAR