BEGIN:VCALENDAR
VERSION:2.0
PRODID:-//Le Montmartre - ECPv6.15.13//NONSGML v1.0//EN
CALSCALE:GREGORIAN
METHOD:PUBLISH
X-ORIGINAL-URL:https://www.lemontmartre.ca
X-WR-CALDESC:Évènements pour Le Montmartre
REFRESH-INTERVAL;VALUE=DURATION:PT1H
X-Robots-Tag:noindex
X-PUBLISHED-TTL:PT1H
BEGIN:VTIMEZONE
TZID:America/Montreal
BEGIN:DAYLIGHT
TZOFFSETFROM:-0500
TZOFFSETTO:-0400
TZNAME:EDT
DTSTART:20240310T070000
END:DAYLIGHT
BEGIN:STANDARD
TZOFFSETFROM:-0400
TZOFFSETTO:-0500
TZNAME:EST
DTSTART:20241103T060000
END:STANDARD
BEGIN:DAYLIGHT
TZOFFSETFROM:-0500
TZOFFSETTO:-0400
TZNAME:EDT
DTSTART:20250309T070000
END:DAYLIGHT
BEGIN:STANDARD
TZOFFSETFROM:-0400
TZOFFSETTO:-0500
TZNAME:EST
DTSTART:20251102T060000
END:STANDARD
BEGIN:DAYLIGHT
TZOFFSETFROM:-0500
TZOFFSETTO:-0400
TZNAME:EDT
DTSTART:20260308T070000
END:DAYLIGHT
BEGIN:STANDARD
TZOFFSETFROM:-0400
TZOFFSETTO:-0500
TZNAME:EST
DTSTART:20261101T060000
END:STANDARD
END:VTIMEZONE
BEGIN:VEVENT
DTSTART;TZID=America/Montreal:20250706T103000
DTEND;TZID=America/Montreal:20250706T120000
DTSTAMP:20260420T065853
CREATED:20241218T215437Z
LAST-MODIFIED:20241218T215437Z
UID:10006323-1751797800-1751803200@www.lemontmartre.ca
SUMMARY:Messe 10H30
DESCRIPTION:
URL:https://www.lemontmartre.ca/event/messe-10h30-2/2025-07-06/
CATEGORIES:St-Augustin
END:VEVENT
BEGIN:VEVENT
DTSTART;TZID=America/Montreal:20250707T180000
DTEND;TZID=America/Montreal:20250707T213000
DTSTAMP:20260420T065853
CREATED:20250530T143415Z
LAST-MODIFIED:20260310T153059Z
UID:10008020-1751911200-1751923800@www.lemontmartre.ca
SUMMARY:Soirées d'adoration et de louange 19H
DESCRIPTION:
URL:https://www.lemontmartre.ca/event/soirees-dadoration-et-de-louange-19h/2025-07-07/
CATEGORIES:St-Augustin
END:VEVENT
BEGIN:VEVENT
DTSTART;TZID=America/Montreal:20250708T180000
DTEND;TZID=America/Montreal:20250708T220000
DTSTAMP:20260420T065853
CREATED:20250625T181943Z
LAST-MODIFIED:20250625T181943Z
UID:10008460-1751997600-1752012000@www.lemontmartre.ca
SUMMARY:Syndicat de copropriété Benmore sur le Parc 19H
DESCRIPTION:
URL:https://www.lemontmartre.ca/event/syndicat-de-copropriete-benmore-sur-le-parc-19h/
CATEGORIES:St-Augustin
END:VEVENT
BEGIN:VEVENT
DTSTART;TZID=America/Montreal:20250713T103000
DTEND;TZID=America/Montreal:20250713T120000
DTSTAMP:20260420T065853
CREATED:20241218T215437Z
LAST-MODIFIED:20241218T215437Z
UID:10006324-1752402600-1752408000@www.lemontmartre.ca
SUMMARY:Messe 10H30
DESCRIPTION:
URL:https://www.lemontmartre.ca/event/messe-10h30-2/2025-07-13/
CATEGORIES:St-Augustin
END:VEVENT
BEGIN:VEVENT
DTSTART;TZID=America/Montreal:20250714T180000
DTEND;TZID=America/Montreal:20250714T213000
DTSTAMP:20260420T065853
CREATED:20250530T143415Z
LAST-MODIFIED:20260310T153059Z
UID:10008021-1752516000-1752528600@www.lemontmartre.ca
SUMMARY:Soirées d'adoration et de louange 19H
DESCRIPTION:
URL:https://www.lemontmartre.ca/event/soirees-dadoration-et-de-louange-19h/2025-07-14/
CATEGORIES:St-Augustin
END:VEVENT
BEGIN:VEVENT
DTSTART;TZID=America/Montreal:20250720T103000
DTEND;TZID=America/Montreal:20250720T120000
DTSTAMP:20260420T065853
CREATED:20241218T215437Z
LAST-MODIFIED:20241218T215437Z
UID:10006325-1753007400-1753012800@www.lemontmartre.ca
SUMMARY:Messe 10H30
DESCRIPTION:
URL:https://www.lemontmartre.ca/event/messe-10h30-2/2025-07-20/
CATEGORIES:St-Augustin
END:VEVENT
BEGIN:VEVENT
DTSTART;TZID=America/Montreal:20250721T180000
DTEND;TZID=America/Montreal:20250721T213000
DTSTAMP:20260420T065853
CREATED:20250530T143415Z
LAST-MODIFIED:20260310T153059Z
UID:10008022-1753120800-1753133400@www.lemontmartre.ca
SUMMARY:Soirées d'adoration et de louange 19H
DESCRIPTION:
URL:https://www.lemontmartre.ca/event/soirees-dadoration-et-de-louange-19h/2025-07-21/
CATEGORIES:St-Augustin
END:VEVENT
BEGIN:VEVENT
DTSTART;TZID=America/Montreal:20250727T103000
DTEND;TZID=America/Montreal:20250727T120000
DTSTAMP:20260420T065853
CREATED:20241218T215437Z
LAST-MODIFIED:20241218T215437Z
UID:10006326-1753612200-1753617600@www.lemontmartre.ca
SUMMARY:Messe 10H30
DESCRIPTION:
URL:https://www.lemontmartre.ca/event/messe-10h30-2/2025-07-27/
CATEGORIES:St-Augustin
END:VEVENT
BEGIN:VEVENT
DTSTART;TZID=America/Montreal:20250728T180000
DTEND;TZID=America/Montreal:20250728T213000
DTSTAMP:20260420T065853
CREATED:20250530T143415Z
LAST-MODIFIED:20260310T153059Z
UID:10008023-1753725600-1753738200@www.lemontmartre.ca
SUMMARY:Soirées d'adoration et de louange 19H
DESCRIPTION:
URL:https://www.lemontmartre.ca/event/soirees-dadoration-et-de-louange-19h/2025-07-28/
CATEGORIES:St-Augustin
END:VEVENT
END:VCALENDAR