BEGIN:VCALENDAR
VERSION:2.0
PRODID:-//Le Montmartre - ECPv6.15.13//NONSGML v1.0//EN
CALSCALE:GREGORIAN
METHOD:PUBLISH
X-WR-CALNAME:Le Montmartre
X-ORIGINAL-URL:https://www.lemontmartre.ca
X-WR-CALDESC:Évènements pour Le Montmartre
REFRESH-INTERVAL;VALUE=DURATION:PT1H
X-Robots-Tag:noindex
X-PUBLISHED-TTL:PT1H
BEGIN:VTIMEZONE
TZID:America/Montreal
BEGIN:DAYLIGHT
TZOFFSETFROM:-0500
TZOFFSETTO:-0400
TZNAME:EDT
DTSTART:20240310T070000
END:DAYLIGHT
BEGIN:STANDARD
TZOFFSETFROM:-0400
TZOFFSETTO:-0500
TZNAME:EST
DTSTART:20241103T060000
END:STANDARD
BEGIN:DAYLIGHT
TZOFFSETFROM:-0500
TZOFFSETTO:-0400
TZNAME:EDT
DTSTART:20250309T070000
END:DAYLIGHT
BEGIN:STANDARD
TZOFFSETFROM:-0400
TZOFFSETTO:-0500
TZNAME:EST
DTSTART:20251102T060000
END:STANDARD
BEGIN:DAYLIGHT
TZOFFSETFROM:-0500
TZOFFSETTO:-0400
TZNAME:EDT
DTSTART:20260308T070000
END:DAYLIGHT
BEGIN:STANDARD
TZOFFSETFROM:-0400
TZOFFSETTO:-0500
TZNAME:EST
DTSTART:20261101T060000
END:STANDARD
END:VTIMEZONE
BEGIN:VEVENT
DTSTART;TZID=America/Montreal:20250601T103000
DTEND;TZID=America/Montreal:20250601T120000
DTSTAMP:20260420T082747
CREATED:20241218T215437Z
LAST-MODIFIED:20241218T215437Z
UID:10006318-1748773800-1748779200@www.lemontmartre.ca
SUMMARY:Messe 10H30
DESCRIPTION:
URL:https://www.lemontmartre.ca/event/messe-10h30-2/2025-06-01/
CATEGORIES:St-Augustin
END:VEVENT
BEGIN:VEVENT
DTSTART;TZID=America/Montreal:20250606T100000
DTEND;TZID=America/Montreal:20250606T220000
DTSTAMP:20260420T082747
CREATED:20250522T201931Z
LAST-MODIFIED:20250522T201931Z
UID:10007994-1749204000-1749247200@www.lemontmartre.ca
SUMMARY:St-Lawrence 19H30
DESCRIPTION:
URL:https://www.lemontmartre.ca/event/st-lawrence-19h30/
CATEGORIES:St-Augustin
END:VEVENT
BEGIN:VEVENT
DTSTART;TZID=America/Montreal:20250608T103000
DTEND;TZID=America/Montreal:20250608T120000
DTSTAMP:20260420T082747
CREATED:20241218T215437Z
LAST-MODIFIED:20241218T215437Z
UID:10006319-1749378600-1749384000@www.lemontmartre.ca
SUMMARY:Messe 10H30
DESCRIPTION:
URL:https://www.lemontmartre.ca/event/messe-10h30-2/2025-06-08/
CATEGORIES:St-Augustin
END:VEVENT
BEGIN:VEVENT
DTSTART;TZID=America/Montreal:20250608T120000
DTEND;TZID=America/Montreal:20250608T160000
DTSTAMP:20260420T082747
CREATED:20250522T210342Z
LAST-MODIFIED:20250522T210342Z
UID:10007999-1749384000-1749398400@www.lemontmartre.ca
SUMMARY:Michel-Sarrazin 14H
DESCRIPTION:
URL:https://www.lemontmartre.ca/event/michel-sarrazin-14h/
CATEGORIES:St-Augustin
END:VEVENT
BEGIN:VEVENT
DTSTART;TZID=America/Montreal:20250609T083000
DTEND;TZID=America/Montreal:20250609T120000
DTSTAMP:20260420T082747
CREATED:20250528T192015Z
LAST-MODIFIED:20250528T192015Z
UID:10008004-1749457800-1749470400@www.lemontmartre.ca
SUMMARY:Retraite Québec 9H30
DESCRIPTION:
URL:https://www.lemontmartre.ca/event/retraite-quebec-9h30/
CATEGORIES:St-Augustin
END:VEVENT
BEGIN:VEVENT
DTSTART;TZID=America/Montreal:20250611T080000
DTEND;TZID=America/Montreal:20250611T190000
DTSTAMP:20260420T082747
CREATED:20250528T192325Z
LAST-MODIFIED:20250528T192325Z
UID:10008005-1749628800-1749668400@www.lemontmartre.ca
SUMMARY:Assemblée générale du clergé 10H
DESCRIPTION:
URL:https://www.lemontmartre.ca/event/assemblee-generale-du-clerge-10h/
CATEGORIES:St-Augustin
END:VEVENT
BEGIN:VEVENT
DTSTART;TZID=America/Montreal:20250614T133000
DTEND;TZID=America/Montreal:20250614T220000
DTSTAMP:20260420T082747
CREATED:20250530T183902Z
LAST-MODIFIED:20250612T165607Z
UID:10008047-1749907800-1749938400@www.lemontmartre.ca
SUMMARY:Église adventiste concert 17H30
DESCRIPTION:
URL:https://www.lemontmartre.ca/event/eglise-aventiste-concert/
CATEGORIES:St-Augustin
END:VEVENT
BEGIN:VEVENT
DTSTART;TZID=America/Montreal:20250615T103000
DTEND;TZID=America/Montreal:20250615T120000
DTSTAMP:20260420T082747
CREATED:20241218T215437Z
LAST-MODIFIED:20241218T215437Z
UID:10006320-1749983400-1749988800@www.lemontmartre.ca
SUMMARY:Messe 10H30
DESCRIPTION:
URL:https://www.lemontmartre.ca/event/messe-10h30-2/2025-06-15/
CATEGORIES:St-Augustin
END:VEVENT
BEGIN:VEVENT
DTSTART;TZID=America/Montreal:20250616T180000
DTEND;TZID=America/Montreal:20250616T213000
DTSTAMP:20260420T082747
CREATED:20250530T143415Z
LAST-MODIFIED:20260310T153059Z
UID:10008017-1750096800-1750109400@www.lemontmartre.ca
SUMMARY:Soirées d'adoration et de louange 19H
DESCRIPTION:
URL:https://www.lemontmartre.ca/event/soirees-dadoration-et-de-louange-19h/2025-06-16/
CATEGORIES:St-Augustin
END:VEVENT
BEGIN:VEVENT
DTSTART;TZID=America/Montreal:20250621T120000
DTEND;TZID=America/Montreal:20250621T160000
DTSTAMP:20260420T082747
CREATED:20250211T145810Z
LAST-MODIFIED:20250211T145810Z
UID:10007416-1750507200-1750521600@www.lemontmartre.ca
SUMMARY:Petites Âmes 13H30
DESCRIPTION:
URL:https://www.lemontmartre.ca/event/petites-ames-13h30-11/
CATEGORIES:St-Augustin
END:VEVENT
BEGIN:VEVENT
DTSTART;TZID=America/Montreal:20250622T103000
DTEND;TZID=America/Montreal:20250622T120000
DTSTAMP:20260420T082747
CREATED:20241218T215437Z
LAST-MODIFIED:20241218T215437Z
UID:10006321-1750588200-1750593600@www.lemontmartre.ca
SUMMARY:Messe 10H30
DESCRIPTION:
URL:https://www.lemontmartre.ca/event/messe-10h30-2/2025-06-22/
CATEGORIES:St-Augustin
END:VEVENT
BEGIN:VEVENT
DTSTART;TZID=America/Montreal:20250623T180000
DTEND;TZID=America/Montreal:20250623T213000
DTSTAMP:20260420T082747
CREATED:20250530T143415Z
LAST-MODIFIED:20260310T153059Z
UID:10008018-1750701600-1750714200@www.lemontmartre.ca
SUMMARY:Soirées d'adoration et de louange 19H
DESCRIPTION:
URL:https://www.lemontmartre.ca/event/soirees-dadoration-et-de-louange-19h/2025-06-23/
CATEGORIES:St-Augustin
END:VEVENT
BEGIN:VEVENT
DTSTART;TZID=America/Montreal:20250625T193000
DTEND;TZID=America/Montreal:20250625T210000
DTSTAMP:20260420T082747
CREATED:20250603T210631Z
LAST-MODIFIED:20250603T210859Z
UID:10008079-1750879800-1750885200@www.lemontmartre.ca
SUMMARY:Retraite du Sacré-Coeur 19H30
DESCRIPTION:
URL:https://www.lemontmartre.ca/event/retraite-du-sacre-coeur-19h30-2/2025-06-25/
CATEGORIES:St-Augustin
END:VEVENT
BEGIN:VEVENT
DTSTART;TZID=America/Montreal:20250626T193000
DTEND;TZID=America/Montreal:20250626T210000
DTSTAMP:20260420T082747
CREATED:20250603T210631Z
LAST-MODIFIED:20250603T210859Z
UID:10008080-1750966200-1750971600@www.lemontmartre.ca
SUMMARY:Retraite du Sacré-Coeur 19H30
DESCRIPTION:
URL:https://www.lemontmartre.ca/event/retraite-du-sacre-coeur-19h30-2/2025-06-26/
CATEGORIES:St-Augustin
END:VEVENT
BEGIN:VEVENT
DTSTART;TZID=America/Montreal:20250627T193000
DTEND;TZID=America/Montreal:20250627T210000
DTSTAMP:20260420T082747
CREATED:20250603T210631Z
LAST-MODIFIED:20250603T210859Z
UID:10008081-1751052600-1751058000@www.lemontmartre.ca
SUMMARY:Retraite du Sacré-Coeur 19H30
DESCRIPTION:
URL:https://www.lemontmartre.ca/event/retraite-du-sacre-coeur-19h30-2/2025-06-27/
CATEGORIES:St-Augustin
END:VEVENT
BEGIN:VEVENT
DTSTART;TZID=America/Montreal:20250629T103000
DTEND;TZID=America/Montreal:20250629T120000
DTSTAMP:20260420T082747
CREATED:20241218T215437Z
LAST-MODIFIED:20241218T215437Z
UID:10006322-1751193000-1751198400@www.lemontmartre.ca
SUMMARY:Messe 10H30
DESCRIPTION:
URL:https://www.lemontmartre.ca/event/messe-10h30-2/2025-06-29/
CATEGORIES:St-Augustin
END:VEVENT
BEGIN:VEVENT
DTSTART;TZID=America/Montreal:20250630T180000
DTEND;TZID=America/Montreal:20250630T213000
DTSTAMP:20260420T082747
CREATED:20250530T143415Z
LAST-MODIFIED:20260310T153059Z
UID:10008019-1751306400-1751319000@www.lemontmartre.ca
SUMMARY:Soirées d'adoration et de louange 19H
DESCRIPTION:
URL:https://www.lemontmartre.ca/event/soirees-dadoration-et-de-louange-19h/2025-06-30/
CATEGORIES:St-Augustin
END:VEVENT
END:VCALENDAR