BEGIN:VCALENDAR
VERSION:2.0
PRODID:-//Le Montmartre - ECPv6.15.13//NONSGML v1.0//EN
CALSCALE:GREGORIAN
METHOD:PUBLISH
X-WR-CALNAME:Le Montmartre
X-ORIGINAL-URL:https://www.lemontmartre.ca
X-WR-CALDESC:Évènements pour Le Montmartre
REFRESH-INTERVAL;VALUE=DURATION:PT1H
X-Robots-Tag:noindex
X-PUBLISHED-TTL:PT1H
BEGIN:VTIMEZONE
TZID:America/Montreal
BEGIN:DAYLIGHT
TZOFFSETFROM:-0500
TZOFFSETTO:-0400
TZNAME:EDT
DTSTART:20240310T070000
END:DAYLIGHT
BEGIN:STANDARD
TZOFFSETFROM:-0400
TZOFFSETTO:-0500
TZNAME:EST
DTSTART:20241103T060000
END:STANDARD
BEGIN:DAYLIGHT
TZOFFSETFROM:-0500
TZOFFSETTO:-0400
TZNAME:EDT
DTSTART:20250309T070000
END:DAYLIGHT
BEGIN:STANDARD
TZOFFSETFROM:-0400
TZOFFSETTO:-0500
TZNAME:EST
DTSTART:20251102T060000
END:STANDARD
BEGIN:DAYLIGHT
TZOFFSETFROM:-0500
TZOFFSETTO:-0400
TZNAME:EDT
DTSTART:20260308T070000
END:DAYLIGHT
BEGIN:STANDARD
TZOFFSETFROM:-0400
TZOFFSETTO:-0500
TZNAME:EST
DTSTART:20261101T060000
END:STANDARD
END:VTIMEZONE
BEGIN:VEVENT
DTSTART;TZID=America/Montreal:20250504T103000
DTEND;TZID=America/Montreal:20250504T120000
DTSTAMP:20260420T085501
CREATED:20241218T215437Z
LAST-MODIFIED:20241218T215437Z
UID:10006314-1746354600-1746360000@www.lemontmartre.ca
SUMMARY:Messe 10H30
DESCRIPTION:
URL:https://www.lemontmartre.ca/event/messe-10h30-2/2025-05-04/
CATEGORIES:St-Augustin
END:VEVENT
BEGIN:VEVENT
DTSTART;TZID=America/Montreal:20250507T150000
DTEND;TZID=America/Montreal:20250507T210000
DTSTAMP:20260420T085501
CREATED:20250423T215045Z
LAST-MODIFIED:20250502T192448Z
UID:10007940-1746630000-1746651600@www.lemontmartre.ca
SUMMARY:APDVQ 18H30
DESCRIPTION:
URL:https://www.lemontmartre.ca/event/apdvq-18h30/
CATEGORIES:St-Augustin
END:VEVENT
BEGIN:VEVENT
DTSTART;TZID=America/Montreal:20250511T103000
DTEND;TZID=America/Montreal:20250511T120000
DTSTAMP:20260420T085501
CREATED:20241218T215437Z
LAST-MODIFIED:20241218T215437Z
UID:10006315-1746959400-1746964800@www.lemontmartre.ca
SUMMARY:Messe 10H30
DESCRIPTION:
URL:https://www.lemontmartre.ca/event/messe-10h30-2/2025-05-11/
CATEGORIES:St-Augustin
END:VEVENT
BEGIN:VEVENT
DTSTART;TZID=America/Montreal:20250517T120000
DTEND;TZID=America/Montreal:20250517T160000
DTSTAMP:20260420T085501
CREATED:20250211T145711Z
LAST-MODIFIED:20250211T145711Z
UID:10007415-1747483200-1747497600@www.lemontmartre.ca
SUMMARY:Petites Âmes 13H30
DESCRIPTION:
URL:https://www.lemontmartre.ca/event/petites-ames-13h30-10/
CATEGORIES:St-Augustin
END:VEVENT
BEGIN:VEVENT
DTSTART;TZID=America/Montreal:20250518T103000
DTEND;TZID=America/Montreal:20250518T120000
DTSTAMP:20260420T085501
CREATED:20241218T215437Z
LAST-MODIFIED:20241218T215437Z
UID:10006316-1747564200-1747569600@www.lemontmartre.ca
SUMMARY:Messe 10H30
DESCRIPTION:
URL:https://www.lemontmartre.ca/event/messe-10h30-2/2025-05-18/
CATEGORIES:St-Augustin
END:VEVENT
BEGIN:VEVENT
DTSTART;TZID=America/Montreal:20250524T111500
DTEND;TZID=America/Montreal:20250524T220000
DTSTAMP:20260420T085501
CREATED:20250512T174743Z
LAST-MODIFIED:20250512T174743Z
UID:10007963-1748085300-1748124000@www.lemontmartre.ca
SUMMARY:Choeur Voix Nouv'elles 19H30
DESCRIPTION:
URL:https://www.lemontmartre.ca/event/choeur-voix-nouvelles-19h30/
CATEGORIES:St-Augustin
END:VEVENT
BEGIN:VEVENT
DTSTART;TZID=America/Montreal:20250525T103000
DTEND;TZID=America/Montreal:20250525T120000
DTSTAMP:20260420T085501
CREATED:20241218T215437Z
LAST-MODIFIED:20241218T215437Z
UID:10006317-1748169000-1748174400@www.lemontmartre.ca
SUMMARY:Messe 10H30
DESCRIPTION:
URL:https://www.lemontmartre.ca/event/messe-10h30-2/2025-05-25/
CATEGORIES:St-Augustin
END:VEVENT
BEGIN:VEVENT
DTSTART;TZID=America/Montreal:20250527T083000
DTEND;TZID=America/Montreal:20250527T233000
DTSTAMP:20260420T085501
CREATED:20250515T202223Z
LAST-MODIFIED:20250515T202223Z
UID:10007966-1748334600-1748388600@www.lemontmartre.ca
SUMMARY:Une semaine pour Jésus 8H30
DESCRIPTION:
URL:https://www.lemontmartre.ca/event/une-semaine-pour-jesus-8h30/2025-05-27/
CATEGORIES:St-Augustin
END:VEVENT
BEGIN:VEVENT
DTSTART;TZID=America/Montreal:20250528T083000
DTEND;TZID=America/Montreal:20250528T233000
DTSTAMP:20260420T085501
CREATED:20250515T202223Z
LAST-MODIFIED:20250515T202223Z
UID:10007967-1748421000-1748475000@www.lemontmartre.ca
SUMMARY:Une semaine pour Jésus 8H30
DESCRIPTION:
URL:https://www.lemontmartre.ca/event/une-semaine-pour-jesus-8h30/2025-05-28/
CATEGORIES:St-Augustin
END:VEVENT
BEGIN:VEVENT
DTSTART;TZID=America/Montreal:20250529T083000
DTEND;TZID=America/Montreal:20250529T233000
DTSTAMP:20260420T085501
CREATED:20250515T202223Z
LAST-MODIFIED:20250515T202223Z
UID:10007968-1748507400-1748561400@www.lemontmartre.ca
SUMMARY:Une semaine pour Jésus 8H30
DESCRIPTION:
URL:https://www.lemontmartre.ca/event/une-semaine-pour-jesus-8h30/2025-05-29/
CATEGORIES:St-Augustin
END:VEVENT
BEGIN:VEVENT
DTSTART;TZID=America/Montreal:20250530T083000
DTEND;TZID=America/Montreal:20250530T233000
DTSTAMP:20260420T085501
CREATED:20250515T202223Z
LAST-MODIFIED:20250515T202223Z
UID:10007969-1748593800-1748647800@www.lemontmartre.ca
SUMMARY:Une semaine pour Jésus 8H30
DESCRIPTION:
URL:https://www.lemontmartre.ca/event/une-semaine-pour-jesus-8h30/2025-05-30/
CATEGORIES:St-Augustin
END:VEVENT
BEGIN:VEVENT
DTSTART;TZID=America/Montreal:20250531T083000
DTEND;TZID=America/Montreal:20250531T233000
DTSTAMP:20260420T085501
CREATED:20250515T202223Z
LAST-MODIFIED:20250515T202223Z
UID:10007970-1748680200-1748734200@www.lemontmartre.ca
SUMMARY:Une semaine pour Jésus 8H30
DESCRIPTION:
URL:https://www.lemontmartre.ca/event/une-semaine-pour-jesus-8h30/2025-05-31/
CATEGORIES:St-Augustin
END:VEVENT
END:VCALENDAR