BEGIN:VCALENDAR
VERSION:2.0
PRODID:-//Le Montmartre - ECPv6.15.13//NONSGML v1.0//EN
CALSCALE:GREGORIAN
METHOD:PUBLISH
X-WR-CALNAME:Le Montmartre
X-ORIGINAL-URL:https://www.lemontmartre.ca
X-WR-CALDESC:Évènements pour Le Montmartre
REFRESH-INTERVAL;VALUE=DURATION:PT1H
X-Robots-Tag:noindex
X-PUBLISHED-TTL:PT1H
BEGIN:VTIMEZONE
TZID:America/Montreal
BEGIN:DAYLIGHT
TZOFFSETFROM:-0500
TZOFFSETTO:-0400
TZNAME:EDT
DTSTART:20240310T070000
END:DAYLIGHT
BEGIN:STANDARD
TZOFFSETFROM:-0400
TZOFFSETTO:-0500
TZNAME:EST
DTSTART:20241103T060000
END:STANDARD
BEGIN:DAYLIGHT
TZOFFSETFROM:-0500
TZOFFSETTO:-0400
TZNAME:EDT
DTSTART:20250309T070000
END:DAYLIGHT
BEGIN:STANDARD
TZOFFSETFROM:-0400
TZOFFSETTO:-0500
TZNAME:EST
DTSTART:20251102T060000
END:STANDARD
BEGIN:DAYLIGHT
TZOFFSETFROM:-0500
TZOFFSETTO:-0400
TZNAME:EDT
DTSTART:20260308T070000
END:DAYLIGHT
BEGIN:STANDARD
TZOFFSETFROM:-0400
TZOFFSETTO:-0500
TZNAME:EST
DTSTART:20261101T060000
END:STANDARD
END:VTIMEZONE
BEGIN:VEVENT
DTSTART;TZID=America/Montreal:20250406T103000
DTEND;TZID=America/Montreal:20250406T120000
DTSTAMP:20260420T103955
CREATED:20241218T215437Z
LAST-MODIFIED:20241218T215437Z
UID:10006310-1743935400-1743940800@www.lemontmartre.ca
SUMMARY:Messe 10H30
DESCRIPTION:
URL:https://www.lemontmartre.ca/event/messe-10h30-2/2025-04-06/
CATEGORIES:St-Augustin
END:VEVENT
BEGIN:VEVENT
DTSTART;TZID=America/Montreal:20250408T180000
DTEND;TZID=America/Montreal:20250408T220000
DTSTAMP:20260420T103955
CREATED:20250401T144910Z
LAST-MODIFIED:20250401T144910Z
UID:10007520-1744135200-1744149600@www.lemontmartre.ca
SUMMARY:ADQC 19H
DESCRIPTION:
URL:https://www.lemontmartre.ca/event/adqc-19h-6/
CATEGORIES:St-Augustin
END:VEVENT
BEGIN:VEVENT
DTSTART;TZID=America/Montreal:20250413T103000
DTEND;TZID=America/Montreal:20250413T120000
DTSTAMP:20260420T103955
CREATED:20241218T215437Z
LAST-MODIFIED:20241218T215437Z
UID:10006311-1744540200-1744545600@www.lemontmartre.ca
SUMMARY:Messe 10H30
DESCRIPTION:
URL:https://www.lemontmartre.ca/event/messe-10h30-2/2025-04-13/
CATEGORIES:St-Augustin
END:VEVENT
BEGIN:VEVENT
DTSTART;TZID=America/Montreal:20250413T120000
DTEND;TZID=America/Montreal:20250413T190000
DTSTAMP:20260420T103955
CREATED:20250401T152010Z
LAST-MODIFIED:20250401T152010Z
UID:10007525-1744545600-1744570800@www.lemontmartre.ca
SUMMARY:Mouvement des cursillos 15H45
DESCRIPTION:
URL:https://www.lemontmartre.ca/event/mouvement-des-cursillos-15h45-5/
CATEGORIES:St-Augustin
END:VEVENT
BEGIN:VEVENT
DTSTART;TZID=America/Montreal:20250417T190000
DTEND;TZID=America/Montreal:20250417T210000
DTSTAMP:20260420T103955
CREATED:20250407T150059Z
LAST-MODIFIED:20250407T150059Z
UID:10007902-1744916400-1744923600@www.lemontmartre.ca
SUMMARY:Messe en mémoire de la Cène du Seigneur 19H
DESCRIPTION:
URL:https://www.lemontmartre.ca/event/messe-en-memoire-de-la-cene-du-seigneur-19h/
CATEGORIES:St-Augustin
END:VEVENT
BEGIN:VEVENT
DTSTART;TZID=America/Montreal:20250418T150000
DTEND;TZID=America/Montreal:20250418T160000
DTSTAMP:20260420T103955
CREATED:20250407T150206Z
LAST-MODIFIED:20250407T150206Z
UID:10007903-1744988400-1744992000@www.lemontmartre.ca
SUMMARY:Célébration de la Passion du Seigneur 15H
DESCRIPTION:
URL:https://www.lemontmartre.ca/event/celebration-de-la-passion-du-seigneur-15h/
CATEGORIES:St-Augustin
END:VEVENT
BEGIN:VEVENT
DTSTART;TZID=America/Montreal:20250419T200000
DTEND;TZID=America/Montreal:20250419T220000
DTSTAMP:20260420T103955
CREATED:20250407T150319Z
LAST-MODIFIED:20250407T150319Z
UID:10007904-1745092800-1745100000@www.lemontmartre.ca
SUMMARY:Veille Pascale 20H
DESCRIPTION:
URL:https://www.lemontmartre.ca/event/veille-pascale-20h/
CATEGORIES:St-Augustin
END:VEVENT
BEGIN:VEVENT
DTSTART;TZID=America/Montreal:20250420T103000
DTEND;TZID=America/Montreal:20250420T120000
DTSTAMP:20260420T103955
CREATED:20241218T215437Z
LAST-MODIFIED:20241218T215437Z
UID:10006312-1745145000-1745150400@www.lemontmartre.ca
SUMMARY:Messe 10H30
DESCRIPTION:
URL:https://www.lemontmartre.ca/event/messe-10h30-2/2025-04-20/
CATEGORIES:St-Augustin
END:VEVENT
BEGIN:VEVENT
DTSTART;TZID=America/Montreal:20250427T103000
DTEND;TZID=America/Montreal:20250427T120000
DTSTAMP:20260420T103955
CREATED:20241218T215437Z
LAST-MODIFIED:20241218T215437Z
UID:10006313-1745749800-1745755200@www.lemontmartre.ca
SUMMARY:Messe 10H30
DESCRIPTION:
URL:https://www.lemontmartre.ca/event/messe-10h30-2/2025-04-27/
CATEGORIES:St-Augustin
END:VEVENT
END:VCALENDAR