BEGIN:VCALENDAR
VERSION:2.0
PRODID:-//Le Montmartre - ECPv6.15.13//NONSGML v1.0//EN
CALSCALE:GREGORIAN
METHOD:PUBLISH
X-ORIGINAL-URL:https://www.lemontmartre.ca
X-WR-CALDESC:Évènements pour Le Montmartre
REFRESH-INTERVAL;VALUE=DURATION:PT1H
X-Robots-Tag:noindex
X-PUBLISHED-TTL:PT1H
BEGIN:VTIMEZONE
TZID:America/Montreal
BEGIN:DAYLIGHT
TZOFFSETFROM:-0500
TZOFFSETTO:-0400
TZNAME:EDT
DTSTART:20240310T070000
END:DAYLIGHT
BEGIN:STANDARD
TZOFFSETFROM:-0400
TZOFFSETTO:-0500
TZNAME:EST
DTSTART:20241103T060000
END:STANDARD
BEGIN:DAYLIGHT
TZOFFSETFROM:-0500
TZOFFSETTO:-0400
TZNAME:EDT
DTSTART:20250309T070000
END:DAYLIGHT
BEGIN:STANDARD
TZOFFSETFROM:-0400
TZOFFSETTO:-0500
TZNAME:EST
DTSTART:20251102T060000
END:STANDARD
BEGIN:DAYLIGHT
TZOFFSETFROM:-0500
TZOFFSETTO:-0400
TZNAME:EDT
DTSTART:20260308T070000
END:DAYLIGHT
BEGIN:STANDARD
TZOFFSETFROM:-0400
TZOFFSETTO:-0500
TZNAME:EST
DTSTART:20261101T060000
END:STANDARD
END:VTIMEZONE
BEGIN:VEVENT
DTSTART;TZID=America/Montreal:20250202T103000
DTEND;TZID=America/Montreal:20250202T120000
DTSTAMP:20260420T151512
CREATED:20241218T215437Z
LAST-MODIFIED:20241218T215437Z
UID:10006301-1738492200-1738497600@www.lemontmartre.ca
SUMMARY:Messe 10H30
DESCRIPTION:
URL:https://www.lemontmartre.ca/event/messe-10h30-2/2025-02-02/
CATEGORIES:St-Augustin
END:VEVENT
BEGIN:VEVENT
DTSTART;TZID=America/Montreal:20250202T123000
DTEND;TZID=America/Montreal:20250202T170000
DTSTAMP:20260420T151512
CREATED:20250124T151745Z
LAST-MODIFIED:20250124T151745Z
UID:10006867-1738499400-1738515600@www.lemontmartre.ca
SUMMARY:Diocèse Journée de la vie consacrée 14H
DESCRIPTION:
URL:https://www.lemontmartre.ca/event/diocese-journee-de-la-vie-consacree-14h/
CATEGORIES:St-Augustin
END:VEVENT
BEGIN:VEVENT
DTSTART;TZID=America/Montreal:20250208T071500
DTEND;TZID=America/Montreal:20250208T160000
DTSTAMP:20260420T151512
CREATED:20250124T155452Z
LAST-MODIFIED:20250124T155452Z
UID:10007010-1738998900-1739030400@www.lemontmartre.ca
SUMMARY:ADQC 8h00
DESCRIPTION:
URL:https://www.lemontmartre.ca/event/adqc-8h00/
CATEGORIES:St-Augustin
END:VEVENT
BEGIN:VEVENT
DTSTART;TZID=America/Montreal:20250209T103000
DTEND;TZID=America/Montreal:20250209T120000
DTSTAMP:20260420T151512
CREATED:20241218T215437Z
LAST-MODIFIED:20241218T215437Z
UID:10006302-1739097000-1739102400@www.lemontmartre.ca
SUMMARY:Messe 10H30
DESCRIPTION:
URL:https://www.lemontmartre.ca/event/messe-10h30-2/2025-02-09/
CATEGORIES:St-Augustin
END:VEVENT
BEGIN:VEVENT
DTSTART;TZID=America/Montreal:20250211T180000
DTEND;TZID=America/Montreal:20250211T220000
DTSTAMP:20260420T151512
CREATED:20250131T200257Z
LAST-MODIFIED:20250131T200257Z
UID:10007026-1739296800-1739311200@www.lemontmartre.ca
SUMMARY:ADQC 19H
DESCRIPTION:
URL:https://www.lemontmartre.ca/event/adqc-19h-4/
CATEGORIES:St-Augustin
END:VEVENT
BEGIN:VEVENT
DTSTART;TZID=America/Montreal:20250215T120000
DTEND;TZID=America/Montreal:20250215T160000
DTSTAMP:20260420T151512
CREATED:20250211T142359Z
LAST-MODIFIED:20250211T142359Z
UID:10007413-1739620800-1739635200@www.lemontmartre.ca
SUMMARY:Petites Âmes 13H30
DESCRIPTION:
URL:https://www.lemontmartre.ca/event/petites-ames-13h30-8/
CATEGORIES:St-Augustin
END:VEVENT
BEGIN:VEVENT
DTSTART;TZID=America/Montreal:20250216T103000
DTEND;TZID=America/Montreal:20250216T120000
DTSTAMP:20260420T151512
CREATED:20241218T215437Z
LAST-MODIFIED:20241218T215437Z
UID:10006303-1739701800-1739707200@www.lemontmartre.ca
SUMMARY:Messe 10H30
DESCRIPTION:
URL:https://www.lemontmartre.ca/event/messe-10h30-2/2025-02-16/
CATEGORIES:St-Augustin
END:VEVENT
BEGIN:VEVENT
DTSTART;TZID=America/Montreal:20250216T120000
DTEND;TZID=America/Montreal:20250216T190000
DTSTAMP:20260420T151512
CREATED:20250207T204508Z
LAST-MODIFIED:20250207T204508Z
UID:10007398-1739707200-1739732400@www.lemontmartre.ca
SUMMARY:Mouvement des Cursillos 15H45
DESCRIPTION:
URL:https://www.lemontmartre.ca/event/mouvement-des-cursillos-15h45/
CATEGORIES:St-Augustin
END:VEVENT
BEGIN:VEVENT
DTSTART;TZID=America/Montreal:20250223T103000
DTEND;TZID=America/Montreal:20250223T120000
DTSTAMP:20260420T151512
CREATED:20241218T215437Z
LAST-MODIFIED:20241218T215437Z
UID:10006304-1740306600-1740312000@www.lemontmartre.ca
SUMMARY:Messe 10H30
DESCRIPTION:
URL:https://www.lemontmartre.ca/event/messe-10h30-2/2025-02-23/
CATEGORIES:St-Augustin
END:VEVENT
END:VCALENDAR