BEGIN:VCALENDAR
VERSION:2.0
PRODID:-//Le Montmartre - ECPv6.15.13//NONSGML v1.0//EN
CALSCALE:GREGORIAN
METHOD:PUBLISH
X-WR-CALNAME:Le Montmartre
X-ORIGINAL-URL:https://www.lemontmartre.ca
X-WR-CALDESC:Évènements pour Le Montmartre
REFRESH-INTERVAL;VALUE=DURATION:PT1H
X-Robots-Tag:noindex
X-PUBLISHED-TTL:PT1H
BEGIN:VTIMEZONE
TZID:America/Montreal
BEGIN:DAYLIGHT
TZOFFSETFROM:-0500
TZOFFSETTO:-0400
TZNAME:EDT
DTSTART:20230312T070000
END:DAYLIGHT
BEGIN:STANDARD
TZOFFSETFROM:-0400
TZOFFSETTO:-0500
TZNAME:EST
DTSTART:20231105T060000
END:STANDARD
BEGIN:DAYLIGHT
TZOFFSETFROM:-0500
TZOFFSETTO:-0400
TZNAME:EDT
DTSTART:20240310T070000
END:DAYLIGHT
BEGIN:STANDARD
TZOFFSETFROM:-0400
TZOFFSETTO:-0500
TZNAME:EST
DTSTART:20241103T060000
END:STANDARD
BEGIN:DAYLIGHT
TZOFFSETFROM:-0500
TZOFFSETTO:-0400
TZNAME:EDT
DTSTART:20250309T070000
END:DAYLIGHT
BEGIN:STANDARD
TZOFFSETFROM:-0400
TZOFFSETTO:-0500
TZNAME:EST
DTSTART:20251102T060000
END:STANDARD
END:VTIMEZONE
BEGIN:VEVENT
DTSTART;TZID=America/Montreal:20241201T080000
DTEND;TZID=America/Montreal:20241201T120000
DTSTAMP:20260422T080428
CREATED:20240423T155327Z
LAST-MODIFIED:20240423T155327Z
UID:10001435-1733040000-1733054400@www.lemontmartre.ca
SUMMARY:Messe 10H30
DESCRIPTION:<p style= »text-align: justify; »><span style= »color: #030303; »>10H30 Arrivée 12H00 Fin </span></p>
URL:https://www.lemontmartre.ca/event/messe-10h30/2024-12-01/
CATEGORIES:St-Augustin
END:VEVENT
BEGIN:VEVENT
DTSTART;TZID=America/Montreal:20241201T120000
DTEND;TZID=America/Montreal:20241201T180000
DTSTAMP:20260422T080428
CREATED:20241125T221823Z
LAST-MODIFIED:20241125T221823Z
UID:10005894-1733054400-1733076000@www.lemontmartre.ca
SUMMARY:Choeur des Hivres 14H
DESCRIPTION:
URL:https://www.lemontmartre.ca/event/choeur-des-hivres-14h/
CATEGORIES:St-Augustin
END:VEVENT
BEGIN:VEVENT
DTSTART;TZID=America/Montreal:20241208T080000
DTEND;TZID=America/Montreal:20241208T120000
DTSTAMP:20260422T080428
CREATED:20240423T155327Z
LAST-MODIFIED:20240423T155327Z
UID:10001436-1733644800-1733659200@www.lemontmartre.ca
SUMMARY:Messe 10H30
DESCRIPTION:<p style= »text-align: justify; »><span style= »color: #030303; »>10H30 Arrivée 12H00 Fin </span></p>
URL:https://www.lemontmartre.ca/event/messe-10h30/2024-12-08/
CATEGORIES:St-Augustin
END:VEVENT
BEGIN:VEVENT
DTSTART;TZID=America/Montreal:20241209T180000
DTEND;TZID=America/Montreal:20241209T220000
DTSTAMP:20260422T080428
CREATED:20241128T204048Z
LAST-MODIFIED:20241128T204048Z
UID:10005903-1733767200-1733781600@www.lemontmartre.ca
SUMMARY:Condo Domaine de Sillery Horizontal 19H
DESCRIPTION:
URL:https://www.lemontmartre.ca/event/condo-domaine-de-sillery-horizontal-19h/
CATEGORIES:St-Augustin
END:VEVENT
BEGIN:VEVENT
DTSTART;TZID=America/Montreal:20241210T190000
DTEND;TZID=America/Montreal:20241210T220000
DTSTAMP:20260422T080428
CREATED:20241217T161045Z
LAST-MODIFIED:20241217T161145Z
UID:10006278-1733857200-1733868000@www.lemontmartre.ca
SUMMARY:AQDR 19H
DESCRIPTION:
URL:https://www.lemontmartre.ca/event/aprq-19h/
CATEGORIES:St-Augustin
END:VEVENT
BEGIN:VEVENT
DTSTART;TZID=America/Montreal:20241215T080000
DTEND;TZID=America/Montreal:20241215T120000
DTSTAMP:20260422T080428
CREATED:20240423T155327Z
LAST-MODIFIED:20240423T155327Z
UID:10001437-1734249600-1734264000@www.lemontmartre.ca
SUMMARY:Messe 10H30
DESCRIPTION:<p style= »text-align: justify; »><span style= »color: #030303; »>10H30 Arrivée 12H00 Fin </span></p>
URL:https://www.lemontmartre.ca/event/messe-10h30/2024-12-15/
CATEGORIES:St-Augustin
END:VEVENT
BEGIN:VEVENT
DTSTART;TZID=America/Montreal:20241218T190000
DTEND;TZID=America/Montreal:20241218T210000
DTSTAMP:20260422T080428
CREATED:20241024T151333Z
LAST-MODIFIED:20241024T151333Z
UID:10005466-1734548400-1734555600@www.lemontmartre.ca
SUMMARY:Célébration de Réconciliation 19H
DESCRIPTION:
URL:https://www.lemontmartre.ca/event/celebration-de-reconciliation-19h/
CATEGORIES:St-Augustin
END:VEVENT
BEGIN:VEVENT
DTSTART;TZID=America/Montreal:20241221T113000
DTEND;TZID=America/Montreal:20241221T180000
DTSTAMP:20260422T080428
CREATED:20241217T163501Z
LAST-MODIFIED:20241217T163501Z
UID:10006286-1734780600-1734804000@www.lemontmartre.ca
SUMMARY:Petites Âmes 13H30
DESCRIPTION:
URL:https://www.lemontmartre.ca/event/petites-ames-13h30-5/
CATEGORIES:St-Augustin
END:VEVENT
BEGIN:VEVENT
DTSTART;TZID=America/Montreal:20241222T080000
DTEND;TZID=America/Montreal:20241222T120000
DTSTAMP:20260422T080428
CREATED:20240423T155327Z
LAST-MODIFIED:20240423T155327Z
UID:10001438-1734854400-1734868800@www.lemontmartre.ca
SUMMARY:Messe 10H30
DESCRIPTION:<p style= »text-align: justify; »><span style= »color: #030303; »>10H30 Arrivée 12H00 Fin </span></p>
URL:https://www.lemontmartre.ca/event/messe-10h30/2024-12-22/
CATEGORIES:St-Augustin
END:VEVENT
BEGIN:VEVENT
DTSTART;TZID=America/Montreal:20241224T190000
DTEND;TZID=America/Montreal:20241224T200000
DTSTAMP:20260422T080428
CREATED:20241217T163733Z
LAST-MODIFIED:20241217T163733Z
UID:10006288-1735066800-1735070400@www.lemontmartre.ca
SUMMARY:Eucharistie 19H
DESCRIPTION:
URL:https://www.lemontmartre.ca/event/eucharistie-19h-5/
CATEGORIES:St-Augustin
END:VEVENT
BEGIN:VEVENT
DTSTART;TZID=America/Montreal:20241229T080000
DTEND;TZID=America/Montreal:20241229T120000
DTSTAMP:20260422T080428
CREATED:20240423T155327Z
LAST-MODIFIED:20240423T155327Z
UID:10001439-1735459200-1735473600@www.lemontmartre.ca
SUMMARY:Messe 10H30
DESCRIPTION:<p style= »text-align: justify; »><span style= »color: #030303; »>10H30 Arrivée 12H00 Fin </span></p>
URL:https://www.lemontmartre.ca/event/messe-10h30/2024-12-29/
CATEGORIES:St-Augustin
END:VEVENT
BEGIN:VEVENT
DTSTART;TZID=America/Montreal:20241231T190000
DTEND;TZID=America/Montreal:20241231T200000
DTSTAMP:20260422T080428
CREATED:20241024T145908Z
LAST-MODIFIED:20241024T145908Z
UID:10005460-1735671600-1735675200@www.lemontmartre.ca
SUMMARY:Eucharistie 19H
DESCRIPTION:
URL:https://www.lemontmartre.ca/event/eucharistie-19h-3/
CATEGORIES:St-Augustin
END:VEVENT
END:VCALENDAR