BEGIN:VCALENDAR
VERSION:2.0
PRODID:-//Le Montmartre - ECPv6.15.13//NONSGML v1.0//EN
CALSCALE:GREGORIAN
METHOD:PUBLISH
X-WR-CALNAME:Le Montmartre
X-ORIGINAL-URL:https://www.lemontmartre.ca
X-WR-CALDESC:Évènements pour Le Montmartre
REFRESH-INTERVAL;VALUE=DURATION:PT1H
X-Robots-Tag:noindex
X-PUBLISHED-TTL:PT1H
BEGIN:VTIMEZONE
TZID:America/Montreal
BEGIN:DAYLIGHT
TZOFFSETFROM:-0500
TZOFFSETTO:-0400
TZNAME:EDT
DTSTART:20230312T070000
END:DAYLIGHT
BEGIN:STANDARD
TZOFFSETFROM:-0400
TZOFFSETTO:-0500
TZNAME:EST
DTSTART:20231105T060000
END:STANDARD
BEGIN:DAYLIGHT
TZOFFSETFROM:-0500
TZOFFSETTO:-0400
TZNAME:EDT
DTSTART:20240310T070000
END:DAYLIGHT
BEGIN:STANDARD
TZOFFSETFROM:-0400
TZOFFSETTO:-0500
TZNAME:EST
DTSTART:20241103T060000
END:STANDARD
BEGIN:DAYLIGHT
TZOFFSETFROM:-0500
TZOFFSETTO:-0400
TZNAME:EDT
DTSTART:20250309T070000
END:DAYLIGHT
BEGIN:STANDARD
TZOFFSETFROM:-0400
TZOFFSETTO:-0500
TZNAME:EST
DTSTART:20251102T060000
END:STANDARD
END:VTIMEZONE
BEGIN:VEVENT
DTSTART;TZID=America/Montreal:20241101T090000
DTEND;TZID=America/Montreal:20241101T120000
DTSTAMP:20260422T142705
CREATED:20241024T171319Z
LAST-MODIFIED:20241024T171319Z
UID:10005468-1730451600-1730462400@www.lemontmartre.ca
SUMMARY:Eucharistie 9H
DESCRIPTION:
URL:https://www.lemontmartre.ca/event/eucharistie-9h-3/
CATEGORIES:St-Augustin
END:VEVENT
BEGIN:VEVENT
DTSTART;TZID=America/Montreal:20241101T111500
DTEND;TZID=America/Montreal:20241101T120000
DTSTAMP:20260422T142705
CREATED:20240913T211429Z
LAST-MODIFIED:20241105T152326Z
UID:10004989-1730459700-1730462400@www.lemontmartre.ca
SUMMARY:Eucharistie 11H15
DESCRIPTION:
URL:https://www.lemontmartre.ca/event/eucharistie-11h15-8/2024-11-01/
CATEGORIES:St-Augustin
END:VEVENT
BEGIN:VEVENT
DTSTART;TZID=America/Montreal:20241101T173000
DTEND;TZID=America/Montreal:20241101T190000
DTSTAMP:20260422T142705
CREATED:20241024T170928Z
LAST-MODIFIED:20241024T170928Z
UID:10005467-1730482200-1730487600@www.lemontmartre.ca
SUMMARY:Soirée rencontre 17H30
DESCRIPTION:
URL:https://www.lemontmartre.ca/event/soiree-rencontre-17h30/
CATEGORIES:St-Augustin
END:VEVENT
BEGIN:VEVENT
DTSTART;TZID=America/Montreal:20241101T190000
DTEND;TZID=America/Montreal:20241101T210000
DTSTAMP:20260422T142705
CREATED:20241024T171403Z
LAST-MODIFIED:20241024T171403Z
UID:10005469-1730487600-1730494800@www.lemontmartre.ca
SUMMARY:Eucharistie 19H
DESCRIPTION:
URL:https://www.lemontmartre.ca/event/eucharistie-19h-4/
CATEGORIES:St-Augustin
END:VEVENT
BEGIN:VEVENT
DTSTART;TZID=America/Montreal:20241102T111500
DTEND;TZID=America/Montreal:20241102T120000
DTSTAMP:20260422T142705
CREATED:20240913T211429Z
LAST-MODIFIED:20241105T152326Z
UID:10004990-1730546100-1730548800@www.lemontmartre.ca
SUMMARY:Eucharistie 11H15
DESCRIPTION:
URL:https://www.lemontmartre.ca/event/eucharistie-11h15-8/2024-11-02/
CATEGORIES:St-Augustin
END:VEVENT
BEGIN:VEVENT
DTSTART;TZID=America/Montreal:20241103T080000
DTEND;TZID=America/Montreal:20241103T120000
DTSTAMP:20260422T142705
CREATED:20240423T155327Z
LAST-MODIFIED:20240423T155327Z
UID:10001431-1730620800-1730635200@www.lemontmartre.ca
SUMMARY:Messe 10H30
DESCRIPTION:<p style= »text-align: justify; »><span style= »color: #030303; »>10H30 Arrivée 12H00 Fin </span></p>
URL:https://www.lemontmartre.ca/event/messe-10h30/2024-11-03/
CATEGORIES:St-Augustin
END:VEVENT
BEGIN:VEVENT
DTSTART;TZID=America/Montreal:20241104T111500
DTEND;TZID=America/Montreal:20241104T120000
DTSTAMP:20260422T142705
CREATED:20240913T211429Z
LAST-MODIFIED:20241105T152326Z
UID:10004992-1730718900-1730721600@www.lemontmartre.ca
SUMMARY:Eucharistie 11H15
DESCRIPTION:
URL:https://www.lemontmartre.ca/event/eucharistie-11h15-8/2024-11-04/
CATEGORIES:St-Augustin
END:VEVENT
BEGIN:VEVENT
DTSTART;TZID=America/Montreal:20241105T111500
DTEND;TZID=America/Montreal:20241105T120000
DTSTAMP:20260422T142705
CREATED:20240913T211429Z
LAST-MODIFIED:20241105T152326Z
UID:10004993-1730805300-1730808000@www.lemontmartre.ca
SUMMARY:Eucharistie 11H15
DESCRIPTION:
URL:https://www.lemontmartre.ca/event/eucharistie-11h15-8/2024-11-05/
CATEGORIES:St-Augustin
END:VEVENT
BEGIN:VEVENT
DTSTART;TZID=America/Montreal:20241106T111500
DTEND;TZID=America/Montreal:20241106T120000
DTSTAMP:20260422T142705
CREATED:20240913T211429Z
LAST-MODIFIED:20241105T152326Z
UID:10004994-1730891700-1730894400@www.lemontmartre.ca
SUMMARY:Eucharistie 11H15
DESCRIPTION:
URL:https://www.lemontmartre.ca/event/eucharistie-11h15-8/2024-11-06/
CATEGORIES:St-Augustin
END:VEVENT
BEGIN:VEVENT
DTSTART;TZID=America/Montreal:20241106T180000
DTEND;TZID=America/Montreal:20241106T220000
DTSTAMP:20260422T142705
CREATED:20241105T150225Z
LAST-MODIFIED:20241105T150225Z
UID:10005483-1730916000-1730930400@www.lemontmartre.ca
SUMMARY:Condo Sous le Bois 19H
DESCRIPTION:
URL:https://www.lemontmartre.ca/event/condo-sous-le-bois-19h/
CATEGORIES:St-Augustin
END:VEVENT
BEGIN:VEVENT
DTSTART;TZID=America/Montreal:20241107T111500
DTEND;TZID=America/Montreal:20241107T120000
DTSTAMP:20260422T142705
CREATED:20240913T211429Z
LAST-MODIFIED:20241105T152326Z
UID:10004995-1730978100-1730980800@www.lemontmartre.ca
SUMMARY:Eucharistie 11H15
DESCRIPTION:
URL:https://www.lemontmartre.ca/event/eucharistie-11h15-8/2024-11-07/
CATEGORIES:St-Augustin
END:VEVENT
BEGIN:VEVENT
DTSTART;TZID=America/Montreal:20241107T180000
DTEND;TZID=America/Montreal:20241107T220000
DTSTAMP:20260422T142705
CREATED:20241105T150308Z
LAST-MODIFIED:20241105T150308Z
UID:10005484-1731002400-1731016800@www.lemontmartre.ca
SUMMARY:Condo Mérici 18-16 19H
DESCRIPTION:
URL:https://www.lemontmartre.ca/event/condo-merici-18-16-19h/
CATEGORIES:St-Augustin
END:VEVENT
BEGIN:VEVENT
DTSTART;TZID=America/Montreal:20241108T111500
DTEND;TZID=America/Montreal:20241108T120000
DTSTAMP:20260422T142705
CREATED:20240913T211429Z
LAST-MODIFIED:20241105T152326Z
UID:10004996-1731064500-1731067200@www.lemontmartre.ca
SUMMARY:Eucharistie 11H15
DESCRIPTION:
URL:https://www.lemontmartre.ca/event/eucharistie-11h15-8/2024-11-08/
CATEGORIES:St-Augustin
END:VEVENT
BEGIN:VEVENT
DTSTART;TZID=America/Montreal:20241109T111500
DTEND;TZID=America/Montreal:20241109T120000
DTSTAMP:20260422T142705
CREATED:20240913T211429Z
LAST-MODIFIED:20241105T152326Z
UID:10004997-1731150900-1731153600@www.lemontmartre.ca
SUMMARY:Eucharistie 11H15
DESCRIPTION:
URL:https://www.lemontmartre.ca/event/eucharistie-11h15-8/2024-11-09/
CATEGORIES:St-Augustin
END:VEVENT
BEGIN:VEVENT
DTSTART;TZID=America/Montreal:20241110T080000
DTEND;TZID=America/Montreal:20241110T120000
DTSTAMP:20260422T142705
CREATED:20240423T155327Z
LAST-MODIFIED:20240423T155327Z
UID:10001432-1731225600-1731240000@www.lemontmartre.ca
SUMMARY:Messe 10H30
DESCRIPTION:<p style= »text-align: justify; »><span style= »color: #030303; »>10H30 Arrivée 12H00 Fin </span></p>
URL:https://www.lemontmartre.ca/event/messe-10h30/2024-11-10/
CATEGORIES:St-Augustin
END:VEVENT
BEGIN:VEVENT
DTSTART;TZID=America/Montreal:20241110T123000
DTEND;TZID=America/Montreal:20241110T140000
DTSTAMP:20260422T142705
CREATED:20241105T151141Z
LAST-MODIFIED:20241105T151141Z
UID:10005490-1731241800-1731247200@www.lemontmartre.ca
SUMMARY:Sommet sur le leadership au féminin 13H Installation
DESCRIPTION:
URL:https://www.lemontmartre.ca/event/sommet-sur-le-leadership-au-feminin-13h-installation/
CATEGORIES:St-Augustin
END:VEVENT
BEGIN:VEVENT
DTSTART;TZID=America/Montreal:20241111T080000
DTEND;TZID=America/Montreal:20241111T120000
DTSTAMP:20260422T142705
CREATED:20241105T151237Z
LAST-MODIFIED:20241105T151237Z
UID:10005491-1731312000-1731326400@www.lemontmartre.ca
SUMMARY:Sommet sur le leadership au féminin 9H
DESCRIPTION:
URL:https://www.lemontmartre.ca/event/sommet-sur-le-leadership-au-feminin-9h/
CATEGORIES:St-Augustin
END:VEVENT
BEGIN:VEVENT
DTSTART;TZID=America/Montreal:20241112T111500
DTEND;TZID=America/Montreal:20241112T120000
DTSTAMP:20260422T142705
CREATED:20240913T211429Z
LAST-MODIFIED:20241105T152326Z
UID:10005000-1731410100-1731412800@www.lemontmartre.ca
SUMMARY:Eucharistie 11H15
DESCRIPTION:
URL:https://www.lemontmartre.ca/event/eucharistie-11h15-8/2024-11-12/
CATEGORIES:St-Augustin
END:VEVENT
BEGIN:VEVENT
DTSTART;TZID=America/Montreal:20241112T180000
DTEND;TZID=America/Montreal:20241112T220000
DTSTAMP:20260422T142705
CREATED:20241105T152604Z
LAST-MODIFIED:20241105T152604Z
UID:10005492-1731434400-1731448800@www.lemontmartre.ca
SUMMARY:ADQC 19H
DESCRIPTION:
URL:https://www.lemontmartre.ca/event/adqc-19h-2/
CATEGORIES:St-Augustin
END:VEVENT
BEGIN:VEVENT
DTSTART;TZID=America/Montreal:20241113T111500
DTEND;TZID=America/Montreal:20241113T120000
DTSTAMP:20260422T142705
CREATED:20240913T211429Z
LAST-MODIFIED:20241105T152326Z
UID:10005001-1731496500-1731499200@www.lemontmartre.ca
SUMMARY:Eucharistie 11H15
DESCRIPTION:
URL:https://www.lemontmartre.ca/event/eucharistie-11h15-8/2024-11-13/
CATEGORIES:St-Augustin
END:VEVENT
BEGIN:VEVENT
DTSTART;TZID=America/Montreal:20241114T111500
DTEND;TZID=America/Montreal:20241114T120000
DTSTAMP:20260422T142705
CREATED:20240913T211429Z
LAST-MODIFIED:20241105T152326Z
UID:10005002-1731582900-1731585600@www.lemontmartre.ca
SUMMARY:Eucharistie 11H15
DESCRIPTION:
URL:https://www.lemontmartre.ca/event/eucharistie-11h15-8/2024-11-14/
CATEGORIES:St-Augustin
END:VEVENT
BEGIN:VEVENT
DTSTART;TZID=America/Montreal:20241115T111500
DTEND;TZID=America/Montreal:20241115T120000
DTSTAMP:20260422T142705
CREATED:20240913T211429Z
LAST-MODIFIED:20241105T152326Z
UID:10005003-1731669300-1731672000@www.lemontmartre.ca
SUMMARY:Eucharistie 11H15
DESCRIPTION:
URL:https://www.lemontmartre.ca/event/eucharistie-11h15-8/2024-11-15/
CATEGORIES:St-Augustin
END:VEVENT
BEGIN:VEVENT
DTSTART;TZID=America/Montreal:20241115T190000
DTEND;TZID=America/Montreal:20241115T210000
DTSTAMP:20260422T142705
CREATED:20241105T153939Z
LAST-MODIFIED:20241105T153939Z
UID:10005501-1731697200-1731704400@www.lemontmartre.ca
SUMMARY:Chorale répitition 19H
DESCRIPTION:
URL:https://www.lemontmartre.ca/event/chorale-repitition-19h/
CATEGORIES:St-Augustin
END:VEVENT
BEGIN:VEVENT
DTSTART;TZID=America/Montreal:20241116T111500
DTEND;TZID=America/Montreal:20241116T120000
DTSTAMP:20260422T142705
CREATED:20240913T211429Z
LAST-MODIFIED:20241105T152326Z
UID:10005004-1731755700-1731758400@www.lemontmartre.ca
SUMMARY:Eucharistie 11H15
DESCRIPTION:
URL:https://www.lemontmartre.ca/event/eucharistie-11h15-8/2024-11-16/
CATEGORIES:St-Augustin
END:VEVENT
BEGIN:VEVENT
DTSTART;TZID=America/Montreal:20241116T120000
DTEND;TZID=America/Montreal:20241116T160000
DTSTAMP:20260422T142705
CREATED:20241105T155955Z
LAST-MODIFIED:20241105T155955Z
UID:10005506-1731758400-1731772800@www.lemontmartre.ca
SUMMARY:Petites Âmes 13H30
DESCRIPTION:
URL:https://www.lemontmartre.ca/event/petites-ames-13h30-4/
CATEGORIES:St-Augustin
END:VEVENT
BEGIN:VEVENT
DTSTART;TZID=America/Montreal:20241116T160000
DTEND;TZID=America/Montreal:20241116T200000
DTSTAMP:20260422T142705
CREATED:20241105T160356Z
LAST-MODIFIED:20241105T160356Z
UID:10005507-1731772800-1731787200@www.lemontmartre.ca
SUMMARY:Diocèse de Québec 17H Installation et répétition
DESCRIPTION:
URL:https://www.lemontmartre.ca/event/diocese-de-quebec-17h-installation-et-repetition/
CATEGORIES:St-Augustin
END:VEVENT
BEGIN:VEVENT
DTSTART;TZID=America/Montreal:20241117T080000
DTEND;TZID=America/Montreal:20241117T120000
DTSTAMP:20260422T142705
CREATED:20240423T155327Z
LAST-MODIFIED:20240423T155327Z
UID:10001433-1731830400-1731844800@www.lemontmartre.ca
SUMMARY:Messe 10H30
DESCRIPTION:<p style= »text-align: justify; »><span style= »color: #030303; »>10H30 Arrivée 12H00 Fin </span></p>
URL:https://www.lemontmartre.ca/event/messe-10h30/2024-11-17/
CATEGORIES:St-Augustin
END:VEVENT
BEGIN:VEVENT
DTSTART;TZID=America/Montreal:20241117T120000
DTEND;TZID=America/Montreal:20241117T170000
DTSTAMP:20260422T142705
CREATED:20241105T160736Z
LAST-MODIFIED:20241105T160736Z
UID:10005508-1731844800-1731862800@www.lemontmartre.ca
SUMMARY:Rencontre interreligieuse de prière pour la paix 13H
DESCRIPTION:
URL:https://www.lemontmartre.ca/event/rencontre-interreligieuse-de-priere-pour-la-paix-13h/
CATEGORIES:St-Augustin
END:VEVENT
BEGIN:VEVENT
DTSTART;TZID=America/Montreal:20241118T111500
DTEND;TZID=America/Montreal:20241118T120000
DTSTAMP:20260422T142705
CREATED:20240913T211429Z
LAST-MODIFIED:20241105T152326Z
UID:10005006-1731928500-1731931200@www.lemontmartre.ca
SUMMARY:Eucharistie 11H15
DESCRIPTION:
URL:https://www.lemontmartre.ca/event/eucharistie-11h15-8/2024-11-18/
CATEGORIES:St-Augustin
END:VEVENT
BEGIN:VEVENT
DTSTART;TZID=America/Montreal:20241119T111500
DTEND;TZID=America/Montreal:20241119T120000
DTSTAMP:20260422T142705
CREATED:20240913T211429Z
LAST-MODIFIED:20241105T152326Z
UID:10005007-1732014900-1732017600@www.lemontmartre.ca
SUMMARY:Eucharistie 11H15
DESCRIPTION:
URL:https://www.lemontmartre.ca/event/eucharistie-11h15-8/2024-11-19/
CATEGORIES:St-Augustin
END:VEVENT
END:VCALENDAR