BEGIN:VCALENDAR
VERSION:2.0
PRODID:-//Le Montmartre - ECPv6.15.13//NONSGML v1.0//EN
CALSCALE:GREGORIAN
METHOD:PUBLISH
X-ORIGINAL-URL:https://www.lemontmartre.ca
X-WR-CALDESC:Évènements pour Le Montmartre
REFRESH-INTERVAL;VALUE=DURATION:PT1H
X-Robots-Tag:noindex
X-PUBLISHED-TTL:PT1H
BEGIN:VTIMEZONE
TZID:America/Montreal
BEGIN:DAYLIGHT
TZOFFSETFROM:-0500
TZOFFSETTO:-0400
TZNAME:EDT
DTSTART:20230312T070000
END:DAYLIGHT
BEGIN:STANDARD
TZOFFSETFROM:-0400
TZOFFSETTO:-0500
TZNAME:EST
DTSTART:20231105T060000
END:STANDARD
BEGIN:DAYLIGHT
TZOFFSETFROM:-0500
TZOFFSETTO:-0400
TZNAME:EDT
DTSTART:20240310T070000
END:DAYLIGHT
BEGIN:STANDARD
TZOFFSETFROM:-0400
TZOFFSETTO:-0500
TZNAME:EST
DTSTART:20241103T060000
END:STANDARD
BEGIN:DAYLIGHT
TZOFFSETFROM:-0500
TZOFFSETTO:-0400
TZNAME:EDT
DTSTART:20250309T070000
END:DAYLIGHT
BEGIN:STANDARD
TZOFFSETFROM:-0400
TZOFFSETTO:-0500
TZNAME:EST
DTSTART:20251102T060000
END:STANDARD
END:VTIMEZONE
BEGIN:VEVENT
DTSTART;TZID=America/Montreal:20240901T080000
DTEND;TZID=America/Montreal:20240901T120000
DTSTAMP:20260422T234714
CREATED:20240423T155327Z
LAST-MODIFIED:20240423T155327Z
UID:10001422-1725177600-1725192000@www.lemontmartre.ca
SUMMARY:Messe 10H30
DESCRIPTION:<p style= »text-align: justify; »><span style= »color: #030303; »>10H30 Arrivée 12H00 Fin </span></p>
URL:https://www.lemontmartre.ca/event/messe-10h30/2024-09-01/
CATEGORIES:St-Augustin
END:VEVENT
BEGIN:VEVENT
DTSTART;TZID=America/Montreal:20240902T110000
DTEND;TZID=America/Montreal:20240902T120000
DTSTAMP:20260422T234714
CREATED:20240815T192654Z
LAST-MODIFIED:20241105T151826Z
UID:10004367-1725274800-1725278400@www.lemontmartre.ca
SUMMARY:Eucharistie 11H15
DESCRIPTION:
URL:https://www.lemontmartre.ca/event/eucharistie-11h15/2024-09-02/
CATEGORIES:St-Augustin
END:VEVENT
BEGIN:VEVENT
DTSTART;TZID=America/Montreal:20240903T110000
DTEND;TZID=America/Montreal:20240903T120000
DTSTAMP:20260422T234714
CREATED:20240815T192822Z
LAST-MODIFIED:20240815T192822Z
UID:10004371-1725361200-1725364800@www.lemontmartre.ca
SUMMARY:Eucharistie 11H15
DESCRIPTION:
URL:https://www.lemontmartre.ca/event/eucharistie-11h15-2/2024-09-03/
CATEGORIES:St-Augustin
END:VEVENT
BEGIN:VEVENT
DTSTART;TZID=America/Montreal:20240904T110000
DTEND;TZID=America/Montreal:20240904T120000
DTSTAMP:20260422T234714
CREATED:20240815T193020Z
LAST-MODIFIED:20240815T193334Z
UID:10004375-1725447600-1725451200@www.lemontmartre.ca
SUMMARY:Eucharistie 11H15
DESCRIPTION:
URL:https://www.lemontmartre.ca/event/eucharistie-11h15-3/2024-09-04/
CATEGORIES:St-Augustin
END:VEVENT
BEGIN:VEVENT
DTSTART;TZID=America/Montreal:20240905T110000
DTEND;TZID=America/Montreal:20240905T120000
DTSTAMP:20260422T234714
CREATED:20240815T193507Z
LAST-MODIFIED:20240815T193507Z
UID:10004379-1725534000-1725537600@www.lemontmartre.ca
SUMMARY:Eucharistie 11H15
DESCRIPTION:
URL:https://www.lemontmartre.ca/event/eucharistie-11h15-4/2024-09-05/
CATEGORIES:St-Augustin
END:VEVENT
BEGIN:VEVENT
DTSTART;TZID=America/Montreal:20240906T090000
DTEND;TZID=America/Montreal:20240906T120000
DTSTAMP:20260422T234714
CREATED:20240815T205806Z
LAST-MODIFIED:20240815T205806Z
UID:10004435-1725613200-1725624000@www.lemontmartre.ca
SUMMARY:Eucharistie 9H
DESCRIPTION:
URL:https://www.lemontmartre.ca/event/eucharistie-9h/
CATEGORIES:St-Augustin
END:VEVENT
BEGIN:VEVENT
DTSTART;TZID=America/Montreal:20240906T190000
DTEND;TZID=America/Montreal:20240906T213000
DTSTAMP:20260422T234714
CREATED:20240815T205909Z
LAST-MODIFIED:20240815T205909Z
UID:10004436-1725649200-1725658200@www.lemontmartre.ca
SUMMARY:Eucharistie 19H
DESCRIPTION:
URL:https://www.lemontmartre.ca/event/eucharistie-19h/
CATEGORIES:St-Augustin
END:VEVENT
BEGIN:VEVENT
DTSTART;TZID=America/Montreal:20240907T110000
DTEND;TZID=America/Montreal:20240907T120000
DTSTAMP:20260422T234714
CREATED:20240815T210112Z
LAST-MODIFIED:20240815T210112Z
UID:10004440-1725706800-1725710400@www.lemontmartre.ca
SUMMARY:Eucharistie 11H15
DESCRIPTION:
URL:https://www.lemontmartre.ca/event/eucharistie-11h15-7/2024-09-07/
CATEGORIES:St-Augustin
END:VEVENT
BEGIN:VEVENT
DTSTART;TZID=America/Montreal:20240908T080000
DTEND;TZID=America/Montreal:20240908T120000
DTSTAMP:20260422T234714
CREATED:20240423T155327Z
LAST-MODIFIED:20240423T155327Z
UID:10001423-1725782400-1725796800@www.lemontmartre.ca
SUMMARY:Messe 10H30
DESCRIPTION:<p style= »text-align: justify; »><span style= »color: #030303; »>10H30 Arrivée 12H00 Fin </span></p>
URL:https://www.lemontmartre.ca/event/messe-10h30/2024-09-08/
CATEGORIES:St-Augustin
END:VEVENT
BEGIN:VEVENT
DTSTART;TZID=America/Montreal:20240909T110000
DTEND;TZID=America/Montreal:20240909T120000
DTSTAMP:20260422T234714
CREATED:20240815T192654Z
LAST-MODIFIED:20241105T151826Z
UID:10004368-1725879600-1725883200@www.lemontmartre.ca
SUMMARY:Eucharistie 11H15
DESCRIPTION:
URL:https://www.lemontmartre.ca/event/eucharistie-11h15/2024-09-09/
CATEGORIES:St-Augustin
END:VEVENT
BEGIN:VEVENT
DTSTART;TZID=America/Montreal:20240910T110000
DTEND;TZID=America/Montreal:20240910T120000
DTSTAMP:20260422T234714
CREATED:20240815T192822Z
LAST-MODIFIED:20240815T192822Z
UID:10004372-1725966000-1725969600@www.lemontmartre.ca
SUMMARY:Eucharistie 11H15
DESCRIPTION:
URL:https://www.lemontmartre.ca/event/eucharistie-11h15-2/2024-09-10/
CATEGORIES:St-Augustin
END:VEVENT
BEGIN:VEVENT
DTSTART;TZID=America/Montreal:20240911T110000
DTEND;TZID=America/Montreal:20240911T120000
DTSTAMP:20260422T234714
CREATED:20240815T193020Z
LAST-MODIFIED:20240815T193334Z
UID:10004376-1726052400-1726056000@www.lemontmartre.ca
SUMMARY:Eucharistie 11H15
DESCRIPTION:
URL:https://www.lemontmartre.ca/event/eucharistie-11h15-3/2024-09-11/
CATEGORIES:St-Augustin
END:VEVENT
BEGIN:VEVENT
DTSTART;TZID=America/Montreal:20240912T110000
DTEND;TZID=America/Montreal:20240912T120000
DTSTAMP:20260422T234714
CREATED:20240815T193507Z
LAST-MODIFIED:20240815T193507Z
UID:10004380-1726138800-1726142400@www.lemontmartre.ca
SUMMARY:Eucharistie 11H15
DESCRIPTION:
URL:https://www.lemontmartre.ca/event/eucharistie-11h15-4/2024-09-12/
CATEGORIES:St-Augustin
END:VEVENT
BEGIN:VEVENT
DTSTART;TZID=America/Montreal:20240913T110000
DTEND;TZID=America/Montreal:20240913T120000
DTSTAMP:20260422T234714
CREATED:20240815T210000Z
LAST-MODIFIED:20240815T210000Z
UID:10004437-1726225200-1726228800@www.lemontmartre.ca
SUMMARY:Eucharistie 11H15
DESCRIPTION:
URL:https://www.lemontmartre.ca/event/eucharistie-11h15-6/
CATEGORIES:St-Augustin
END:VEVENT
BEGIN:VEVENT
DTSTART;TZID=America/Montreal:20240914T110000
DTEND;TZID=America/Montreal:20240914T120000
DTSTAMP:20260422T234714
CREATED:20240815T210112Z
LAST-MODIFIED:20240815T210112Z
UID:10004441-1726311600-1726315200@www.lemontmartre.ca
SUMMARY:Eucharistie 11H15
DESCRIPTION:
URL:https://www.lemontmartre.ca/event/eucharistie-11h15-7/2024-09-14/
CATEGORIES:St-Augustin
END:VEVENT
BEGIN:VEVENT
DTSTART;TZID=America/Montreal:20240914T120000
DTEND;TZID=America/Montreal:20240914T150000
DTSTAMP:20260422T234714
CREATED:20240909T214714Z
LAST-MODIFIED:20240909T214714Z
UID:10004518-1726315200-1726326000@www.lemontmartre.ca
SUMMARY:Famille Pâquerette Desbiens 13H
DESCRIPTION:
URL:https://www.lemontmartre.ca/event/famille-paquerette-desbiens-13h/
CATEGORIES:St-Augustin
END:VEVENT
BEGIN:VEVENT
DTSTART;TZID=America/Montreal:20240915T080000
DTEND;TZID=America/Montreal:20240915T120000
DTSTAMP:20260422T234714
CREATED:20240423T155327Z
LAST-MODIFIED:20240423T155327Z
UID:10001424-1726387200-1726401600@www.lemontmartre.ca
SUMMARY:Messe 10H30
DESCRIPTION:<p style= »text-align: justify; »><span style= »color: #030303; »>10H30 Arrivée 12H00 Fin </span></p>
URL:https://www.lemontmartre.ca/event/messe-10h30/2024-09-15/
CATEGORIES:St-Augustin
END:VEVENT
BEGIN:VEVENT
DTSTART;TZID=America/Montreal:20240916T080000
DTEND;TZID=America/Montreal:20240916T170000
DTSTAMP:20260422T234714
CREATED:20240913T211429Z
LAST-MODIFIED:20241105T152326Z
UID:10005418-1726473600-1726506000@www.lemontmartre.ca
SUMMARY:Eucharistie 11H15
DESCRIPTION:
URL:https://www.lemontmartre.ca/event/eucharistie-11h15-8/2024-09-16/1/
CATEGORIES:St-Augustin
END:VEVENT
BEGIN:VEVENT
DTSTART;TZID=America/Montreal:20240916T111500
DTEND;TZID=America/Montreal:20240916T120000
DTSTAMP:20260422T234714
CREATED:20240913T211429Z
LAST-MODIFIED:20241105T152326Z
UID:10004948-1726485300-1726488000@www.lemontmartre.ca
SUMMARY:Eucharistie 11H15
DESCRIPTION:
URL:https://www.lemontmartre.ca/event/eucharistie-11h15-8/2024-09-16/2/
CATEGORIES:St-Augustin
END:VEVENT
BEGIN:VEVENT
DTSTART;TZID=America/Montreal:20240917T111500
DTEND;TZID=America/Montreal:20240917T120000
DTSTAMP:20260422T234714
CREATED:20240913T211429Z
LAST-MODIFIED:20241105T152326Z
UID:10004949-1726571700-1726574400@www.lemontmartre.ca
SUMMARY:Eucharistie 11H15
DESCRIPTION:
URL:https://www.lemontmartre.ca/event/eucharistie-11h15-8/2024-09-17/
CATEGORIES:St-Augustin
END:VEVENT
BEGIN:VEVENT
DTSTART;TZID=America/Montreal:20240918T111500
DTEND;TZID=America/Montreal:20240918T120000
DTSTAMP:20260422T234714
CREATED:20240913T211429Z
LAST-MODIFIED:20241105T152326Z
UID:10004950-1726658100-1726660800@www.lemontmartre.ca
SUMMARY:Eucharistie 11H15
DESCRIPTION:
URL:https://www.lemontmartre.ca/event/eucharistie-11h15-8/2024-09-18/
CATEGORIES:St-Augustin
END:VEVENT
BEGIN:VEVENT
DTSTART;TZID=America/Montreal:20240919T111500
DTEND;TZID=America/Montreal:20240919T120000
DTSTAMP:20260422T234714
CREATED:20240913T211429Z
LAST-MODIFIED:20241105T152326Z
UID:10004951-1726744500-1726747200@www.lemontmartre.ca
SUMMARY:Eucharistie 11H15
DESCRIPTION:
URL:https://www.lemontmartre.ca/event/eucharistie-11h15-8/2024-09-19/
CATEGORIES:St-Augustin
END:VEVENT
BEGIN:VEVENT
DTSTART;TZID=America/Montreal:20240920T111500
DTEND;TZID=America/Montreal:20240920T120000
DTSTAMP:20260422T234714
CREATED:20240913T211429Z
LAST-MODIFIED:20241105T152326Z
UID:10004952-1726830900-1726833600@www.lemontmartre.ca
SUMMARY:Eucharistie 11H15
DESCRIPTION:
URL:https://www.lemontmartre.ca/event/eucharistie-11h15-8/2024-09-20/
CATEGORIES:St-Augustin
END:VEVENT
BEGIN:VEVENT
DTSTART;TZID=America/Montreal:20240921T111500
DTEND;TZID=America/Montreal:20240921T120000
DTSTAMP:20260422T234714
CREATED:20240913T211429Z
LAST-MODIFIED:20241105T152326Z
UID:10004953-1726917300-1726920000@www.lemontmartre.ca
SUMMARY:Eucharistie 11H15
DESCRIPTION:
URL:https://www.lemontmartre.ca/event/eucharistie-11h15-8/2024-09-21/
CATEGORIES:St-Augustin
END:VEVENT
BEGIN:VEVENT
DTSTART;TZID=America/Montreal:20240921T120000
DTEND;TZID=America/Montreal:20240921T160000
DTSTAMP:20260422T234714
CREATED:20240913T210328Z
LAST-MODIFIED:20240913T210328Z
UID:10004941-1726920000-1726934400@www.lemontmartre.ca
SUMMARY:Petites Âmes 13H30
DESCRIPTION:
URL:https://www.lemontmartre.ca/event/petites-ames-13h30-3/
CATEGORIES:St-Augustin
END:VEVENT
BEGIN:VEVENT
DTSTART;TZID=America/Montreal:20240922T080000
DTEND;TZID=America/Montreal:20240922T120000
DTSTAMP:20260422T234714
CREATED:20240423T155327Z
LAST-MODIFIED:20240423T155327Z
UID:10001425-1726992000-1727006400@www.lemontmartre.ca
SUMMARY:Messe 10H30
DESCRIPTION:<p style= »text-align: justify; »><span style= »color: #030303; »>10H30 Arrivée 12H00 Fin </span></p>
URL:https://www.lemontmartre.ca/event/messe-10h30/2024-09-22/
CATEGORIES:St-Augustin
END:VEVENT
BEGIN:VEVENT
DTSTART;TZID=America/Montreal:20240923T111500
DTEND;TZID=America/Montreal:20240923T120000
DTSTAMP:20260422T234714
CREATED:20240913T211429Z
LAST-MODIFIED:20241105T152326Z
UID:10004954-1727090100-1727092800@www.lemontmartre.ca
SUMMARY:Eucharistie 11H15
DESCRIPTION:
URL:https://www.lemontmartre.ca/event/eucharistie-11h15-8/2024-09-23/
CATEGORIES:St-Augustin
END:VEVENT
BEGIN:VEVENT
DTSTART;TZID=America/Montreal:20240924T111500
DTEND;TZID=America/Montreal:20240924T120000
DTSTAMP:20260422T234714
CREATED:20240913T211429Z
LAST-MODIFIED:20241105T152326Z
UID:10004955-1727176500-1727179200@www.lemontmartre.ca
SUMMARY:Eucharistie 11H15
DESCRIPTION:
URL:https://www.lemontmartre.ca/event/eucharistie-11h15-8/2024-09-24/
CATEGORIES:St-Augustin
END:VEVENT
BEGIN:VEVENT
DTSTART;TZID=America/Montreal:20240925T111500
DTEND;TZID=America/Montreal:20240925T120000
DTSTAMP:20260422T234714
CREATED:20240913T211429Z
LAST-MODIFIED:20241105T152326Z
UID:10004956-1727262900-1727265600@www.lemontmartre.ca
SUMMARY:Eucharistie 11H15
DESCRIPTION:
URL:https://www.lemontmartre.ca/event/eucharistie-11h15-8/2024-09-25/
CATEGORIES:St-Augustin
END:VEVENT
BEGIN:VEVENT
DTSTART;TZID=America/Montreal:20240926T111500
DTEND;TZID=America/Montreal:20240926T120000
DTSTAMP:20260422T234714
CREATED:20240913T211429Z
LAST-MODIFIED:20241105T152326Z
UID:10004957-1727349300-1727352000@www.lemontmartre.ca
SUMMARY:Eucharistie 11H15
DESCRIPTION:
URL:https://www.lemontmartre.ca/event/eucharistie-11h15-8/2024-09-26/
CATEGORIES:St-Augustin
END:VEVENT
END:VCALENDAR