BEGIN:VCALENDAR
VERSION:2.0
PRODID:-//Le Montmartre - ECPv6.15.13//NONSGML v1.0//EN
CALSCALE:GREGORIAN
METHOD:PUBLISH
X-ORIGINAL-URL:https://www.lemontmartre.ca
X-WR-CALDESC:Évènements pour Le Montmartre
REFRESH-INTERVAL;VALUE=DURATION:PT1H
X-Robots-Tag:noindex
X-PUBLISHED-TTL:PT1H
BEGIN:VTIMEZONE
TZID:America/Montreal
BEGIN:DAYLIGHT
TZOFFSETFROM:-0500
TZOFFSETTO:-0400
TZNAME:EDT
DTSTART:20230312T070000
END:DAYLIGHT
BEGIN:STANDARD
TZOFFSETFROM:-0400
TZOFFSETTO:-0500
TZNAME:EST
DTSTART:20231105T060000
END:STANDARD
BEGIN:DAYLIGHT
TZOFFSETFROM:-0500
TZOFFSETTO:-0400
TZNAME:EDT
DTSTART:20240310T070000
END:DAYLIGHT
BEGIN:STANDARD
TZOFFSETFROM:-0400
TZOFFSETTO:-0500
TZNAME:EST
DTSTART:20241103T060000
END:STANDARD
BEGIN:DAYLIGHT
TZOFFSETFROM:-0500
TZOFFSETTO:-0400
TZNAME:EDT
DTSTART:20250309T070000
END:DAYLIGHT
BEGIN:STANDARD
TZOFFSETFROM:-0400
TZOFFSETTO:-0500
TZNAME:EST
DTSTART:20251102T060000
END:STANDARD
END:VTIMEZONE
BEGIN:VEVENT
DTSTART;TZID=America/Montreal:20240707T080000
DTEND;TZID=America/Montreal:20240707T120000
DTSTAMP:20260423T040127
CREATED:20240423T155327Z
LAST-MODIFIED:20240423T155327Z
UID:10001414-1720339200-1720353600@www.lemontmartre.ca
SUMMARY:Messe 10H30
DESCRIPTION:<p style= »text-align: justify; »><span style= »color: #030303; »>10H30 Arrivée 12H00 Fin </span></p>
URL:https://www.lemontmartre.ca/event/messe-10h30/2024-07-07/
CATEGORIES:St-Augustin
END:VEVENT
BEGIN:VEVENT
DTSTART;TZID=America/Montreal:20240707T120000
DTEND;TZID=America/Montreal:20240707T170000
DTSTAMP:20260423T040127
CREATED:20240612T231317Z
LAST-MODIFIED:20240612T231317Z
UID:10003584-1720353600-1720371600@www.lemontmartre.ca
SUMMARY:Fête interculturelle 14H
DESCRIPTION:
URL:https://www.lemontmartre.ca/event/fete-interculturelle-14h/
CATEGORIES:St-Augustin
END:VEVENT
BEGIN:VEVENT
DTSTART;TZID=America/Montreal:20240714T080000
DTEND;TZID=America/Montreal:20240714T120000
DTSTAMP:20260423T040127
CREATED:20240423T155327Z
LAST-MODIFIED:20240423T155327Z
UID:10001415-1720944000-1720958400@www.lemontmartre.ca
SUMMARY:Messe 10H30
DESCRIPTION:<p style= »text-align: justify; »><span style= »color: #030303; »>10H30 Arrivée 12H00 Fin </span></p>
URL:https://www.lemontmartre.ca/event/messe-10h30/2024-07-14/
CATEGORIES:St-Augustin
END:VEVENT
BEGIN:VEVENT
DTSTART;TZID=America/Montreal:20240715T183000
DTEND;TZID=America/Montreal:20240715T220000
DTSTAMP:20260423T040127
CREATED:20240626T143741Z
LAST-MODIFIED:20240626T143741Z
UID:10003591-1721068200-1721080800@www.lemontmartre.ca
SUMMARY:Domaine Benmore sur le parc 19H
DESCRIPTION:
URL:https://www.lemontmartre.ca/event/domaine-benmore-sur-le-parc-19h/
CATEGORIES:St-Augustin
END:VEVENT
BEGIN:VEVENT
DTSTART;TZID=America/Montreal:20240717T120000
DTEND;TZID=America/Montreal:20240717T230000
DTSTAMP:20260423T040127
CREATED:20240612T232351Z
LAST-MODIFIED:20240628T163830Z
UID:10003589-1721217600-1721257200@www.lemontmartre.ca
SUMMARY:Alliance des Ukrainiens de Québec 18H
DESCRIPTION:
URL:https://www.lemontmartre.ca/event/alliance-des-ukrainiens-de-quebec-19h/
CATEGORIES:St-Augustin
END:VEVENT
BEGIN:VEVENT
DTSTART;TZID=America/Montreal:20240721T080000
DTEND;TZID=America/Montreal:20240721T120000
DTSTAMP:20260423T040127
CREATED:20240423T155327Z
LAST-MODIFIED:20240423T155327Z
UID:10001416-1721548800-1721563200@www.lemontmartre.ca
SUMMARY:Messe 10H30
DESCRIPTION:<p style= »text-align: justify; »><span style= »color: #030303; »>10H30 Arrivée 12H00 Fin </span></p>
URL:https://www.lemontmartre.ca/event/messe-10h30/2024-07-21/
CATEGORIES:St-Augustin
END:VEVENT
BEGIN:VEVENT
DTSTART;TZID=America/Montreal:20240728T080000
DTEND;TZID=America/Montreal:20240728T120000
DTSTAMP:20260423T040127
CREATED:20240423T155327Z
LAST-MODIFIED:20240423T155327Z
UID:10001417-1722153600-1722168000@www.lemontmartre.ca
SUMMARY:Messe 10H30
DESCRIPTION:<p style= »text-align: justify; »><span style= »color: #030303; »>10H30 Arrivée 12H00 Fin </span></p>
URL:https://www.lemontmartre.ca/event/messe-10h30/2024-07-28/
CATEGORIES:St-Augustin
END:VEVENT
END:VCALENDAR