BEGIN:VCALENDAR
VERSION:2.0
PRODID:-//Le Montmartre - ECPv6.15.13//NONSGML v1.0//EN
CALSCALE:GREGORIAN
METHOD:PUBLISH
X-ORIGINAL-URL:https://www.lemontmartre.ca
X-WR-CALDESC:Évènements pour Le Montmartre
REFRESH-INTERVAL;VALUE=DURATION:PT1H
X-Robots-Tag:noindex
X-PUBLISHED-TTL:PT1H
BEGIN:VTIMEZONE
TZID:America/Montreal
BEGIN:DAYLIGHT
TZOFFSETFROM:-0500
TZOFFSETTO:-0400
TZNAME:EDT
DTSTART:20230312T070000
END:DAYLIGHT
BEGIN:STANDARD
TZOFFSETFROM:-0400
TZOFFSETTO:-0500
TZNAME:EST
DTSTART:20231105T060000
END:STANDARD
BEGIN:DAYLIGHT
TZOFFSETFROM:-0500
TZOFFSETTO:-0400
TZNAME:EDT
DTSTART:20240310T070000
END:DAYLIGHT
BEGIN:STANDARD
TZOFFSETFROM:-0400
TZOFFSETTO:-0500
TZNAME:EST
DTSTART:20241103T060000
END:STANDARD
BEGIN:DAYLIGHT
TZOFFSETFROM:-0500
TZOFFSETTO:-0400
TZNAME:EDT
DTSTART:20250309T070000
END:DAYLIGHT
BEGIN:STANDARD
TZOFFSETFROM:-0400
TZOFFSETTO:-0500
TZNAME:EST
DTSTART:20251102T060000
END:STANDARD
END:VTIMEZONE
BEGIN:VEVENT
DTSTART;TZID=America/Montreal:20240505T080000
DTEND;TZID=America/Montreal:20240505T120000
DTSTAMP:20260423T082807
CREATED:20240423T155327Z
LAST-MODIFIED:20240423T155327Z
UID:10001405-1714896000-1714910400@www.lemontmartre.ca
SUMMARY:Messe 10H30
DESCRIPTION:<p style= »text-align: justify; »><span style= »color: #030303; »>10H30 Arrivée 12H00 Fin </span></p>
URL:https://www.lemontmartre.ca/event/messe-10h30/2024-05-05/
CATEGORIES:St-Augustin
END:VEVENT
BEGIN:VEVENT
DTSTART;TZID=America/Montreal:20240512T080000
DTEND;TZID=America/Montreal:20240512T120000
DTSTAMP:20260423T082807
CREATED:20240423T155327Z
LAST-MODIFIED:20240423T155327Z
UID:10001406-1715500800-1715515200@www.lemontmartre.ca
SUMMARY:Messe 10H30
DESCRIPTION:<p style= »text-align: justify; »><span style= »color: #030303; »>10H30 Arrivée 12H00 Fin </span></p>
URL:https://www.lemontmartre.ca/event/messe-10h30/2024-05-12/
CATEGORIES:St-Augustin
END:VEVENT
BEGIN:VEVENT
DTSTART;TZID=America/Montreal:20240519T080000
DTEND;TZID=America/Montreal:20240519T120000
DTSTAMP:20260423T082807
CREATED:20240423T155327Z
LAST-MODIFIED:20240423T155327Z
UID:10001407-1716105600-1716120000@www.lemontmartre.ca
SUMMARY:Messe 10H30
DESCRIPTION:<p style= »text-align: justify; »><span style= »color: #030303; »>10H30 Arrivée 12H00 Fin </span></p>
URL:https://www.lemontmartre.ca/event/messe-10h30/2024-05-19/
CATEGORIES:St-Augustin
END:VEVENT
BEGIN:VEVENT
DTSTART;TZID=America/Montreal:20240522T170000
DTEND;TZID=America/Montreal:20240522T220000
DTSTAMP:20260423T082807
CREATED:20240521T232518Z
LAST-MODIFIED:20240521T232518Z
UID:10002775-1716397200-1716415200@www.lemontmartre.ca
SUMMARY:Condo Domaine de Sillery 18H
DESCRIPTION:
URL:https://www.lemontmartre.ca/event/condo-domaine-de-sillery-18h/
CATEGORIES:St-Augustin
END:VEVENT
BEGIN:VEVENT
DTSTART;TZID=America/Montreal:20240525T110000
DTEND;TZID=America/Montreal:20240525T120000
DTSTAMP:20260423T082807
CREATED:20240521T234233Z
LAST-MODIFIED:20240521T234233Z
UID:10002781-1716634800-1716638400@www.lemontmartre.ca
SUMMARY:Messe 50ième ordination Gilles Blouin 11H
DESCRIPTION:
URL:https://www.lemontmartre.ca/event/messe-50ieme-ordination-gilles-blouin-11h/
CATEGORIES:St-Augustin
END:VEVENT
BEGIN:VEVENT
DTSTART;TZID=America/Montreal:20240526T080000
DTEND;TZID=America/Montreal:20240526T120000
DTSTAMP:20260423T082807
CREATED:20240423T155327Z
LAST-MODIFIED:20240423T155327Z
UID:10001408-1716710400-1716724800@www.lemontmartre.ca
SUMMARY:Messe 10H30
DESCRIPTION:<p style= »text-align: justify; »><span style= »color: #030303; »>10H30 Arrivée 12H00 Fin </span></p>
URL:https://www.lemontmartre.ca/event/messe-10h30/2024-05-26/
CATEGORIES:St-Augustin
END:VEVENT
BEGIN:VEVENT
DTSTART;TZID=America/Montreal:20240526T103000
DTEND;TZID=America/Montreal:20240526T120000
DTSTAMP:20260423T082807
CREATED:20240521T234432Z
LAST-MODIFIED:20240521T234432Z
UID:10002782-1716719400-1716724800@www.lemontmartre.ca
SUMMARY:Chevaliers de Colomb 10H30
DESCRIPTION:
URL:https://www.lemontmartre.ca/event/chevaliers-de-colomb-10h30/
CATEGORIES:St-Augustin
END:VEVENT
END:VCALENDAR