BEGIN:VCALENDAR
VERSION:2.0
PRODID:-//Le Montmartre - ECPv6.15.13//NONSGML v1.0//EN
CALSCALE:GREGORIAN
METHOD:PUBLISH
X-WR-CALNAME:Le Montmartre
X-ORIGINAL-URL:https://www.lemontmartre.ca
X-WR-CALDESC:Évènements pour Le Montmartre
REFRESH-INTERVAL;VALUE=DURATION:PT1H
X-Robots-Tag:noindex
X-PUBLISHED-TTL:PT1H
BEGIN:VTIMEZONE
TZID:America/Montreal
BEGIN:DAYLIGHT
TZOFFSETFROM:-0500
TZOFFSETTO:-0400
TZNAME:EDT
DTSTART:20230312T070000
END:DAYLIGHT
BEGIN:STANDARD
TZOFFSETFROM:-0400
TZOFFSETTO:-0500
TZNAME:EST
DTSTART:20231105T060000
END:STANDARD
BEGIN:DAYLIGHT
TZOFFSETFROM:-0500
TZOFFSETTO:-0400
TZNAME:EDT
DTSTART:20240310T070000
END:DAYLIGHT
BEGIN:STANDARD
TZOFFSETFROM:-0400
TZOFFSETTO:-0500
TZNAME:EST
DTSTART:20241103T060000
END:STANDARD
BEGIN:DAYLIGHT
TZOFFSETFROM:-0500
TZOFFSETTO:-0400
TZNAME:EDT
DTSTART:20250309T070000
END:DAYLIGHT
BEGIN:STANDARD
TZOFFSETFROM:-0400
TZOFFSETTO:-0500
TZNAME:EST
DTSTART:20251102T060000
END:STANDARD
END:VTIMEZONE
BEGIN:VEVENT
DTSTART;TZID=America/Montreal:20240407T080000
DTEND;TZID=America/Montreal:20240407T120000
DTSTAMP:20260423T100742
CREATED:20240423T155327Z
LAST-MODIFIED:20240423T155327Z
UID:10001401-1712476800-1712491200@www.lemontmartre.ca
SUMMARY:Messe 10H30
DESCRIPTION:<p style= »text-align: justify; »><span style= »color: #030303; »>10H30 Arrivée 12H00 Fin </span></p>
URL:https://www.lemontmartre.ca/event/messe-10h30/2024-04-07/
CATEGORIES:St-Augustin
END:VEVENT
BEGIN:VEVENT
DTSTART;TZID=America/Montreal:20240414T080000
DTEND;TZID=America/Montreal:20240414T120000
DTSTAMP:20260423T100742
CREATED:20240423T155327Z
LAST-MODIFIED:20240423T155327Z
UID:10001402-1713081600-1713096000@www.lemontmartre.ca
SUMMARY:Messe 10H30
DESCRIPTION:<p style= »text-align: justify; »><span style= »color: #030303; »>10H30 Arrivée 12H00 Fin </span></p>
URL:https://www.lemontmartre.ca/event/messe-10h30/2024-04-14/
CATEGORIES:St-Augustin
END:VEVENT
BEGIN:VEVENT
DTSTART;TZID=America/Montreal:20240414T120000
DTEND;TZID=America/Montreal:20240414T190000
DTSTAMP:20260423T100742
CREATED:20240423T200859Z
LAST-MODIFIED:20240423T200859Z
UID:10002108-1713096000-1713121200@www.lemontmartre.ca
SUMMARY:Mouvement des cursillos 15H30
DESCRIPTION:
URL:https://www.lemontmartre.ca/event/mouvement-des-cursillos-15h30/
CATEGORIES:St-Augustin
END:VEVENT
BEGIN:VEVENT
DTSTART;TZID=America/Montreal:20240420T120000
DTEND;TZID=America/Montreal:20240420T160000
DTSTAMP:20260423T100742
CREATED:20240423T202229Z
LAST-MODIFIED:20240423T202229Z
UID:10002176-1713614400-1713628800@www.lemontmartre.ca
SUMMARY:Petites Âmes 13H30
DESCRIPTION:
URL:https://www.lemontmartre.ca/event/petites-ames-13h30/
CATEGORIES:St-Augustin
END:VEVENT
BEGIN:VEVENT
DTSTART;TZID=America/Montreal:20240421T080000
DTEND;TZID=America/Montreal:20240421T120000
DTSTAMP:20260423T100742
CREATED:20240423T155327Z
LAST-MODIFIED:20240423T155327Z
UID:10001403-1713686400-1713700800@www.lemontmartre.ca
SUMMARY:Messe 10H30
DESCRIPTION:<p style= »text-align: justify; »><span style= »color: #030303; »>10H30 Arrivée 12H00 Fin </span></p>
URL:https://www.lemontmartre.ca/event/messe-10h30/2024-04-21/
CATEGORIES:St-Augustin
END:VEVENT
BEGIN:VEVENT
DTSTART;TZID=America/Montreal:20240428T080000
DTEND;TZID=America/Montreal:20240428T120000
DTSTAMP:20260423T100742
CREATED:20240423T155327Z
LAST-MODIFIED:20240423T155327Z
UID:10001404-1714291200-1714305600@www.lemontmartre.ca
SUMMARY:Messe 10H30
DESCRIPTION:<p style= »text-align: justify; »><span style= »color: #030303; »>10H30 Arrivée 12H00 Fin </span></p>
URL:https://www.lemontmartre.ca/event/messe-10h30/2024-04-28/
CATEGORIES:St-Augustin
END:VEVENT
END:VCALENDAR