BEGIN:VCALENDAR
VERSION:2.0
PRODID:-//Le Montmartre - ECPv6.15.13//NONSGML v1.0//EN
CALSCALE:GREGORIAN
METHOD:PUBLISH
X-ORIGINAL-URL:https://www.lemontmartre.ca
X-WR-CALDESC:Évènements pour Le Montmartre
REFRESH-INTERVAL;VALUE=DURATION:PT1H
X-Robots-Tag:noindex
X-PUBLISHED-TTL:PT1H
BEGIN:VTIMEZONE
TZID:America/Montreal
BEGIN:DAYLIGHT
TZOFFSETFROM:-0500
TZOFFSETTO:-0400
TZNAME:EDT
DTSTART:20230312T070000
END:DAYLIGHT
BEGIN:STANDARD
TZOFFSETFROM:-0400
TZOFFSETTO:-0500
TZNAME:EST
DTSTART:20231105T060000
END:STANDARD
BEGIN:DAYLIGHT
TZOFFSETFROM:-0500
TZOFFSETTO:-0400
TZNAME:EDT
DTSTART:20240310T070000
END:DAYLIGHT
BEGIN:STANDARD
TZOFFSETFROM:-0400
TZOFFSETTO:-0500
TZNAME:EST
DTSTART:20241103T060000
END:STANDARD
BEGIN:DAYLIGHT
TZOFFSETFROM:-0500
TZOFFSETTO:-0400
TZNAME:EDT
DTSTART:20250309T070000
END:DAYLIGHT
BEGIN:STANDARD
TZOFFSETFROM:-0400
TZOFFSETTO:-0500
TZNAME:EST
DTSTART:20251102T060000
END:STANDARD
END:VTIMEZONE
BEGIN:VEVENT
DTSTART;TZID=America/Montreal:20240303T080000
DTEND;TZID=America/Montreal:20240303T120000
DTSTAMP:20260423T113546
CREATED:20240423T155327Z
LAST-MODIFIED:20240423T155327Z
UID:10001396-1709452800-1709467200@www.lemontmartre.ca
SUMMARY:Messe 10H30
DESCRIPTION:<p style= »text-align: justify; »><span style= »color: #030303; »>10H30 Arrivée 12H00 Fin </span></p>
URL:https://www.lemontmartre.ca/event/messe-10h30/2024-03-03/
CATEGORIES:St-Augustin
END:VEVENT
BEGIN:VEVENT
DTSTART;TZID=America/Montreal:20240310T080000
DTEND;TZID=America/Montreal:20240310T120000
DTSTAMP:20260423T113546
CREATED:20240423T155327Z
LAST-MODIFIED:20240423T155327Z
UID:10001397-1710057600-1710072000@www.lemontmartre.ca
SUMMARY:Messe 10H30
DESCRIPTION:<p style= »text-align: justify; »><span style= »color: #030303; »>10H30 Arrivée 12H00 Fin </span></p>
URL:https://www.lemontmartre.ca/event/messe-10h30/2024-03-10/
CATEGORIES:St-Augustin
END:VEVENT
BEGIN:VEVENT
DTSTART;TZID=America/Montreal:20240317T080000
DTEND;TZID=America/Montreal:20240317T120000
DTSTAMP:20260423T113546
CREATED:20240423T155327Z
LAST-MODIFIED:20240423T155327Z
UID:10001398-1710662400-1710676800@www.lemontmartre.ca
SUMMARY:Messe 10H30
DESCRIPTION:<p style= »text-align: justify; »><span style= »color: #030303; »>10H30 Arrivée 12H00 Fin </span></p>
URL:https://www.lemontmartre.ca/event/messe-10h30/2024-03-17/
CATEGORIES:St-Augustin
END:VEVENT
BEGIN:VEVENT
DTSTART;TZID=America/Montreal:20240324T080000
DTEND;TZID=America/Montreal:20240324T120000
DTSTAMP:20260423T113546
CREATED:20240423T155327Z
LAST-MODIFIED:20240423T155327Z
UID:10001399-1711267200-1711281600@www.lemontmartre.ca
SUMMARY:Messe 10H30
DESCRIPTION:<p style= »text-align: justify; »><span style= »color: #030303; »>10H30 Arrivée 12H00 Fin </span></p>
URL:https://www.lemontmartre.ca/event/messe-10h30/2024-03-24/
CATEGORIES:St-Augustin
END:VEVENT
BEGIN:VEVENT
DTSTART;TZID=America/Montreal:20240331T080000
DTEND;TZID=America/Montreal:20240331T120000
DTSTAMP:20260423T113546
CREATED:20240423T155327Z
LAST-MODIFIED:20240423T155327Z
UID:10001400-1711872000-1711886400@www.lemontmartre.ca
SUMMARY:Messe 10H30
DESCRIPTION:<p style= »text-align: justify; »><span style= »color: #030303; »>10H30 Arrivée 12H00 Fin </span></p>
URL:https://www.lemontmartre.ca/event/messe-10h30/2024-03-31/
CATEGORIES:St-Augustin
END:VEVENT
END:VCALENDAR