BEGIN:VCALENDAR
VERSION:2.0
PRODID:-//Le Montmartre - ECPv6.15.13//NONSGML v1.0//EN
CALSCALE:GREGORIAN
METHOD:PUBLISH
X-WR-CALNAME:Le Montmartre
X-ORIGINAL-URL:https://www.lemontmartre.ca
X-WR-CALDESC:Évènements pour Le Montmartre
REFRESH-INTERVAL;VALUE=DURATION:PT1H
X-Robots-Tag:noindex
X-PUBLISHED-TTL:PT1H
BEGIN:VTIMEZONE
TZID:America/Montreal
BEGIN:DAYLIGHT
TZOFFSETFROM:-0500
TZOFFSETTO:-0400
TZNAME:EDT
DTSTART:20250309T070000
END:DAYLIGHT
BEGIN:STANDARD
TZOFFSETFROM:-0400
TZOFFSETTO:-0500
TZNAME:EST
DTSTART:20251102T060000
END:STANDARD
BEGIN:DAYLIGHT
TZOFFSETFROM:-0500
TZOFFSETTO:-0400
TZNAME:EDT
DTSTART:20260308T070000
END:DAYLIGHT
BEGIN:STANDARD
TZOFFSETFROM:-0400
TZOFFSETTO:-0500
TZNAME:EST
DTSTART:20261101T060000
END:STANDARD
BEGIN:DAYLIGHT
TZOFFSETFROM:-0500
TZOFFSETTO:-0400
TZNAME:EDT
DTSTART:20270314T070000
END:DAYLIGHT
BEGIN:STANDARD
TZOFFSETFROM:-0400
TZOFFSETTO:-0500
TZNAME:EST
DTSTART:20271107T060000
END:STANDARD
END:VTIMEZONE
BEGIN:VEVENT
DTSTART;TZID=America/Montreal:20260505T190000
DTEND;TZID=America/Montreal:20260505T210000
DTSTAMP:20260419T124635
CREATED:20260213T172032Z
LAST-MODIFIED:20260213T172032Z
UID:10012357-1778007600-1778014800@www.lemontmartre.ca
SUMMARY:St Augustin - et le Pape Léon 19H
DESCRIPTION:
URL:https://www.lemontmartre.ca/event/st-augustin-et-le-pape-leon-19h-4/
CATEGORIES:Sanctuaire
END:VEVENT
BEGIN:VEVENT
DTSTART;TZID=America/Montreal:20260506T150000
DTEND;TZID=America/Montreal:20260506T163000
DTSTAMP:20260419T124635
CREATED:20260213T202822Z
LAST-MODIFIED:20260213T203132Z
UID:10012373-1778079600-1778085000@www.lemontmartre.ca
SUMMARY:Dieu est à l'oeuvre en cet âge 15H
DESCRIPTION:
URL:https://www.lemontmartre.ca/event/dieu-est-a-loeuvre-en-cet-age-15h-8/
CATEGORIES:Sanctuaire
END:VEVENT
BEGIN:VEVENT
DTSTART;TZID=America/Montreal:20260511T193000
DTEND;TZID=America/Montreal:20260511T210000
DTSTAMP:20260419T124635
CREATED:20260213T202141Z
LAST-MODIFIED:20260213T202141Z
UID:10012365-1778527800-1778533200@www.lemontmartre.ca
SUMMARY:François de Laval 19H30
DESCRIPTION:
URL:https://www.lemontmartre.ca/event/francois-de-laval-19h30-8/
CATEGORIES:Sanctuaire
END:VEVENT
BEGIN:VEVENT
DTSTART;TZID=America/Montreal:20260520T150000
DTEND;TZID=America/Montreal:20260520T163000
DTSTAMP:20260419T124635
CREATED:20260213T202901Z
LAST-MODIFIED:20260213T203044Z
UID:10012374-1779289200-1779294600@www.lemontmartre.ca
SUMMARY:Dieu est à l'oeuvre en cet âge 15H
DESCRIPTION:
URL:https://www.lemontmartre.ca/event/dieu-est-a-loeuvre-en-cet-age-15h-9/
CATEGORIES:Sanctuaire
END:VEVENT
END:VCALENDAR